| Back to Multiple platform build/check report for BioC 3.8 | 
 | 
This page was generated on 2019-04-16 11:57:52 -0400 (Tue, 16 Apr 2019).
| Package 312/1649 | Hostname | OS / Arch | INSTALL | BUILD | CHECK | BUILD BIN | ||||||
| compEpiTools 1.16.0 Kamal Kishore 
 | malbec1 | Linux (Ubuntu 16.04.6 LTS) / x86_64 | OK | OK | OK |  | ||||||
| merida1 | OS X 10.11.6 El Capitan / x86_64 | [ OK ] | OK | OK | OK |  | 
| Package: compEpiTools | 
| Version: 1.16.0 | 
| Command: /Library/Frameworks/R.framework/Versions/Current/Resources/bin/R CMD INSTALL compEpiTools | 
| StartedAt: 2019-04-15 18:46:08 -0400 (Mon, 15 Apr 2019) | 
| EndedAt: 2019-04-15 18:46:57 -0400 (Mon, 15 Apr 2019) | 
| EllapsedTime: 49.8 seconds | 
| RetCode: 0 | 
| Status: OK | 
############################################################################## ############################################################################## ### ### Running command: ### ### /Library/Frameworks/R.framework/Versions/Current/Resources/bin/R CMD INSTALL compEpiTools ### ############################################################################## ############################################################################## * installing to library ‘/Library/Frameworks/R.framework/Versions/3.5/Resources/library’ * installing *source* package ‘compEpiTools’ ... ** R ** inst ** byte-compile and prepare package for lazy loading groupGOTerms: GOBPTerm, GOMFTerm, GOCCTerm environments built. ** help *** installing help indices ** building package indices ** installing vignettes ** testing if installed package can be loaded groupGOTerms: GOBPTerm, GOMFTerm, GOCCTerm environments built. * DONE (compEpiTools)