| Back to Multiple platform build/check report for BioC 3.8 | 
 | 
This page was generated on 2019-04-16 11:50:45 -0400 (Tue, 16 Apr 2019).
| Package 312/1649 | Hostname | OS / Arch | INSTALL | BUILD | CHECK | BUILD BIN | ||||||
| compEpiTools 1.16.0 Kamal Kishore 
 | malbec1 | Linux (Ubuntu 16.04.6 LTS) / x86_64 | OK | OK | [ OK ] |  | ||||||
| merida1 | OS X 10.11.6 El Capitan / x86_64 | OK | OK | OK | OK |  | 
| Package: compEpiTools | 
| Version: 1.16.0 | 
| Command: /home/biocbuild/bbs-3.8-bioc/R/bin/R CMD check --install=check:compEpiTools.install-out.txt --library=/home/biocbuild/bbs-3.8-bioc/R/library --no-vignettes --timings compEpiTools_1.16.0.tar.gz | 
| StartedAt: 2019-04-15 23:06:19 -0400 (Mon, 15 Apr 2019) | 
| EndedAt: 2019-04-15 23:13:21 -0400 (Mon, 15 Apr 2019) | 
| EllapsedTime: 421.8 seconds | 
| RetCode: 0 | 
| Status: OK | 
| CheckDir: compEpiTools.Rcheck | 
| Warnings: 0 | 
##############################################################################
##############################################################################
###
### Running command:
###
###   /home/biocbuild/bbs-3.8-bioc/R/bin/R CMD check --install=check:compEpiTools.install-out.txt --library=/home/biocbuild/bbs-3.8-bioc/R/library --no-vignettes --timings compEpiTools_1.16.0.tar.gz
###
##############################################################################
##############################################################################
* using log directory ‘/home/biocbuild/bbs-3.8-bioc/meat/compEpiTools.Rcheck’
* using R version 3.5.3 (2019-03-11)
* using platform: x86_64-pc-linux-gnu (64-bit)
* using session charset: UTF-8
* using option ‘--no-vignettes’
* checking for file ‘compEpiTools/DESCRIPTION’ ... OK
* checking extension type ... Package
* this is package ‘compEpiTools’ version ‘1.16.0’
* checking package namespace information ... OK
* checking package dependencies ... OK
* checking if this is a source package ... OK
* checking if there is a namespace ... OK
* checking for hidden files and directories ... OK
* checking for portable file names ... OK
* checking for sufficient/correct file permissions ... OK
* checking whether package ‘compEpiTools’ can be installed ... OK
* checking installed package size ... OK
* checking package directory ... OK
* checking ‘build’ directory ... OK
* checking DESCRIPTION meta-information ... OK
* checking top-level files ... OK
* checking for left-over files ... OK
* checking index information ... OK
* checking package subdirectories ... OK
* checking R files for non-ASCII characters ... OK
* checking R files for syntax errors ... OK
* checking whether the package can be loaded ... OK
* checking whether the package can be loaded with stated dependencies ... OK
* checking whether the package can be unloaded cleanly ... OK
* checking whether the namespace can be loaded with stated dependencies ... OK
* checking whether the namespace can be unloaded cleanly ... OK
* checking dependencies in R code ... OK
* checking S3 generic/method consistency ... OK
* checking replacement functions ... OK
* checking foreign function calls ... OK
* checking R code for possible problems ... NOTE
TSS: no visible global function definition for 'end<-'
TSS: no visible global function definition for 'start<-'
findLncRNA: no visible global function definition for 'start<-'
findLncRNA: no visible global function definition for 'end<-'
findLncRNA: no visible global function definition for 'IRanges'
stallingIndex : getBound: no visible global function definition for
  'start<-'
stallingIndex : getBound: no visible global function definition for
  'end<-'
stallingIndex: no visible global function definition for 'IRanges'
topGOres : <anonymous>: no visible global function definition for
  'ggplot'
topGOres : <anonymous>: no visible global function definition for 'aes'
topGOres : <anonymous>: no visible binding for global variable
  'Significant'
topGOres : <anonymous>: no visible binding for global variable 'P_val'
topGOres : <anonymous>: no visible global function definition for
  'geom_bar'
topGOres : <anonymous>: no visible global function definition for
  'coord_flip'
topGOres : <anonymous>: no visible global function definition for
  'ylab'
ucsc2GRanges: no visible global function definition for 'IRanges'
GR2fasta,GRanges: no visible global function definition for
  'seqlengths'
GR2fasta,GRanges: no visible global function definition for
  'seqlengths<-'
GR2fasta,GRanges: no visible global function definition for 'trim'
GRangesInPromoters,GRanges: no visible global function definition for
  'start<-'
GRannotate,GRanges: no visible global function definition for 'start<-'
GRannotate,GRanges: no visible global function definition for 'end<-'
GRcoverageSummit,GRanges: no visible global function definition for
  'start<-'
GRcoverageSummit,GRanges: no visible global function definition for
  'end<-'
GRmidpoint,GRanges: no visible global function definition for 'start<-'
GRmidpoint,GRanges: no visible global function definition for 'end<-'
GRsetwidth,GRanges: no visible global function definition for 'start<-'
GRsetwidth,GRanges: no visible global function definition for 'end<-'
countOverlapsInBins,GRanges: no visible global function definition for
  'IRanges'
featuresLength,TxDb: no visible global function definition for 'reduce'
getPromoterClass,TxDb: no visible binding for global variable 'txdb'
getPromoterClass,TxDb: no visible global function definition for
  'start<-'
getPromoterClass,TxDb: no visible global function definition for
  'stopCluster'
makeGtfFromDb,TxDb: no visible global function definition for 'reduce'
matchEnhancers,GRanges: no visible global function definition for
  'distanceToNearest'
matchEnhancers,GRanges: no visible global function definition for
  'IRanges'
Undefined global functions or variables:
  IRanges P_val Significant aes coord_flip distanceToNearest end<-
  geom_bar ggplot reduce seqlengths seqlengths<- start<- stopCluster
  trim txdb ylab
* checking Rd files ... OK
* checking Rd metadata ... OK
* checking Rd cross-references ... OK
* checking for missing documentation entries ... OK
* checking for code/documentation mismatches ... OK
* checking Rd \usage sections ... OK
* checking Rd contents ... OK
* checking for unstated dependencies in examples ... OK
* checking files in ‘vignettes’ ... OK
* checking examples ... OK
Examples with CPU or elapsed time > 5s
                           user system elapsed
topGOres                 38.936  0.072  39.115
makeGtfFromDb             5.268  0.064   5.381
getPromoterClass-methods  1.040  0.060  16.810
* checking for unstated dependencies in vignettes ... OK
* checking package vignettes in ‘inst/doc’ ... OK
* checking running R code from vignettes ... SKIPPED
* checking re-building of vignette outputs ... SKIPPED
* checking PDF version of manual ... OK
* DONE
Status: 1 NOTE
See
  ‘/home/biocbuild/bbs-3.8-bioc/meat/compEpiTools.Rcheck/00check.log’
for details.
compEpiTools.Rcheck/00install.out
############################################################################## ############################################################################## ### ### Running command: ### ### /home/biocbuild/bbs-3.8-bioc/R/bin/R CMD INSTALL compEpiTools ### ############################################################################## ############################################################################## * installing to library ‘/home/biocbuild/bbs-3.8-bioc/R/library’ * installing *source* package ‘compEpiTools’ ... ** R ** inst ** byte-compile and prepare package for lazy loading groupGOTerms: GOBPTerm, GOMFTerm, GOCCTerm environments built. ** help *** installing help indices ** building package indices ** installing vignettes ** testing if installed package can be loaded groupGOTerms: GOBPTerm, GOMFTerm, GOCCTerm environments built. * DONE (compEpiTools)
compEpiTools.Rcheck/compEpiTools-Ex.timings
| name | user | system | elapsed | |
| GR2fasta-methods | 0.404 | 0.000 | 0.425 | |
| GRanges2ucsc-methods | 0.008 | 0.000 | 0.006 | |
| GRangesInPromoters-methods | 3.544 | 0.056 | 3.603 | |
| GRannotate-methods | 3.800 | 0.016 | 3.820 | |
| GRannotateSimple | 0.524 | 0.008 | 0.530 | |
| GRbaseCoverage-methods | 0.076 | 0.004 | 0.081 | |
| GRcoverage-methods | 0.100 | 0.000 | 0.099 | |
| GRcoverageSummit-methods | 0.040 | 0.004 | 0.042 | |
| GRenrichment-methods | 0.084 | 0.000 | 0.084 | |
| GRmidpoint-methods | 0.028 | 0.000 | 0.027 | |
| GRsetwidth | 0.036 | 0.000 | 0.035 | |
| TSS | 1.792 | 0.012 | 1.804 | |
| countOverlapsInBins-methods | 0.100 | 0.000 | 0.098 | |
| distanceFromTSS-methods | 3.764 | 0.028 | 3.806 | |
| enhancers | 0.320 | 0.004 | 0.337 | |
| findLncRNA | 0.668 | 0.004 | 0.867 | |
| getPromoterClass-methods | 1.04 | 0.06 | 16.81 | |
| heatmapData | 1.044 | 0.048 | 1.093 | |
| heatmapPlot | 3.160 | 0.072 | 3.234 | |
| makeGtfFromDb | 5.268 | 0.064 | 5.381 | |
| matchEnhancers | 4.072 | 0.140 | 4.222 | |
| overlapOfGRanges-methods | 0.084 | 0.000 | 0.084 | |
| palette2d | 0.112 | 0.000 | 0.112 | |
| plotStallingIndex | 3.284 | 0.000 | 3.285 | |
| simplifyGOterms | 0.892 | 0.072 | 2.057 | |
| stallingIndex | 3.348 | 0.000 | 3.352 | |
| topGOres | 38.936 | 0.072 | 39.115 | |
| ucsc2GRanges | 0.012 | 0.000 | 0.012 | |
| unionMaxScore-methods | 0.132 | 0.000 | 0.134 | |