| Back to Multiple platform build/check report for BioC 3.8 |
|
This page was generated on 2019-04-16 12:00:11 -0400 (Tue, 16 Apr 2019).
| Package 241/1649 | Hostname | OS / Arch | INSTALL | BUILD | CHECK | BUILD BIN | ||||||
| chimeraviz 1.8.5 Stian Lågstad
| malbec1 | Linux (Ubuntu 16.04.6 LTS) / x86_64 | OK | OK | OK | |||||||
| merida1 | OS X 10.11.6 El Capitan / x86_64 | OK | OK | [ OK ] | OK |
| Package: chimeraviz |
| Version: 1.8.5 |
| Command: /Library/Frameworks/R.framework/Versions/Current/Resources/bin/R CMD check --install=check:chimeraviz.install-out.txt --library=/Library/Frameworks/R.framework/Versions/Current/Resources/library --no-vignettes --timings chimeraviz_1.8.5.tar.gz |
| StartedAt: 2019-04-15 22:54:31 -0400 (Mon, 15 Apr 2019) |
| EndedAt: 2019-04-15 23:03:27 -0400 (Mon, 15 Apr 2019) |
| EllapsedTime: 536.1 seconds |
| RetCode: 0 |
| Status: OK |
| CheckDir: chimeraviz.Rcheck |
| Warnings: 0 |
##############################################################################
##############################################################################
###
### Running command:
###
### /Library/Frameworks/R.framework/Versions/Current/Resources/bin/R CMD check --install=check:chimeraviz.install-out.txt --library=/Library/Frameworks/R.framework/Versions/Current/Resources/library --no-vignettes --timings chimeraviz_1.8.5.tar.gz
###
##############################################################################
##############################################################################
* using log directory ‘/Users/biocbuild/bbs-3.8-bioc/meat/chimeraviz.Rcheck’
* using R version 3.5.3 (2019-03-11)
* using platform: x86_64-apple-darwin15.6.0 (64-bit)
* using session charset: UTF-8
* using option ‘--no-vignettes’
* checking for file ‘chimeraviz/DESCRIPTION’ ... OK
* checking extension type ... Package
* this is package ‘chimeraviz’ version ‘1.8.5’
* package encoding: UTF-8
* checking package namespace information ... OK
* checking package dependencies ... NOTE
Depends: includes the non-default packages:
‘Biostrings’ ‘GenomicRanges’ ‘IRanges’ ‘Gviz’ ‘S4Vectors’ ‘ensembldb’
‘AnnotationFilter’ ‘data.table’
Adding so many packages to the search path is excessive and importing
selectively is preferable.
* checking if this is a source package ... OK
* checking if there is a namespace ... OK
* checking for hidden files and directories ... OK
* checking for portable file names ... OK
* checking for sufficient/correct file permissions ... OK
* checking whether package ‘chimeraviz’ can be installed ... OK
* checking installed package size ... OK
* checking package directory ... OK
* checking ‘build’ directory ... OK
* checking DESCRIPTION meta-information ... OK
* checking top-level files ... OK
* checking for left-over files ... OK
* checking index information ... OK
* checking package subdirectories ... OK
* checking R files for non-ASCII characters ... OK
* checking R files for syntax errors ... OK
* checking whether the package can be loaded ... OK
* checking whether the package can be loaded with stated dependencies ... OK
* checking whether the package can be unloaded cleanly ... OK
* checking whether the namespace can be loaded with stated dependencies ... OK
* checking whether the namespace can be unloaded cleanly ... OK
* checking dependencies in R code ... OK
* checking S3 generic/method consistency ... OK
* checking replacement functions ... OK
* checking foreign function calls ... OK
* checking R code for possible problems ... NOTE
plot_fusion_transcript_with_protein_domain: no visible binding for
global variable 'protein_domain_location'
Undefined global functions or variables:
protein_domain_location
* checking Rd files ... OK
* checking Rd metadata ... OK
* checking Rd cross-references ... OK
* checking for missing documentation entries ... OK
* checking for code/documentation mismatches ... OK
* checking Rd \usage sections ... OK
* checking Rd contents ... OK
* checking for unstated dependencies in examples ... OK
* checking files in ‘vignettes’ ... OK
* checking examples ... OK
Examples with CPU or elapsed time > 5s
user system elapsed
plot_transcripts 19.492 0.709 20.423
plot_fusion_transcript 19.354 0.206 20.150
plot_fusion 18.705 0.171 19.124
plot_fusion_transcript_with_protein_domain 9.388 0.570 9.327
plot_fusion_transcripts_graph 8.425 0.063 8.587
get_transcripts_ensembl_db 5.469 0.106 5.648
* checking for unstated dependencies in ‘tests’ ... OK
* checking tests ...
Running ‘testthat.R’
OK
* checking for unstated dependencies in vignettes ... OK
* checking package vignettes in ‘inst/doc’ ... OK
* checking running R code from vignettes ... SKIPPED
* checking re-building of vignette outputs ... SKIPPED
* checking PDF version of manual ... OK
* DONE
Status: 2 NOTEs
See
‘/Users/biocbuild/bbs-3.8-bioc/meat/chimeraviz.Rcheck/00check.log’
for details.
chimeraviz.Rcheck/00install.out
############################################################################## ############################################################################## ### ### Running command: ### ### /Library/Frameworks/R.framework/Versions/Current/Resources/bin/R CMD INSTALL chimeraviz ### ############################################################################## ############################################################################## * installing to library ‘/Library/Frameworks/R.framework/Versions/3.5/Resources/library’ * installing *source* package ‘chimeraviz’ ... ** R ** inst ** byte-compile and prepare package for lazy loading ** help *** installing help indices ** building package indices ** installing vignettes ** testing if installed package can be loaded * DONE (chimeraviz)
chimeraviz.Rcheck/tests/testthat.Rout
R version 3.5.3 (2019-03-11) -- "Great Truth"
Copyright (C) 2019 The R Foundation for Statistical Computing
Platform: x86_64-apple-darwin15.6.0 (64-bit)
R is free software and comes with ABSOLUTELY NO WARRANTY.
You are welcome to redistribute it under certain conditions.
Type 'license()' or 'licence()' for distribution details.
R is a collaborative project with many contributors.
Type 'contributors()' for more information and
'citation()' on how to cite R or R packages in publications.
Type 'demo()' for some demos, 'help()' for on-line help, or
'help.start()' for an HTML browser interface to help.
Type 'q()' to quit R.
> library(testthat)
> library(chimeraviz)
Loading required package: Biostrings
Loading required package: BiocGenerics
Loading required package: parallel
Attaching package: 'BiocGenerics'
The following objects are masked from 'package:parallel':
clusterApply, clusterApplyLB, clusterCall, clusterEvalQ,
clusterExport, clusterMap, parApply, parCapply, parLapply,
parLapplyLB, parRapply, parSapply, parSapplyLB
The following objects are masked from 'package:stats':
IQR, mad, sd, var, xtabs
The following objects are masked from 'package:base':
Filter, Find, Map, Position, Reduce, anyDuplicated, append,
as.data.frame, basename, cbind, colMeans, colSums, colnames,
dirname, do.call, duplicated, eval, evalq, get, grep, grepl,
intersect, is.unsorted, lapply, lengths, mapply, match, mget,
order, paste, pmax, pmax.int, pmin, pmin.int, rank, rbind,
rowMeans, rowSums, rownames, sapply, setdiff, sort, table, tapply,
union, unique, unsplit, which, which.max, which.min
Loading required package: S4Vectors
Loading required package: stats4
Attaching package: 'S4Vectors'
The following object is masked from 'package:base':
expand.grid
Loading required package: IRanges
Loading required package: XVector
Attaching package: 'Biostrings'
The following object is masked from 'package:base':
strsplit
Loading required package: GenomicRanges
Loading required package: GenomeInfoDb
Loading required package: Gviz
Loading required package: grid
Loading required package: ensembldb
Loading required package: GenomicFeatures
Loading required package: AnnotationDbi
Loading required package: Biobase
Welcome to Bioconductor
Vignettes contain introductory material; view with
'browseVignettes()'. To cite Bioconductor, see
'citation("Biobase")', and for packages 'citation("pkgname")'.
Loading required package: AnnotationFilter
Attaching package: 'AnnotationFilter'
The following object is masked from 'package:Gviz':
feature
The following object is masked from 'package:testthat':
not
Attaching package: 'ensembldb'
The following object is masked from 'package:stats':
filter
Loading required package: data.table
Attaching package: 'data.table'
The following object is masked from 'package:GenomicRanges':
shift
The following object is masked from 'package:IRanges':
shift
The following objects are masked from 'package:S4Vectors':
first, second
>
> test_check("chimeraviz")
══ testthat results ═══════════════════════════════════════════════════════════
OK: 155 SKIPPED: 0 FAILED: 0
Warning message:
call dbDisconnect() when finished working with a connection
>
> proc.time()
user system elapsed
102.373 2.825 104.433
chimeraviz.Rcheck/chimeraviz-Ex.timings
| name | user | system | elapsed | |
| add_fusion_reads_alignment | 0.655 | 0.025 | 0.686 | |
| create_fusion_report | 3.744 | 0.217 | 3.990 | |
| decide_transcript_category | 0.255 | 0.004 | 0.263 | |
| down_shift | 0.097 | 0.000 | 0.098 | |
| downstream_partner_gene | 0.115 | 0.001 | 0.115 | |
| fetch_reads_from_fastq | 0.002 | 0.000 | 0.002 | |
| fusion_spanning_reads_count | 0.062 | 0.001 | 0.063 | |
| fusion_split_reads_count | 0.067 | 0.001 | 0.067 | |
| fusion_to_data_frame | 0.061 | 0.001 | 0.062 | |
| get_ensembl_ids | 0.596 | 0.012 | 0.617 | |
| get_fusion_by_chromosome | 0.053 | 0.002 | 0.055 | |
| get_fusion_by_gene_name | 0.063 | 0.001 | 0.065 | |
| get_fusion_by_id | 0.072 | 0.002 | 0.074 | |
| get_transcripts_ensembl_db | 5.469 | 0.106 | 5.648 | |
| import_defuse | 0.184 | 0.001 | 0.187 | |
| import_ericscript | 0.210 | 0.001 | 0.212 | |
| import_fusioncatcher | 0.157 | 0.001 | 0.161 | |
| import_fusionmap | 0.194 | 0.001 | 0.201 | |
| import_infusion | 0.178 | 0.000 | 0.183 | |
| import_jaffa | 0.196 | 0.000 | 0.199 | |
| import_oncofuse | 0.193 | 0.001 | 0.197 | |
| import_prada | 0.205 | 0.000 | 0.207 | |
| import_soapfuse | 0.235 | 0.004 | 0.242 | |
| import_starfusion | 0.198 | 0.002 | 0.200 | |
| partner_gene_ensembl_id | 0.108 | 0.001 | 0.108 | |
| partner_gene_junction_sequence | 0.078 | 0.001 | 0.081 | |
| plot_circle | 1.127 | 0.060 | 1.183 | |
| plot_fusion | 18.705 | 0.171 | 19.124 | |
| plot_fusion_reads | 4.014 | 0.121 | 4.297 | |
| plot_fusion_transcript | 19.354 | 0.206 | 20.150 | |
| plot_fusion_transcript_with_protein_domain | 9.388 | 0.570 | 9.327 | |
| plot_fusion_transcripts_graph | 8.425 | 0.063 | 8.587 | |
| plot_transcripts | 19.492 | 0.709 | 20.423 | |
| select_transcript | 4.892 | 0.010 | 4.935 | |
| split_on_utr_and_add_feature | 0.454 | 0.003 | 0.458 | |
| upstream_partner_gene | 0.155 | 0.001 | 0.156 | |
| write_fusion_reference | 0.094 | 0.001 | 0.094 | |