| Back to Multiple platform build/check report for BioC 3.8 |
|
This page was generated on 2019-04-16 11:52:29 -0400 (Tue, 16 Apr 2019).
| Package 241/1649 | Hostname | OS / Arch | INSTALL | BUILD | CHECK | BUILD BIN | ||||||
| chimeraviz 1.8.5 Stian Lågstad
| malbec1 | Linux (Ubuntu 16.04.6 LTS) / x86_64 | OK | OK | [ OK ] | |||||||
| merida1 | OS X 10.11.6 El Capitan / x86_64 | OK | OK | OK | OK |
| Package: chimeraviz |
| Version: 1.8.5 |
| Command: /home/biocbuild/bbs-3.8-bioc/R/bin/R CMD check --install=check:chimeraviz.install-out.txt --library=/home/biocbuild/bbs-3.8-bioc/R/library --no-vignettes --timings chimeraviz_1.8.5.tar.gz |
| StartedAt: 2019-04-15 22:47:50 -0400 (Mon, 15 Apr 2019) |
| EndedAt: 2019-04-15 22:56:00 -0400 (Mon, 15 Apr 2019) |
| EllapsedTime: 489.6 seconds |
| RetCode: 0 |
| Status: OK |
| CheckDir: chimeraviz.Rcheck |
| Warnings: 0 |
##############################################################################
##############################################################################
###
### Running command:
###
### /home/biocbuild/bbs-3.8-bioc/R/bin/R CMD check --install=check:chimeraviz.install-out.txt --library=/home/biocbuild/bbs-3.8-bioc/R/library --no-vignettes --timings chimeraviz_1.8.5.tar.gz
###
##############################################################################
##############################################################################
* using log directory ‘/home/biocbuild/bbs-3.8-bioc/meat/chimeraviz.Rcheck’
* using R version 3.5.3 (2019-03-11)
* using platform: x86_64-pc-linux-gnu (64-bit)
* using session charset: UTF-8
* using option ‘--no-vignettes’
* checking for file ‘chimeraviz/DESCRIPTION’ ... OK
* checking extension type ... Package
* this is package ‘chimeraviz’ version ‘1.8.5’
* package encoding: UTF-8
* checking package namespace information ... OK
* checking package dependencies ... NOTE
Depends: includes the non-default packages:
‘Biostrings’ ‘GenomicRanges’ ‘IRanges’ ‘Gviz’ ‘S4Vectors’ ‘ensembldb’
‘AnnotationFilter’ ‘data.table’
Adding so many packages to the search path is excessive and importing
selectively is preferable.
* checking if this is a source package ... OK
* checking if there is a namespace ... OK
* checking for hidden files and directories ... OK
* checking for portable file names ... OK
* checking for sufficient/correct file permissions ... OK
* checking whether package ‘chimeraviz’ can be installed ... OK
* checking installed package size ... OK
* checking package directory ... OK
* checking ‘build’ directory ... OK
* checking DESCRIPTION meta-information ... OK
* checking top-level files ... OK
* checking for left-over files ... OK
* checking index information ... OK
* checking package subdirectories ... OK
* checking R files for non-ASCII characters ... OK
* checking R files for syntax errors ... OK
* checking whether the package can be loaded ... OK
* checking whether the package can be loaded with stated dependencies ... OK
* checking whether the package can be unloaded cleanly ... OK
* checking whether the namespace can be loaded with stated dependencies ... OK
* checking whether the namespace can be unloaded cleanly ... OK
* checking dependencies in R code ... OK
* checking S3 generic/method consistency ... OK
* checking replacement functions ... OK
* checking foreign function calls ... OK
* checking R code for possible problems ... NOTE
plot_fusion_transcript_with_protein_domain: no visible binding for
global variable 'protein_domain_location'
Undefined global functions or variables:
protein_domain_location
* checking Rd files ... OK
* checking Rd metadata ... OK
* checking Rd cross-references ... OK
* checking for missing documentation entries ... OK
* checking for code/documentation mismatches ... OK
* checking Rd \usage sections ... OK
* checking Rd contents ... OK
* checking for unstated dependencies in examples ... OK
* checking files in ‘vignettes’ ... OK
* checking examples ... OK
Examples with CPU or elapsed time > 5s
user system elapsed
plot_fusion 18.756 0.092 18.890
plot_transcripts 18.036 0.284 18.777
plot_fusion_transcript 16.072 0.000 16.110
plot_fusion_transcript_with_protein_domain 11.760 0.008 8.972
plot_fusion_transcripts_graph 8.116 0.012 8.142
get_transcripts_ensembl_db 5.152 0.088 5.250
* checking for unstated dependencies in ‘tests’ ... OK
* checking tests ...
Running ‘testthat.R’
OK
* checking for unstated dependencies in vignettes ... OK
* checking package vignettes in ‘inst/doc’ ... OK
* checking running R code from vignettes ... SKIPPED
* checking re-building of vignette outputs ... SKIPPED
* checking PDF version of manual ... OK
* DONE
Status: 2 NOTEs
See
‘/home/biocbuild/bbs-3.8-bioc/meat/chimeraviz.Rcheck/00check.log’
for details.
chimeraviz.Rcheck/00install.out
############################################################################## ############################################################################## ### ### Running command: ### ### /home/biocbuild/bbs-3.8-bioc/R/bin/R CMD INSTALL chimeraviz ### ############################################################################## ############################################################################## * installing to library ‘/home/biocbuild/bbs-3.8-bioc/R/library’ * installing *source* package ‘chimeraviz’ ... ** R ** inst ** byte-compile and prepare package for lazy loading ** help *** installing help indices ** building package indices ** installing vignettes ** testing if installed package can be loaded * DONE (chimeraviz)
chimeraviz.Rcheck/tests/testthat.Rout
R version 3.5.3 (2019-03-11) -- "Great Truth"
Copyright (C) 2019 The R Foundation for Statistical Computing
Platform: x86_64-pc-linux-gnu (64-bit)
R is free software and comes with ABSOLUTELY NO WARRANTY.
You are welcome to redistribute it under certain conditions.
Type 'license()' or 'licence()' for distribution details.
R is a collaborative project with many contributors.
Type 'contributors()' for more information and
'citation()' on how to cite R or R packages in publications.
Type 'demo()' for some demos, 'help()' for on-line help, or
'help.start()' for an HTML browser interface to help.
Type 'q()' to quit R.
> library(testthat)
> library(chimeraviz)
Loading required package: Biostrings
Loading required package: BiocGenerics
Loading required package: parallel
Attaching package: 'BiocGenerics'
The following objects are masked from 'package:parallel':
clusterApply, clusterApplyLB, clusterCall, clusterEvalQ,
clusterExport, clusterMap, parApply, parCapply, parLapply,
parLapplyLB, parRapply, parSapply, parSapplyLB
The following objects are masked from 'package:stats':
IQR, mad, sd, var, xtabs
The following objects are masked from 'package:base':
Filter, Find, Map, Position, Reduce, anyDuplicated, append,
as.data.frame, basename, cbind, colMeans, colSums, colnames,
dirname, do.call, duplicated, eval, evalq, get, grep, grepl,
intersect, is.unsorted, lapply, lengths, mapply, match, mget,
order, paste, pmax, pmax.int, pmin, pmin.int, rank, rbind,
rowMeans, rowSums, rownames, sapply, setdiff, sort, table, tapply,
union, unique, unsplit, which, which.max, which.min
Loading required package: S4Vectors
Loading required package: stats4
Attaching package: 'S4Vectors'
The following object is masked from 'package:base':
expand.grid
Loading required package: IRanges
Loading required package: XVector
Attaching package: 'Biostrings'
The following object is masked from 'package:base':
strsplit
Loading required package: GenomicRanges
Loading required package: GenomeInfoDb
Loading required package: Gviz
Loading required package: grid
Loading required package: ensembldb
Loading required package: GenomicFeatures
Loading required package: AnnotationDbi
Loading required package: Biobase
Welcome to Bioconductor
Vignettes contain introductory material; view with
'browseVignettes()'. To cite Bioconductor, see
'citation("Biobase")', and for packages 'citation("pkgname")'.
Loading required package: AnnotationFilter
Attaching package: 'AnnotationFilter'
The following object is masked from 'package:Gviz':
feature
The following object is masked from 'package:testthat':
not
Attaching package: 'ensembldb'
The following object is masked from 'package:stats':
filter
Loading required package: data.table
Attaching package: 'data.table'
The following object is masked from 'package:GenomicRanges':
shift
The following object is masked from 'package:IRanges':
shift
The following objects are masked from 'package:S4Vectors':
first, second
>
> test_check("chimeraviz")
══ testthat results ═══════════════════════════════════════════════════════════
OK: 155 SKIPPED: 0 FAILED: 0
Warning message:
call dbDisconnect() when finished working with a connection
>
> proc.time()
user system elapsed
109.212 1.408 108.104
chimeraviz.Rcheck/chimeraviz-Ex.timings
| name | user | system | elapsed | |
| add_fusion_reads_alignment | 0.824 | 0.020 | 0.848 | |
| create_fusion_report | 4.120 | 0.400 | 4.603 | |
| decide_transcript_category | 0.296 | 0.024 | 0.330 | |
| down_shift | 0.128 | 0.012 | 0.142 | |
| downstream_partner_gene | 0.144 | 0.004 | 0.147 | |
| fetch_reads_from_fastq | 0.004 | 0.000 | 0.002 | |
| fusion_spanning_reads_count | 0.072 | 0.000 | 0.070 | |
| fusion_split_reads_count | 0.068 | 0.000 | 0.068 | |
| fusion_to_data_frame | 0.064 | 0.004 | 0.070 | |
| get_ensembl_ids | 0.596 | 0.012 | 0.608 | |
| get_fusion_by_chromosome | 0.048 | 0.004 | 0.051 | |
| get_fusion_by_gene_name | 0.048 | 0.000 | 0.050 | |
| get_fusion_by_id | 0.052 | 0.000 | 0.052 | |
| get_transcripts_ensembl_db | 5.152 | 0.088 | 5.250 | |
| import_defuse | 0.204 | 0.000 | 0.203 | |
| import_ericscript | 0.224 | 0.000 | 0.224 | |
| import_fusioncatcher | 0.180 | 0.000 | 0.192 | |
| import_fusionmap | 0.144 | 0.000 | 0.144 | |
| import_infusion | 0.192 | 0.000 | 0.193 | |
| import_jaffa | 0.212 | 0.000 | 0.212 | |
| import_oncofuse | 0.208 | 0.000 | 0.205 | |
| import_prada | 0.212 | 0.000 | 0.217 | |
| import_soapfuse | 0.236 | 0.000 | 0.238 | |
| import_starfusion | 0.204 | 0.000 | 0.203 | |
| partner_gene_ensembl_id | 0.128 | 0.000 | 0.130 | |
| partner_gene_junction_sequence | 0.052 | 0.000 | 0.050 | |
| plot_circle | 0.960 | 0.012 | 0.974 | |
| plot_fusion | 18.756 | 0.092 | 18.890 | |
| plot_fusion_reads | 3.316 | 0.020 | 4.314 | |
| plot_fusion_transcript | 16.072 | 0.000 | 16.110 | |
| plot_fusion_transcript_with_protein_domain | 11.760 | 0.008 | 8.972 | |
| plot_fusion_transcripts_graph | 8.116 | 0.012 | 8.142 | |
| plot_transcripts | 18.036 | 0.284 | 18.777 | |
| select_transcript | 4.312 | 0.000 | 4.317 | |
| split_on_utr_and_add_feature | 0.268 | 0.000 | 0.266 | |
| upstream_partner_gene | 0.084 | 0.000 | 0.084 | |
| write_fusion_reference | 0.048 | 0.000 | 0.048 | |