| Back to Multiple platform build/check report for BioC 3.8 | 
 | 
This page was generated on 2019-04-13 11:23:54 -0400 (Sat, 13 Apr 2019).
| Package 168/1649 | Hostname | OS / Arch | INSTALL | BUILD | CHECK | BUILD BIN | ||||||
| blima 1.16.0 VojtÄ›ch Kulvait 
 | malbec1 | Linux (Ubuntu 16.04.6 LTS) / x86_64 | OK | OK | WARNINGS |  | ||||||
| tokay1 | Windows Server 2012 R2 Standard / x64 | OK | [ OK ] | WARNINGS | OK |  | ||||||
| merida1 | OS X 10.11.6 El Capitan / x86_64 | OK | OK | WARNINGS | OK |  | 
| Package: blima | 
| Version: 1.16.0 | 
| Command: chmod a+r blima -R && C:\Users\biocbuild\bbs-3.8-bioc\R\bin\R.exe CMD build --keep-empty-dirs --no-resave-data blima | 
| StartedAt: 2019-04-12 22:03:24 -0400 (Fri, 12 Apr 2019) | 
| EndedAt: 2019-04-12 22:11:28 -0400 (Fri, 12 Apr 2019) | 
| EllapsedTime: 483.7 seconds | 
| RetCode: 0 | 
| Status: OK | 
| PackageFile: blima_1.16.0.tar.gz | 
| PackageFileSize: 252.5 KiB | 
############################################################################## ############################################################################## ### ### Running command: ### ### chmod a+r blima -R && C:\Users\biocbuild\bbs-3.8-bioc\R\bin\R.exe CMD build --keep-empty-dirs --no-resave-data blima ### ############################################################################## ############################################################################## * checking for file 'blima/DESCRIPTION' ... OK * preparing 'blima': * checking DESCRIPTION meta-information ... OK * cleaning src * installing the package to process help pages * saving partial Rd database * creating vignettes ... OK * cleaning src * checking for LF line-endings in source and make files and shell scripts * checking for empty or unneeded directories * building 'blima_1.16.0.tar.gz'