| Back to Multiple platform build/check report for BioC 3.8 | 
 | 
This page was generated on 2019-04-16 11:57:40 -0400 (Tue, 16 Apr 2019).
| Package 168/1649 | Hostname | OS / Arch | INSTALL | BUILD | CHECK | BUILD BIN | ||||||
| blima 1.16.0 VojtÄ›ch Kulvait 
 | malbec1 | Linux (Ubuntu 16.04.6 LTS) / x86_64 | OK | OK | WARNINGS |  | ||||||
| merida1 | OS X 10.11.6 El Capitan / x86_64 | OK | [ OK ] | WARNINGS | OK |  | 
| Package: blima | 
| Version: 1.16.0 | 
| Command: /Library/Frameworks/R.framework/Versions/Current/Resources/bin/R CMD build --keep-empty-dirs --no-resave-data blima | 
| StartedAt: 2019-04-15 20:01:37 -0400 (Mon, 15 Apr 2019) | 
| EndedAt: 2019-04-15 20:12:32 -0400 (Mon, 15 Apr 2019) | 
| EllapsedTime: 655.1 seconds | 
| RetCode: 0 | 
| Status: OK | 
| PackageFile: blima_1.16.0.tar.gz | 
| PackageFileSize: 251.4 KiB | 
############################################################################## ############################################################################## ### ### Running command: ### ### /Library/Frameworks/R.framework/Versions/Current/Resources/bin/R CMD build --keep-empty-dirs --no-resave-data blima ### ############################################################################## ############################################################################## * checking for file ‘blima/DESCRIPTION’ ... OK * preparing ‘blima’: * checking DESCRIPTION meta-information ... OK * cleaning src * installing the package to process help pages * saving partial Rd database * creating vignettes ... OK * cleaning src * checking for LF line-endings in source and make files and shell scripts * checking for empty or unneeded directories * building ‘blima_1.16.0.tar.gz’