| Back to Multiple platform build/check report for BioC 3.8 | 
 | 
This page was generated on 2019-04-13 11:29:05 -0400 (Sat, 13 Apr 2019).
| Package 16/1649 | Hostname | OS / Arch | INSTALL | BUILD | CHECK | BUILD BIN | ||||||
| adaptest 1.2.0 Weixin Cai 
 | malbec1 | Linux (Ubuntu 16.04.6 LTS) / x86_64 | OK | OK | OK |  | ||||||
| tokay1 | Windows Server 2012 R2 Standard / x64 | OK | OK | OK | [ OK ] |  | ||||||
| merida1 | OS X 10.11.6 El Capitan / x86_64 | OK | OK | OK | OK |  | 
| Package: adaptest | 
| Version: 1.2.0 | 
| Command: rm -rf adaptest.buildbin-libdir && mkdir adaptest.buildbin-libdir && C:\Users\biocbuild\bbs-3.8-bioc\R\bin\R.exe CMD INSTALL --merge-multiarch --build --library=adaptest.buildbin-libdir adaptest_1.2.0.tar.gz | 
| StartedAt: 2019-04-13 06:52:36 -0400 (Sat, 13 Apr 2019) | 
| EndedAt: 2019-04-13 06:53:01 -0400 (Sat, 13 Apr 2019) | 
| EllapsedTime: 25.1 seconds | 
| RetCode: 0 | 
| Status: OK | 
| PackageFile: adaptest_1.2.0.zip | 
| PackageFileSize: 1.12 MiB | 
##############################################################################
##############################################################################
###
### Running command:
###
###   rm -rf adaptest.buildbin-libdir && mkdir adaptest.buildbin-libdir && C:\Users\biocbuild\bbs-3.8-bioc\R\bin\R.exe CMD INSTALL --merge-multiarch --build --library=adaptest.buildbin-libdir adaptest_1.2.0.tar.gz
###
##############################################################################
##############################################################################
install for i386
* installing *source* package 'adaptest' ...
** R
** data
*** moving datasets to lazyload DB
** inst
** byte-compile and prepare package for lazy loading
** help
*** installing help indices
  converting help for package 'adaptest'
    finding HTML links ... done
    adapTMLE-class                          html  
    adaptest                                html  
    adaptest_old                            html  
    bioadaptest                             html  
    cv_param_est                            html  
    data_adapt                              html  
    get_composition                         html  
    get_pval                                html  
    get_results_adaptmle                    html  
    get_significant_biomarker               html  
    plot.data_adapt                         html  
    print.data_adapt                        html  
    rank_DE                                 html  
    rank_ttest                              html  
    simulated_array                         html  
    simulated_treatment                     html  
    summary.data_adapt                      html  
** building package indices
** installing vignettes
** testing if installed package can be loaded
In R CMD INSTALL
install for x64
* installing *source* package 'adaptest' ...
** testing if installed package can be loaded
* MD5 sums
packaged installation of 'adaptest' as adaptest_1.2.0.zip
* DONE (adaptest)
In R CMD INSTALL
In R CMD INSTALL