| Back to Multiple platform build/check report for BioC 3.8 | 
 | 
This page was generated on 2019-04-16 11:53:23 -0400 (Tue, 16 Apr 2019).
| Package 16/1649 | Hostname | OS / Arch | INSTALL | BUILD | CHECK | BUILD BIN | ||||||
| adaptest 1.2.0 Weixin Cai 
 | malbec1 | Linux (Ubuntu 16.04.6 LTS) / x86_64 | OK | [ OK ] | OK |  | ||||||
| merida1 | OS X 10.11.6 El Capitan / x86_64 | OK | OK | OK | OK |  | 
| Package: adaptest | 
| Version: 1.2.0 | 
| Command: /home/biocbuild/bbs-3.8-bioc/R/bin/R CMD build --keep-empty-dirs --no-resave-data adaptest | 
| StartedAt: 2019-04-15 21:41:29 -0400 (Mon, 15 Apr 2019) | 
| EndedAt: 2019-04-15 21:42:19 -0400 (Mon, 15 Apr 2019) | 
| EllapsedTime: 49.4 seconds | 
| RetCode: 0 | 
| Status: OK | 
| PackageFile: adaptest_1.2.0.tar.gz | 
| PackageFileSize: 1.039 MiB | 
############################################################################## ############################################################################## ### ### Running command: ### ### /home/biocbuild/bbs-3.8-bioc/R/bin/R CMD build --keep-empty-dirs --no-resave-data adaptest ### ############################################################################## ############################################################################## * checking for file ‘adaptest/DESCRIPTION’ ... OK * preparing ‘adaptest’: * checking DESCRIPTION meta-information ... OK * installing the package to build vignettes * creating vignettes ... OK * checking for LF line-endings in source and make files and shell scripts * checking for empty or unneeded directories * looking to see if a ‘data/datalist’ file should be added * building ‘adaptest_1.2.0.tar.gz’