| Back to Multiple platform build/check report for BioC 3.8 | 
 | 
This page was generated on 2019-04-16 11:54:37 -0400 (Tue, 16 Apr 2019).
| Package 1467/1649 | Hostname | OS / Arch | INSTALL | BUILD | CHECK | BUILD BIN | ||||||
| SLqPCR 1.48.0 Matthias Kohl 
 | malbec1 | Linux (Ubuntu 16.04.6 LTS) / x86_64 | OK | OK | OK |  | ||||||
| merida1 | OS X 10.11.6 El Capitan / x86_64 | OK | [ OK ] | OK | OK |  | 
| Package: SLqPCR | 
| Version: 1.48.0 | 
| Command: /Library/Frameworks/R.framework/Versions/Current/Resources/bin/R CMD build --keep-empty-dirs --no-resave-data SLqPCR | 
| StartedAt: 2019-04-15 19:02:38 -0400 (Mon, 15 Apr 2019) | 
| EndedAt: 2019-04-15 19:03:10 -0400 (Mon, 15 Apr 2019) | 
| EllapsedTime: 31.4 seconds | 
| RetCode: 0 | 
| Status: OK | 
| PackageFile: SLqPCR_1.48.0.tar.gz | 
| PackageFileSize: 179.8 KiB | 
############################################################################## ############################################################################## ### ### Running command: ### ### /Library/Frameworks/R.framework/Versions/Current/Resources/bin/R CMD build --keep-empty-dirs --no-resave-data SLqPCR ### ############################################################################## ############################################################################## * checking for file ‘SLqPCR/DESCRIPTION’ ... OK * preparing ‘SLqPCR’: * checking DESCRIPTION meta-information ... OK * installing the package to build vignettes * creating vignettes ... OK * checking for LF line-endings in source and make files and shell scripts * checking for empty or unneeded directories * looking to see if a ‘data/datalist’ file should be added * building ‘SLqPCR_1.48.0.tar.gz’