| Back to Multiple platform build/check report for BioC 3.8 | 
 | 
This page was generated on 2019-04-16 11:54:37 -0400 (Tue, 16 Apr 2019).
| Package 1467/1649 | Hostname | OS / Arch | INSTALL | BUILD | CHECK | BUILD BIN | ||||||
| SLqPCR 1.48.0 Matthias Kohl 
 | malbec1 | Linux (Ubuntu 16.04.6 LTS) / x86_64 | OK | OK | OK |  | ||||||
| merida1 | OS X 10.11.6 El Capitan / x86_64 | OK | OK | OK | [ OK ] |  | 
| Package: SLqPCR | 
| Version: 1.48.0 | 
| Command: rm -rf SLqPCR.buildbin-libdir && mkdir SLqPCR.buildbin-libdir && /Users/biocbuild/BBS/utils/build-universal.sh SLqPCR_1.48.0.tar.gz /Library/Frameworks/R.framework/Versions/Current/Resources/bin/R SLqPCR.buildbin-libdir | 
| StartedAt: 2019-04-16 04:46:14 -0400 (Tue, 16 Apr 2019) | 
| EndedAt: 2019-04-16 04:47:01 -0400 (Tue, 16 Apr 2019) | 
| EllapsedTime: 47.8 seconds | 
| RetCode: 0 | 
| Status: OK | 
| PackageFile: SLqPCR_1.48.0.tgz | 
| PackageFileSize: 193.8 KiB | 
############################################################################## ############################################################################## ### ### Running command: ### ### rm -rf SLqPCR.buildbin-libdir && mkdir SLqPCR.buildbin-libdir && /Users/biocbuild/BBS/utils/build-universal.sh SLqPCR_1.48.0.tar.gz /Library/Frameworks/R.framework/Versions/Current/Resources/bin/R SLqPCR.buildbin-libdir ### ############################################################################## ############################################################################## >>>>>>> >>>>>>> INSTALLATION WITH 'R CMD INSTALL --preclean --no-multiarch --library=SLqPCR.buildbin-libdir SLqPCR_1.48.0.tar.gz' >>>>>>> * installing *source* package ‘SLqPCR’ ... ** R ** data ** inst ** byte-compile and prepare package for lazy loading ** help *** installing help indices ** building package indices ** installing vignettes ** testing if installed package can be loaded * DONE (SLqPCR)