| Back to Multiple platform build/check report for BioC 3.8 |
|
This page was generated on 2019-04-13 11:25:10 -0400 (Sat, 13 Apr 2019).
| Package 1371/1649 | Hostname | OS / Arch | INSTALL | BUILD | CHECK | BUILD BIN | ||||||
| RUVcorr 1.14.0 Saskia Freytag
| malbec1 | Linux (Ubuntu 16.04.6 LTS) / x86_64 | OK | OK | OK | |||||||
| tokay1 | Windows Server 2012 R2 Standard / x64 | OK | OK | OK | [ OK ] | |||||||
| merida1 | OS X 10.11.6 El Capitan / x86_64 | OK | OK | OK | OK |
| Package: RUVcorr |
| Version: 1.14.0 |
| Command: rm -rf RUVcorr.buildbin-libdir && mkdir RUVcorr.buildbin-libdir && C:\Users\biocbuild\bbs-3.8-bioc\R\bin\R.exe CMD INSTALL --merge-multiarch --build --library=RUVcorr.buildbin-libdir RUVcorr_1.14.0.tar.gz |
| StartedAt: 2019-04-13 07:54:33 -0400 (Sat, 13 Apr 2019) |
| EndedAt: 2019-04-13 07:54:41 -0400 (Sat, 13 Apr 2019) |
| EllapsedTime: 7.5 seconds |
| RetCode: 0 |
| Status: OK |
| PackageFile: RUVcorr_1.14.0.zip |
| PackageFileSize: 704.5 KiB |
##############################################################################
##############################################################################
###
### Running command:
###
### rm -rf RUVcorr.buildbin-libdir && mkdir RUVcorr.buildbin-libdir && C:\Users\biocbuild\bbs-3.8-bioc\R\bin\R.exe CMD INSTALL --merge-multiarch --build --library=RUVcorr.buildbin-libdir RUVcorr_1.14.0.tar.gz
###
##############################################################################
##############################################################################
install for i386
* installing *source* package 'RUVcorr' ...
** R
** inst
** byte-compile and prepare package for lazy loading
** help
*** installing help indices
converting help for package 'RUVcorr'
finding HTML links ... done
ECDFPlot html
PCAPlot html
RLEPlot html
RUVNaiveRidge html
RUVcorr html
assessQuality html
background html
calculateThreshold html
compareRanks html
correlationPlot html
eigenvaluePlot html
empNegativeControls html
findIQR html
findMinmaxSamples html
findWeights html
funcPara html
funcThresh html
genePlot html
histogramPlot html
is.optimizeParameters html
is.simulateGEdata html
makePosSemiDef html
makeRankedList html
mashUp html
optimizeParameters html
plot.optimizeParameters html
plotDesign html
plotThreshold html
print.simulateGEdata html
prioritise html
simulateGEdata html
splitByFactor html
wcor html
** building package indices
** installing vignettes
** testing if installed package can be loaded
In R CMD INSTALL
install for x64
* installing *source* package 'RUVcorr' ...
** testing if installed package can be loaded
* MD5 sums
packaged installation of 'RUVcorr' as RUVcorr_1.14.0.zip
* DONE (RUVcorr)
In R CMD INSTALL
In R CMD INSTALL