| Back to Multiple platform build/check report for BioC 3.8 | 
 | 
This page was generated on 2019-04-16 11:58:31 -0400 (Tue, 16 Apr 2019).
| Package 1371/1649 | Hostname | OS / Arch | INSTALL | BUILD | CHECK | BUILD BIN | ||||||
| RUVcorr 1.14.0 Saskia Freytag 
 | malbec1 | Linux (Ubuntu 16.04.6 LTS) / x86_64 | OK | OK | OK |  | ||||||
| merida1 | OS X 10.11.6 El Capitan / x86_64 | OK | [ OK ] | OK | OK |  | 
| Package: RUVcorr | 
| Version: 1.14.0 | 
| Command: /Library/Frameworks/R.framework/Versions/Current/Resources/bin/R CMD build --keep-empty-dirs --no-resave-data RUVcorr | 
| StartedAt: 2019-04-15 20:23:06 -0400 (Mon, 15 Apr 2019) | 
| EndedAt: 2019-04-15 20:24:21 -0400 (Mon, 15 Apr 2019) | 
| EllapsedTime: 74.5 seconds | 
| RetCode: 0 | 
| Status: OK | 
| PackageFile: RUVcorr_1.14.0.tar.gz | 
| PackageFileSize: 549 KiB | 
##############################################################################
##############################################################################
###
### Running command:
###
###   /Library/Frameworks/R.framework/Versions/Current/Resources/bin/R CMD build --keep-empty-dirs --no-resave-data RUVcorr
###
##############################################################################
##############################################################################
* checking for file ‘RUVcorr/DESCRIPTION’ ... OK
* preparing ‘RUVcorr’:
* checking DESCRIPTION meta-information ... OK
* installing the package to build vignettes
* creating vignettes ... OK
Warning: ‘inst/doc’ file
    ‘RUVcorrVignetteNew.pdf’
  ignored as vignettes have been rebuilt.
  Run R CMD build with --no-build-vignettes to prevent rebuilding.
* checking for LF line-endings in source and make files and shell scripts
* checking for empty or unneeded directories
* building ‘RUVcorr_1.14.0.tar.gz’