| Back to Multiple platform build/check report for BioC 3.8 | 
 | 
This page was generated on 2019-04-13 11:23:24 -0400 (Sat, 13 Apr 2019).
| Package 1212/1649 | Hostname | OS / Arch | INSTALL | BUILD | CHECK | BUILD BIN | ||||||
| PSICQUIC 1.20.0 Paul Shannon 
 | malbec1 | Linux (Ubuntu 16.04.6 LTS) / x86_64 | OK | OK | WARNINGS |  | ||||||
| tokay1 | Windows Server 2012 R2 Standard / x64 | OK | [ OK ] | WARNINGS | OK |  | ||||||
| merida1 | OS X 10.11.6 El Capitan / x86_64 | OK | OK | WARNINGS | OK |  | 
| Package: PSICQUIC | 
| Version: 1.20.0 | 
| Command: chmod a+r PSICQUIC -R && C:\Users\biocbuild\bbs-3.8-bioc\R\bin\R.exe CMD build --keep-empty-dirs --no-resave-data PSICQUIC | 
| StartedAt: 2019-04-12 21:52:32 -0400 (Fri, 12 Apr 2019) | 
| EndedAt: 2019-04-12 21:55:08 -0400 (Fri, 12 Apr 2019) | 
| EllapsedTime: 155.9 seconds | 
| RetCode: 0 | 
| Status: OK | 
| PackageFile: PSICQUIC_1.20.0.tar.gz | 
| PackageFileSize: 215.6 KiB | 
############################################################################## ############################################################################## ### ### Running command: ### ### chmod a+r PSICQUIC -R && C:\Users\biocbuild\bbs-3.8-bioc\R\bin\R.exe CMD build --keep-empty-dirs --no-resave-data PSICQUIC ### ############################################################################## ############################################################################## * checking for file 'PSICQUIC/DESCRIPTION' ... OK * preparing 'PSICQUIC': * checking DESCRIPTION meta-information ... OK * installing the package to build vignettes * creating vignettes ... OK * checking for LF line-endings in source and make files and shell scripts * checking for empty or unneeded directories * building 'PSICQUIC_1.20.0.tar.gz'