| Back to Multiple platform build/check report for BioC 3.8 |
|
This page was generated on 2019-04-13 11:21:44 -0400 (Sat, 13 Apr 2019).
| Package 1062/1649 | Hostname | OS / Arch | INSTALL | BUILD | CHECK | BUILD BIN | ||||||
| NormqPCR 1.28.0 James Perkins
| malbec1 | Linux (Ubuntu 16.04.6 LTS) / x86_64 | OK | OK | OK | |||||||
| tokay1 | Windows Server 2012 R2 Standard / x64 | OK | OK | WARNINGS | [ OK ] | |||||||
| merida1 | OS X 10.11.6 El Capitan / x86_64 | OK | OK | WARNINGS | OK |
| Package: NormqPCR |
| Version: 1.28.0 |
| Command: rm -rf NormqPCR.buildbin-libdir && mkdir NormqPCR.buildbin-libdir && C:\Users\biocbuild\bbs-3.8-bioc\R\bin\R.exe CMD INSTALL --merge-multiarch --build --library=NormqPCR.buildbin-libdir NormqPCR_1.28.0.tar.gz |
| StartedAt: 2019-04-13 07:42:41 -0400 (Sat, 13 Apr 2019) |
| EndedAt: 2019-04-13 07:43:01 -0400 (Sat, 13 Apr 2019) |
| EllapsedTime: 20.4 seconds |
| RetCode: 0 |
| Status: OK |
| PackageFile: NormqPCR_1.28.0.zip |
| PackageFileSize: 435.9 KiB |
##############################################################################
##############################################################################
###
### Running command:
###
### rm -rf NormqPCR.buildbin-libdir && mkdir NormqPCR.buildbin-libdir && C:\Users\biocbuild\bbs-3.8-bioc\R\bin\R.exe CMD INSTALL --merge-multiarch --build --library=NormqPCR.buildbin-libdir NormqPCR_1.28.0.tar.gz
###
##############################################################################
##############################################################################
install for i386
* installing *source* package 'NormqPCR' ...
** R
** data
*** moving datasets to lazyload DB
** inst
** byte-compile and prepare package for lazy loading
** help
*** installing help indices
converting help for package 'NormqPCR'
finding HTML links ... done
Bladder html
BladderRepro html
Colon html
ComputeNRQs html
Rd warning: C:/Users/biocbuild/bbs-3.8-bioc/tmpdir/RtmpSGVCTE/R.INSTALL175866eb2fb7/NormqPCR/man/ComputeNRQs.Rd:14: file link 'qPCRBatch' in package 'ReadqPCR' does not exist and so has been treated as a topic
CqValues html
Rd warning: C:/Users/biocbuild/bbs-3.8-bioc/tmpdir/RtmpSGVCTE/R.INSTALL175866eb2fb7/NormqPCR/man/CqValues.Rd:23: file link 'CyclesSet' in package 'ReadqPCR' does not exist and so has been treated as a topic
NormqPCR-package html
combineTechReps html
combineTechRepsSD html
deltaCt html
deltaDeltaCt html
geNorm html
geomMean html
makeAllNAs html
makeAllNewVal html
replaceAboveCutOff html
replaceNAs html
selectHKs html
stabMeasureM html
stabMeasureRho html
** building package indices
** installing vignettes
** testing if installed package can be loaded
In R CMD INSTALL
install for x64
* installing *source* package 'NormqPCR' ...
** testing if installed package can be loaded
* MD5 sums
packaged installation of 'NormqPCR' as NormqPCR_1.28.0.zip
* DONE (NormqPCR)
In R CMD INSTALL
In R CMD INSTALL