| Back to Multiple platform build/check report for BioC 3.8 | 
 | 
This page was generated on 2019-04-16 11:55:38 -0400 (Tue, 16 Apr 2019).
| Package 1062/1649 | Hostname | OS / Arch | INSTALL | BUILD | CHECK | BUILD BIN | ||||||
| NormqPCR 1.28.0 James Perkins 
 | malbec1 | Linux (Ubuntu 16.04.6 LTS) / x86_64 | OK | OK | OK |  | ||||||
| merida1 | OS X 10.11.6 El Capitan / x86_64 | OK | [ OK ] | WARNINGS | OK |  | 
| Package: NormqPCR | 
| Version: 1.28.0 | 
| Command: /Library/Frameworks/R.framework/Versions/Current/Resources/bin/R CMD build --keep-empty-dirs --no-resave-data NormqPCR | 
| StartedAt: 2019-04-15 19:27:14 -0400 (Mon, 15 Apr 2019) | 
| EndedAt: 2019-04-15 19:27:35 -0400 (Mon, 15 Apr 2019) | 
| EllapsedTime: 21.1 seconds | 
| RetCode: 0 | 
| Status: OK | 
| PackageFile: NormqPCR_1.28.0.tar.gz | 
| PackageFileSize: 335.1 KiB | 
##############################################################################
##############################################################################
###
### Running command:
###
###   /Library/Frameworks/R.framework/Versions/Current/Resources/bin/R CMD build --keep-empty-dirs --no-resave-data NormqPCR
###
##############################################################################
##############################################################################
* checking for file ‘NormqPCR/DESCRIPTION’ ... OK
* preparing ‘NormqPCR’:
* checking DESCRIPTION meta-information ... OK
* installing the package to build vignettes
* creating vignettes ... OK
Warning: ‘inst/doc’ file
    ‘NormqPCR.pdf’
  ignored as vignettes have been rebuilt.
  Run R CMD build with --no-build-vignettes to prevent rebuilding.
* checking for LF line-endings in source and make files and shell scripts
* checking for empty or unneeded directories
* looking to see if a ‘data/datalist’ file should be added
* building ‘NormqPCR_1.28.0.tar.gz’