| Back to Multiple platform build/check report for BioC 3.8 |
|
This page was generated on 2019-04-13 11:26:56 -0400 (Sat, 13 Apr 2019).
| Package 987/1649 | Hostname | OS / Arch | INSTALL | BUILD | CHECK | BUILD BIN | ||||||
| MODA 1.8.0 Dong Li
| malbec1 | Linux (Ubuntu 16.04.6 LTS) / x86_64 | OK | OK | OK | |||||||
| tokay1 | Windows Server 2012 R2 Standard / x64 | OK | OK | OK | [ OK ] | |||||||
| merida1 | OS X 10.11.6 El Capitan / x86_64 | OK | OK | OK | OK |
| Package: MODA |
| Version: 1.8.0 |
| Command: rm -rf MODA.buildbin-libdir && mkdir MODA.buildbin-libdir && C:\Users\biocbuild\bbs-3.8-bioc\R\bin\R.exe CMD INSTALL --merge-multiarch --build --library=MODA.buildbin-libdir MODA_1.8.0.tar.gz |
| StartedAt: 2019-04-13 07:40:03 -0400 (Sat, 13 Apr 2019) |
| EndedAt: 2019-04-13 07:40:24 -0400 (Sat, 13 Apr 2019) |
| EllapsedTime: 21.1 seconds |
| RetCode: 0 |
| Status: OK |
| PackageFile: MODA_1.8.0.zip |
| PackageFileSize: 377 KiB |
##############################################################################
##############################################################################
###
### Running command:
###
### rm -rf MODA.buildbin-libdir && mkdir MODA.buildbin-libdir && C:\Users\biocbuild\bbs-3.8-bioc\R\bin\R.exe CMD INSTALL --merge-multiarch --build --library=MODA.buildbin-libdir MODA_1.8.0.tar.gz
###
##############################################################################
##############################################################################
install for i386
* installing *source* package 'MODA' ...
** R
** data
** inst
** byte-compile and prepare package for lazy loading
** help
*** installing help indices
converting help for package 'MODA'
finding HTML links ... done
CompareAllNets html
MIcondition html
ModuleFrequency html
NMImatrix html
PartitionDensity html
PartitionModularity html
WeightedModulePartitionAmoutain html
WeightedModulePartitionHierarchical html
WeightedModulePartitionLouvain html
WeightedModulePartitionSpectral html
comparemodulestwonets html
datExpr1 html
datExpr2 html
getPartition html
modulesRank html
recursiveigraph html
** building package indices
** installing vignettes
** testing if installed package can be loaded
In R CMD INSTALL
install for x64
* installing *source* package 'MODA' ...
** testing if installed package can be loaded
* MD5 sums
packaged installation of 'MODA' as MODA_1.8.0.zip
* DONE (MODA)
In R CMD INSTALL
In R CMD INSTALL