| Back to Multiple platform build/check report for BioC 3.8 | 
 | 
This page was generated on 2019-04-16 11:52:15 -0400 (Tue, 16 Apr 2019).
| Package 987/1649 | Hostname | OS / Arch | INSTALL | BUILD | CHECK | BUILD BIN | ||||||
| MODA 1.8.0 Dong Li 
 | malbec1 | Linux (Ubuntu 16.04.6 LTS) / x86_64 | OK | [ OK ] | OK |  | ||||||
| merida1 | OS X 10.11.6 El Capitan / x86_64 | OK | OK | OK | OK |  | 
| Package: MODA | 
| Version: 1.8.0 | 
| Command: /home/biocbuild/bbs-3.8-bioc/R/bin/R CMD build --keep-empty-dirs --no-resave-data MODA | 
| StartedAt: 2019-04-15 20:45:54 -0400 (Mon, 15 Apr 2019) | 
| EndedAt: 2019-04-15 20:45:55 -0400 (Mon, 15 Apr 2019) | 
| EllapsedTime: 1.0 seconds | 
| RetCode: 0 | 
| Status: OK | 
| PackageFile: MODA_1.8.0.tar.gz | 
| PackageFileSize: 296.2 KiB | 
############################################################################## ############################################################################## ### ### Running command: ### ### /home/biocbuild/bbs-3.8-bioc/R/bin/R CMD build --keep-empty-dirs --no-resave-data MODA ### ############################################################################## ############################################################################## * checking for file ‘MODA/DESCRIPTION’ ... OK * preparing ‘MODA’: * checking DESCRIPTION meta-information ... OK * checking for LF line-endings in source and make files and shell scripts * checking for empty or unneeded directories * looking to see if a ‘data/datalist’ file should be added * building ‘MODA_1.8.0.tar.gz’