| Back to Multiple platform build/check report for BioC 3.8 |
|
This page was generated on 2019-04-13 11:25:40 -0400 (Sat, 13 Apr 2019).
| Package 778/1649 | Hostname | OS / Arch | INSTALL | BUILD | CHECK | BUILD BIN | ||||||
| INSPEcT 1.12.2 Stefano de Pretis
| malbec1 | Linux (Ubuntu 16.04.6 LTS) / x86_64 | OK | OK | OK | |||||||
| tokay1 | Windows Server 2012 R2 Standard / x64 | OK | OK | OK | [ OK ] | |||||||
| merida1 | OS X 10.11.6 El Capitan / x86_64 | OK | OK | OK | OK |
| Package: INSPEcT |
| Version: 1.12.2 |
| Command: rm -rf INSPEcT.buildbin-libdir && mkdir INSPEcT.buildbin-libdir && C:\Users\biocbuild\bbs-3.8-bioc\R\bin\R.exe CMD INSTALL --merge-multiarch --build --library=INSPEcT.buildbin-libdir INSPEcT_1.12.2.tar.gz |
| StartedAt: 2019-04-13 07:32:03 -0400 (Sat, 13 Apr 2019) |
| EndedAt: 2019-04-13 07:33:36 -0400 (Sat, 13 Apr 2019) |
| EllapsedTime: 93.6 seconds |
| RetCode: 0 |
| Status: OK |
| PackageFile: INSPEcT_1.12.2.zip |
| PackageFileSize: 4.97 MiB |
##############################################################################
##############################################################################
###
### Running command:
###
### rm -rf INSPEcT.buildbin-libdir && mkdir INSPEcT.buildbin-libdir && C:\Users\biocbuild\bbs-3.8-bioc\R\bin\R.exe CMD INSTALL --merge-multiarch --build --library=INSPEcT.buildbin-libdir INSPEcT_1.12.2.tar.gz
###
##############################################################################
##############################################################################
install for i386
* installing *source* package 'INSPEcT' ...
** R
** data
** inst
** byte-compile and prepare package for lazy loading
** help
*** installing help indices
converting help for package 'INSPEcT'
finding HTML links ... done
AIC-INSPEcT-method html
Extract html
INSPEcT-class html
finding level-2 HTML links ... done
INSPEcT-shinyApps html
INSPEcT html
INSPEcT_diffsteady-class html
INSPEcT_model-class html
allcounts html
chisqmodel html
chisqtest html
combine html
compareSteady html
compareSteadyNoNascent html
dim-INSPEcT-method html
featureNames-INSPEcT-method html
featureWidths html
geneClass html
getModel html
inHeatmap html
labeledSF html
libsizes html
logLik html
makeModelRates html
makeSimDataset html
makeSimModel html
modelRates html
modelSelection html
modelingParams html
nGenes html
nTpts html
newINSPEcT html
plotGene html
plotMA html
processingDelay html
quantifyExpressionsFromBAMs html
quantifyExpressionsFromTrAbundance html
quantifyExpressionsFromTrCounts html
ratePvals html
ratesFirstGuess html
ratesFirstGuessVar html
removeModel html
rocCurve html
rocThresholds html
sfPlot html
simData3rep_Nascent html
simData3rep_NoNascent html
simData4rep_Nascent html
simData4rep_NoNascent html
split html
tpts html
viewModelRates html
** building package indices
** installing vignettes
** testing if installed package can be loaded
In R CMD INSTALL
install for x64
* installing *source* package 'INSPEcT' ...
** testing if installed package can be loaded
* MD5 sums
packaged installation of 'INSPEcT' as INSPEcT_1.12.2.zip
* DONE (INSPEcT)
In R CMD INSTALL
In R CMD INSTALL