| Back to Multiple platform build/check report for BioC 3.8 | 
 | 
This page was generated on 2019-04-16 11:57:26 -0400 (Tue, 16 Apr 2019).
| Package 620/1649 | Hostname | OS / Arch | INSTALL | BUILD | CHECK | BUILD BIN | ||||||
| GenomeInfoDb 1.18.2 Bioconductor Package Maintainer 
 | malbec1 | Linux (Ubuntu 16.04.6 LTS) / x86_64 | OK | OK | OK |  | ||||||
| merida1 | OS X 10.11.6 El Capitan / x86_64 | OK | OK | OK | [ OK ] |  | 
| Package: GenomeInfoDb | 
| Version: 1.18.2 | 
| Command: rm -rf GenomeInfoDb.buildbin-libdir && mkdir GenomeInfoDb.buildbin-libdir && /Users/biocbuild/BBS/utils/build-universal.sh GenomeInfoDb_1.18.2.tar.gz /Library/Frameworks/R.framework/Versions/Current/Resources/bin/R GenomeInfoDb.buildbin-libdir | 
| StartedAt: 2019-04-16 04:07:32 -0400 (Tue, 16 Apr 2019) | 
| EndedAt: 2019-04-16 04:08:13 -0400 (Tue, 16 Apr 2019) | 
| EllapsedTime: 41.3 seconds | 
| RetCode: 0 | 
| Status: OK | 
| PackageFile: GenomeInfoDb_1.18.2.tgz | 
| PackageFileSize: 3.626 MiB | 
############################################################################## ############################################################################## ### ### Running command: ### ### rm -rf GenomeInfoDb.buildbin-libdir && mkdir GenomeInfoDb.buildbin-libdir && /Users/biocbuild/BBS/utils/build-universal.sh GenomeInfoDb_1.18.2.tar.gz /Library/Frameworks/R.framework/Versions/Current/Resources/bin/R GenomeInfoDb.buildbin-libdir ### ############################################################################## ############################################################################## >>>>>>> >>>>>>> INSTALLATION WITH 'R CMD INSTALL --preclean --no-multiarch --library=GenomeInfoDb.buildbin-libdir GenomeInfoDb_1.18.2.tar.gz' >>>>>>> * installing *source* package ‘GenomeInfoDb’ ... ** R ** inst ** byte-compile and prepare package for lazy loading ** help *** installing help indices ** building package indices ** installing vignettes ** testing if installed package can be loaded * DONE (GenomeInfoDb)