| Back to Multiple platform build/check report for BioC 3.8 | 
 | 
This page was generated on 2019-04-16 11:50:22 -0400 (Tue, 16 Apr 2019).
| Package 620/1649 | Hostname | OS / Arch | INSTALL | BUILD | CHECK | BUILD BIN | ||||||
| GenomeInfoDb 1.18.2 Bioconductor Package Maintainer 
 | malbec1 | Linux (Ubuntu 16.04.6 LTS) / x86_64 | OK | [ OK ] | OK |  | ||||||
| merida1 | OS X 10.11.6 El Capitan / x86_64 | OK | OK | OK | OK |  | 
| Package: GenomeInfoDb | 
| Version: 1.18.2 | 
| Command: /home/biocbuild/bbs-3.8-bioc/R/bin/R CMD build --keep-empty-dirs --no-resave-data GenomeInfoDb | 
| StartedAt: 2019-04-15 19:40:03 -0400 (Mon, 15 Apr 2019) | 
| EndedAt: 2019-04-15 19:40:27 -0400 (Mon, 15 Apr 2019) | 
| EllapsedTime: 24.1 seconds | 
| RetCode: 0 | 
| Status: OK | 
| PackageFile: GenomeInfoDb_1.18.2.tar.gz | 
| PackageFileSize: 3.247 MiB | 
############################################################################## ############################################################################## ### ### Running command: ### ### /home/biocbuild/bbs-3.8-bioc/R/bin/R CMD build --keep-empty-dirs --no-resave-data GenomeInfoDb ### ############################################################################## ############################################################################## * checking for file ‘GenomeInfoDb/DESCRIPTION’ ... OK * preparing ‘GenomeInfoDb’: * checking DESCRIPTION meta-information ... OK * installing the package to build vignettes * creating vignettes ... OK * checking for LF line-endings in source and make files and shell scripts * checking for empty or unneeded directories * building ‘GenomeInfoDb_1.18.2.tar.gz’