| Back to Multiple platform build/check report for BioC 3.8 | 
 | 
This page was generated on 2019-04-16 11:56:05 -0400 (Tue, 16 Apr 2019).
| Package 455/1649 | Hostname | OS / Arch | INSTALL | BUILD | CHECK | BUILD BIN | ||||||
| EDASeq 2.16.3 Davide Risso 
 | malbec1 | Linux (Ubuntu 16.04.6 LTS) / x86_64 | OK | OK | OK |  | ||||||
| merida1 | OS X 10.11.6 El Capitan / x86_64 | OK | OK | OK | [ OK ] |  | 
| Package: EDASeq | 
| Version: 2.16.3 | 
| Command: rm -rf EDASeq.buildbin-libdir && mkdir EDASeq.buildbin-libdir && /Users/biocbuild/BBS/utils/build-universal.sh EDASeq_2.16.3.tar.gz /Library/Frameworks/R.framework/Versions/Current/Resources/bin/R EDASeq.buildbin-libdir | 
| StartedAt: 2019-04-16 03:59:32 -0400 (Tue, 16 Apr 2019) | 
| EndedAt: 2019-04-16 04:00:17 -0400 (Tue, 16 Apr 2019) | 
| EllapsedTime: 45.0 seconds | 
| RetCode: 0 | 
| Status: OK | 
| PackageFile: EDASeq_2.16.3.tgz | 
| PackageFileSize: 1.831 MiB | 
############################################################################## ############################################################################## ### ### Running command: ### ### rm -rf EDASeq.buildbin-libdir && mkdir EDASeq.buildbin-libdir && /Users/biocbuild/BBS/utils/build-universal.sh EDASeq_2.16.3.tar.gz /Library/Frameworks/R.framework/Versions/Current/Resources/bin/R EDASeq.buildbin-libdir ### ############################################################################## ############################################################################## >>>>>>> >>>>>>> INSTALLATION WITH 'R CMD INSTALL --preclean --no-multiarch --library=EDASeq.buildbin-libdir EDASeq_2.16.3.tar.gz' >>>>>>> * installing *source* package ‘EDASeq’ ... ** R ** data ** inst ** byte-compile and prepare package for lazy loading ** help *** installing help indices ** building package indices ** installing vignettes ** testing if installed package can be loaded * DONE (EDASeq)