| Back to Multiple platform build/check report for BioC 3.8 | 
 | 
This page was generated on 2019-04-16 11:49:22 -0400 (Tue, 16 Apr 2019).
| Package 455/1649 | Hostname | OS / Arch | INSTALL | BUILD | CHECK | BUILD BIN | ||||||
| EDASeq 2.16.3 Davide Risso 
 | malbec1 | Linux (Ubuntu 16.04.6 LTS) / x86_64 | [ OK ] | OK | OK |  | ||||||
| merida1 | OS X 10.11.6 El Capitan / x86_64 | OK | OK | OK | OK |  | 
| Package: EDASeq | 
| Version: 2.16.3 | 
| Command: /home/biocbuild/bbs-3.8-bioc/R/bin/R CMD INSTALL EDASeq | 
| StartedAt: 2019-04-15 18:18:13 -0400 (Mon, 15 Apr 2019) | 
| EndedAt: 2019-04-15 18:18:43 -0400 (Mon, 15 Apr 2019) | 
| EllapsedTime: 29.6 seconds | 
| RetCode: 0 | 
| Status: OK | 
############################################################################## ############################################################################## ### ### Running command: ### ### /home/biocbuild/bbs-3.8-bioc/R/bin/R CMD INSTALL EDASeq ### ############################################################################## ############################################################################## * installing to library ‘/home/biocbuild/bbs-3.8-bioc/R/library’ * installing *source* package ‘EDASeq’ ... ** R ** data ** inst ** byte-compile and prepare package for lazy loading ** help *** installing help indices ** building package indices ** installing vignettes ** testing if installed package can be loaded * DONE (EDASeq)