| Back to Multiple platform build/check report for BioC 3.8 | 
 | 
This page was generated on 2019-04-16 11:52:29 -0400 (Tue, 16 Apr 2019).
| Package 388/1649 | Hostname | OS / Arch | INSTALL | BUILD | CHECK | BUILD BIN | ||||||
| DelayedArray 0.8.0 Hervé Pagès 
 | malbec1 | Linux (Ubuntu 16.04.6 LTS) / x86_64 | OK | [ OK ] | WARNINGS |  | ||||||
| merida1 | OS X 10.11.6 El Capitan / x86_64 | OK | OK | WARNINGS | OK |  | 
| Package: DelayedArray | 
| Version: 0.8.0 | 
| Command: /home/biocbuild/bbs-3.8-bioc/R/bin/R CMD build --keep-empty-dirs --no-resave-data DelayedArray | 
| StartedAt: 2019-04-15 21:03:07 -0400 (Mon, 15 Apr 2019) | 
| EndedAt: 2019-04-15 21:11:35 -0400 (Mon, 15 Apr 2019) | 
| EllapsedTime: 507.7 seconds | 
| RetCode: 0 | 
| Status: OK | 
| PackageFile: DelayedArray_0.8.0.tar.gz | 
| PackageFileSize: 523.9 KiB | 
############################################################################## ############################################################################## ### ### Running command: ### ### /home/biocbuild/bbs-3.8-bioc/R/bin/R CMD build --keep-empty-dirs --no-resave-data DelayedArray ### ############################################################################## ############################################################################## * checking for file ‘DelayedArray/DESCRIPTION’ ... OK * preparing ‘DelayedArray’: * checking DESCRIPTION meta-information ... OK * cleaning src * installing the package to build vignettes * creating vignettes ... OK * cleaning src * excluding invalid files Subdirectory 'inst/doc' contains invalid file names: ‘02-Implementing_a_backend.Rmd’ ‘01-Working_with_large_arrays.Rnw’ ‘02-Implementing_a_backend.html’ ‘01-Working_with_large_arrays.pdf’ * checking for LF line-endings in source and make files and shell scripts * checking for empty or unneeded directories * building ‘DelayedArray_0.8.0.tar.gz’