| Back to Multiple platform build/check report for BioC 3.8 | 
 | 
This page was generated on 2019-04-16 12:00:29 -0400 (Tue, 16 Apr 2019).
| Package 368/1649 | Hostname | OS / Arch | INSTALL | BUILD | CHECK | BUILD BIN | ||||||
| DaMiRseq 1.6.2 Mattia Chiesa 
 | malbec1 | Linux (Ubuntu 16.04.6 LTS) / x86_64 | OK | OK | OK |  | ||||||
| merida1 | OS X 10.11.6 El Capitan / x86_64 | OK | OK | OK | [ OK ] |  | 
| Package: DaMiRseq | 
| Version: 1.6.2 | 
| Command: rm -rf DaMiRseq.buildbin-libdir && mkdir DaMiRseq.buildbin-libdir && /Users/biocbuild/BBS/utils/build-universal.sh DaMiRseq_1.6.2.tar.gz /Library/Frameworks/R.framework/Versions/Current/Resources/bin/R DaMiRseq.buildbin-libdir | 
| StartedAt: 2019-04-16 03:55:21 -0400 (Tue, 16 Apr 2019) | 
| EndedAt: 2019-04-16 03:56:01 -0400 (Tue, 16 Apr 2019) | 
| EllapsedTime: 40.2 seconds | 
| RetCode: 0 | 
| Status: OK | 
| PackageFile: DaMiRseq_1.6.2.tgz | 
| PackageFileSize: 6.219 MiB | 
############################################################################## ############################################################################## ### ### Running command: ### ### rm -rf DaMiRseq.buildbin-libdir && mkdir DaMiRseq.buildbin-libdir && /Users/biocbuild/BBS/utils/build-universal.sh DaMiRseq_1.6.2.tar.gz /Library/Frameworks/R.framework/Versions/Current/Resources/bin/R DaMiRseq.buildbin-libdir ### ############################################################################## ############################################################################## >>>>>>> >>>>>>> INSTALLATION WITH 'R CMD INSTALL --preclean --no-multiarch --library=DaMiRseq.buildbin-libdir DaMiRseq_1.6.2.tar.gz' >>>>>>> * installing *source* package ‘DaMiRseq’ ... ** R ** data *** moving datasets to lazyload DB ** inst ** byte-compile and prepare package for lazy loading ** help *** installing help indices ** building package indices ** installing vignettes ** testing if installed package can be loaded * DONE (DaMiRseq)