| Back to Multiple platform build/check report for BioC 3.8 | 
 | 
This page was generated on 2019-04-16 11:52:40 -0400 (Tue, 16 Apr 2019).
| Package 368/1649 | Hostname | OS / Arch | INSTALL | BUILD | CHECK | BUILD BIN | ||||||
| DaMiRseq 1.6.2 Mattia Chiesa 
 | malbec1 | Linux (Ubuntu 16.04.6 LTS) / x86_64 | OK | [ OK ] | OK |  | ||||||
| merida1 | OS X 10.11.6 El Capitan / x86_64 | OK | OK | OK | OK |  | 
| Package: DaMiRseq | 
| Version: 1.6.2 | 
| Command: /home/biocbuild/bbs-3.8-bioc/R/bin/R CMD build --keep-empty-dirs --no-resave-data DaMiRseq | 
| StartedAt: 2019-04-15 21:16:08 -0400 (Mon, 15 Apr 2019) | 
| EndedAt: 2019-04-15 21:25:11 -0400 (Mon, 15 Apr 2019) | 
| EllapsedTime: 543.6 seconds | 
| RetCode: 0 | 
| Status: OK | 
| PackageFile: DaMiRseq_1.6.2.tar.gz | 
| PackageFileSize: 3.274 MiB | 
############################################################################## ############################################################################## ### ### Running command: ### ### /home/biocbuild/bbs-3.8-bioc/R/bin/R CMD build --keep-empty-dirs --no-resave-data DaMiRseq ### ############################################################################## ############################################################################## * checking for file ‘DaMiRseq/DESCRIPTION’ ... OK * preparing ‘DaMiRseq’: * checking DESCRIPTION meta-information ... OK * installing the package to build vignettes * creating vignettes ... OK * checking for LF line-endings in source and make files and shell scripts * checking for empty or unneeded directories * looking to see if a ‘data/datalist’ file should be added * building ‘DaMiRseq_1.6.2.tar.gz’