| Back to Multiple platform build/check report for BioC 3.8 |
|
This page was generated on 2019-04-13 11:23:16 -0400 (Sat, 13 Apr 2019).
| Package 225/1649 | Hostname | OS / Arch | INSTALL | BUILD | CHECK | BUILD BIN | ||||||
| CexoR 1.20.0 Pedro Madrigal
| malbec1 | Linux (Ubuntu 16.04.6 LTS) / x86_64 | OK | OK | OK | |||||||
| tokay1 | Windows Server 2012 R2 Standard / x64 | OK | OK | OK | [ OK ] | |||||||
| merida1 | OS X 10.11.6 El Capitan / x86_64 | OK | OK | OK | OK |
| Package: CexoR |
| Version: 1.20.0 |
| Command: rm -rf CexoR.buildbin-libdir && mkdir CexoR.buildbin-libdir && C:\Users\biocbuild\bbs-3.8-bioc\R\bin\R.exe CMD INSTALL --merge-multiarch --build --library=CexoR.buildbin-libdir CexoR_1.20.0.tar.gz |
| StartedAt: 2019-04-13 07:01:45 -0400 (Sat, 13 Apr 2019) |
| EndedAt: 2019-04-13 07:02:24 -0400 (Sat, 13 Apr 2019) |
| EllapsedTime: 38.7 seconds |
| RetCode: 0 |
| Status: OK |
| PackageFile: CexoR_1.20.0.zip |
| PackageFileSize: 1.693 MiB |
##############################################################################
##############################################################################
###
### Running command:
###
### rm -rf CexoR.buildbin-libdir && mkdir CexoR.buildbin-libdir && C:\Users\biocbuild\bbs-3.8-bioc\R\bin\R.exe CMD INSTALL --merge-multiarch --build --library=CexoR.buildbin-libdir CexoR_1.20.0.tar.gz
###
##############################################################################
##############################################################################
install for i386
* installing *source* package 'CexoR' ...
** R
** inst
** byte-compile and prepare package for lazy loading
** help
*** installing help indices
converting help for package 'CexoR'
finding HTML links ... done
CexoR-internal html
CexoR-package html
cexor html
plotcexor html
** building package indices
** installing vignettes
** testing if installed package can be loaded
In R CMD INSTALL
install for x64
* installing *source* package 'CexoR' ...
** testing if installed package can be loaded
* MD5 sums
packaged installation of 'CexoR' as CexoR_1.20.0.zip
* DONE (CexoR)
In R CMD INSTALL
In R CMD INSTALL