| Back to Multiple platform build/check report for BioC 3.8 | 
  | 
This page was generated on 2019-04-16 11:57:11 -0400 (Tue, 16 Apr 2019).
| Package 225/1649 | Hostname | OS / Arch | INSTALL | BUILD | CHECK | BUILD BIN | ||||||
| CexoR 1.20.0 Pedro Madrigal 
  | malbec1 | Linux (Ubuntu 16.04.6 LTS) / x86_64 | OK | OK | OK | |||||||
| merida1 | OS X 10.11.6 El Capitan / x86_64 | OK | OK | OK | [ OK ] | 
| Package: CexoR | 
| Version: 1.20.0 | 
| Command: rm -rf CexoR.buildbin-libdir && mkdir CexoR.buildbin-libdir && /Users/biocbuild/BBS/utils/build-universal.sh CexoR_1.20.0.tar.gz /Library/Frameworks/R.framework/Versions/Current/Resources/bin/R CexoR.buildbin-libdir | 
| StartedAt: 2019-04-16 03:48:51 -0400 (Tue, 16 Apr 2019) | 
| EndedAt: 2019-04-16 03:49:36 -0400 (Tue, 16 Apr 2019) | 
| EllapsedTime: 44.4 seconds | 
| RetCode: 0 | 
| Status: OK | 
| PackageFile: CexoR_1.20.0.tgz | 
| PackageFileSize: 1.683 MiB | 
############################################################################## ############################################################################## ### ### Running command: ### ### rm -rf CexoR.buildbin-libdir && mkdir CexoR.buildbin-libdir && /Users/biocbuild/BBS/utils/build-universal.sh CexoR_1.20.0.tar.gz /Library/Frameworks/R.framework/Versions/Current/Resources/bin/R CexoR.buildbin-libdir ### ############################################################################## ############################################################################## >>>>>>> >>>>>>> INSTALLATION WITH 'R CMD INSTALL --preclean --no-multiarch --library=CexoR.buildbin-libdir CexoR_1.20.0.tar.gz' >>>>>>> * installing *source* package ‘CexoR’ ... ** R ** inst ** byte-compile and prepare package for lazy loading ** help *** installing help indices ** building package indices ** installing vignettes ** testing if installed package can be loaded * DONE (CexoR)