| Back to Multiple platform build/check report for BioC 3.8 |
|
This page was generated on 2019-04-13 11:24:46 -0400 (Sat, 13 Apr 2019).
| Package 302/1649 | Hostname | OS / Arch | INSTALL | BUILD | CHECK | BUILD BIN | ||||||
| CODEX 1.14.1 Yuchao Jiang
| malbec1 | Linux (Ubuntu 16.04.6 LTS) / x86_64 | OK | OK | OK | |||||||
| tokay1 | Windows Server 2012 R2 Standard / x64 | OK | OK | OK | [ OK ] | |||||||
| merida1 | OS X 10.11.6 El Capitan / x86_64 | OK | OK | OK | OK |
| Package: CODEX |
| Version: 1.14.1 |
| Command: rm -rf CODEX.buildbin-libdir && mkdir CODEX.buildbin-libdir && C:\Users\biocbuild\bbs-3.8-bioc\R\bin\R.exe CMD INSTALL --merge-multiarch --build --library=CODEX.buildbin-libdir CODEX_1.14.1.tar.gz |
| StartedAt: 2019-04-13 07:05:32 -0400 (Sat, 13 Apr 2019) |
| EndedAt: 2019-04-13 07:06:08 -0400 (Sat, 13 Apr 2019) |
| EllapsedTime: 36.4 seconds |
| RetCode: 0 |
| Status: OK |
| PackageFile: CODEX_1.14.1.zip |
| PackageFileSize: 1.345 MiB |
##############################################################################
##############################################################################
###
### Running command:
###
### rm -rf CODEX.buildbin-libdir && mkdir CODEX.buildbin-libdir && C:\Users\biocbuild\bbs-3.8-bioc\R\bin\R.exe CMD INSTALL --merge-multiarch --build --library=CODEX.buildbin-libdir CODEX_1.14.1.tar.gz
###
##############################################################################
##############################################################################
install for i386
* installing *source* package 'CODEX' ...
** R
** data
*** moving datasets to lazyload DB
** inst
** byte-compile and prepare package for lazy loading
** help
*** installing help indices
converting help for package 'CODEX'
finding HTML links ... done
CODEX-package html
bambedObjDemo html
choiceofK html
coverageObjDemo html
gcDemo html
getbambed html
getcoverage html
getgc html
getmapp html
mappDemo html
mapp_ref html
mappability html
normObjDemo html
normalize html
normalize2 html
qc html
qcObjDemo html
segment html
** building package indices
** installing vignettes
** testing if installed package can be loaded
In R CMD INSTALL
install for x64
* installing *source* package 'CODEX' ...
** testing if installed package can be loaded
* MD5 sums
packaged installation of 'CODEX' as CODEX_1.14.1.zip
* DONE (CODEX)
In R CMD INSTALL
In R CMD INSTALL