| Back to Multiple platform build/check report for BioC 3.8 | 
 | 
This page was generated on 2019-04-16 11:58:15 -0400 (Tue, 16 Apr 2019).
| Package 302/1649 | Hostname | OS / Arch | INSTALL | BUILD | CHECK | BUILD BIN | ||||||
| CODEX 1.14.1 Yuchao Jiang 
 | malbec1 | Linux (Ubuntu 16.04.6 LTS) / x86_64 | OK | OK | OK |  | ||||||
| merida1 | OS X 10.11.6 El Capitan / x86_64 | OK | OK | OK | [ OK ] |  | 
| Package: CODEX | 
| Version: 1.14.1 | 
| Command: rm -rf CODEX.buildbin-libdir && mkdir CODEX.buildbin-libdir && /Users/biocbuild/BBS/utils/build-universal.sh CODEX_1.14.1.tar.gz /Library/Frameworks/R.framework/Versions/Current/Resources/bin/R CODEX.buildbin-libdir | 
| StartedAt: 2019-04-16 03:52:26 -0400 (Tue, 16 Apr 2019) | 
| EndedAt: 2019-04-16 03:53:09 -0400 (Tue, 16 Apr 2019) | 
| EllapsedTime: 43.6 seconds | 
| RetCode: 0 | 
| Status: OK | 
| PackageFile: CODEX_1.14.1.tgz | 
| PackageFileSize: 1.328 MiB | 
############################################################################## ############################################################################## ### ### Running command: ### ### rm -rf CODEX.buildbin-libdir && mkdir CODEX.buildbin-libdir && /Users/biocbuild/BBS/utils/build-universal.sh CODEX_1.14.1.tar.gz /Library/Frameworks/R.framework/Versions/Current/Resources/bin/R CODEX.buildbin-libdir ### ############################################################################## ############################################################################## >>>>>>> >>>>>>> INSTALLATION WITH 'R CMD INSTALL --preclean --no-multiarch --library=CODEX.buildbin-libdir CODEX_1.14.1.tar.gz' >>>>>>> * installing *source* package ‘CODEX’ ... ** R ** data *** moving datasets to lazyload DB ** inst ** byte-compile and prepare package for lazy loading ** help *** installing help indices ** building package indices ** installing vignettes ** testing if installed package can be loaded * DONE (CODEX)