| Back to Multiple platform build/check report for BioC 3.8 |
|
This page was generated on 2019-04-13 11:20:31 -0400 (Sat, 13 Apr 2019).
| Package 229/1649 | Hostname | OS / Arch | INSTALL | BUILD | CHECK | BUILD BIN | ||||||
| CGHcall 2.44.0 Mark van de Wiel
| malbec1 | Linux (Ubuntu 16.04.6 LTS) / x86_64 | OK | OK | OK | |||||||
| tokay1 | Windows Server 2012 R2 Standard / x64 | OK | OK | OK | [ OK ] | |||||||
| merida1 | OS X 10.11.6 El Capitan / x86_64 | OK | OK | OK | OK |
| Package: CGHcall |
| Version: 2.44.0 |
| Command: rm -rf CGHcall.buildbin-libdir && mkdir CGHcall.buildbin-libdir && C:\Users\biocbuild\bbs-3.8-bioc\R\bin\R.exe CMD INSTALL --merge-multiarch --build --library=CGHcall.buildbin-libdir CGHcall_2.44.0.tar.gz |
| StartedAt: 2019-04-13 07:01:56 -0400 (Sat, 13 Apr 2019) |
| EndedAt: 2019-04-13 07:02:11 -0400 (Sat, 13 Apr 2019) |
| EllapsedTime: 15.0 seconds |
| RetCode: 0 |
| Status: OK |
| PackageFile: CGHcall_2.44.0.zip |
| PackageFileSize: 446.3 KiB |
##############################################################################
##############################################################################
###
### Running command:
###
### rm -rf CGHcall.buildbin-libdir && mkdir CGHcall.buildbin-libdir && C:\Users\biocbuild\bbs-3.8-bioc\R\bin\R.exe CMD INSTALL --merge-multiarch --build --library=CGHcall.buildbin-libdir CGHcall_2.44.0.tar.gz
###
##############################################################################
##############################################################################
install for i386
* installing *source* package 'CGHcall' ...
** R
** data
** inst
** byte-compile and prepare package for lazy loading
** help
*** installing help indices
converting help for package 'CGHcall'
finding HTML links ... done
CGHcall-package html
CGHcall html
finding level-2 HTML links ... done
ExpandCGHcall html
Wilting html
normalize html
postsegnormalize html
preprocess html
segmentData html
** building package indices
** installing vignettes
** testing if installed package can be loaded
In R CMD INSTALL
install for x64
* installing *source* package 'CGHcall' ...
** testing if installed package can be loaded
* MD5 sums
packaged installation of 'CGHcall' as CGHcall_2.44.0.zip
* DONE (CGHcall)
In R CMD INSTALL
In R CMD INSTALL