| Back to Multiple platform build/check report for BioC 3.8 | 
 | 
This page was generated on 2019-04-16 11:54:41 -0400 (Tue, 16 Apr 2019).
| Package 229/1649 | Hostname | OS / Arch | INSTALL | BUILD | CHECK | BUILD BIN | ||||||
| CGHcall 2.44.0 Mark van de Wiel 
 | malbec1 | Linux (Ubuntu 16.04.6 LTS) / x86_64 | OK | OK | OK |  | ||||||
| merida1 | OS X 10.11.6 El Capitan / x86_64 | OK | OK | OK | [ OK ] |  | 
| Package: CGHcall | 
| Version: 2.44.0 | 
| Command: rm -rf CGHcall.buildbin-libdir && mkdir CGHcall.buildbin-libdir && /Users/biocbuild/BBS/utils/build-universal.sh CGHcall_2.44.0.tar.gz /Library/Frameworks/R.framework/Versions/Current/Resources/bin/R CGHcall.buildbin-libdir | 
| StartedAt: 2019-04-16 03:49:03 -0400 (Tue, 16 Apr 2019) | 
| EndedAt: 2019-04-16 03:49:50 -0400 (Tue, 16 Apr 2019) | 
| EllapsedTime: 46.9 seconds | 
| RetCode: 0 | 
| Status: OK | 
| PackageFile: CGHcall_2.44.0.tgz | 
| PackageFileSize: 439.6 KiB | 
############################################################################## ############################################################################## ### ### Running command: ### ### rm -rf CGHcall.buildbin-libdir && mkdir CGHcall.buildbin-libdir && /Users/biocbuild/BBS/utils/build-universal.sh CGHcall_2.44.0.tar.gz /Library/Frameworks/R.framework/Versions/Current/Resources/bin/R CGHcall.buildbin-libdir ### ############################################################################## ############################################################################## >>>>>>> >>>>>>> INSTALLATION WITH 'R CMD INSTALL --preclean --no-multiarch --library=CGHcall.buildbin-libdir CGHcall_2.44.0.tar.gz' >>>>>>> * installing *source* package ‘CGHcall’ ... ** R ** data ** inst ** byte-compile and prepare package for lazy loading ** help *** installing help indices ** building package indices ** installing vignettes ** testing if installed package can be loaded * DONE (CGHcall)