| Back to Multiple platform build/check report for BioC 3.8 | 
 | 
This page was generated on 2019-04-16 11:58:21 -0400 (Tue, 16 Apr 2019).
| Package 182/1649 | Hostname | OS / Arch | INSTALL | BUILD | CHECK | BUILD BIN | ||||||
| BubbleTree 2.12.0 Todd Creasy 
 | malbec1 | Linux (Ubuntu 16.04.6 LTS) / x86_64 | OK | OK | OK |  | ||||||
| merida1 | OS X 10.11.6 El Capitan / x86_64 | OK | OK | [ OK ] | OK |  | 
| Package: BubbleTree | 
| Version: 2.12.0 | 
| Command: /Library/Frameworks/R.framework/Versions/Current/Resources/bin/R CMD check --install=check:BubbleTree.install-out.txt --library=/Library/Frameworks/R.framework/Versions/Current/Resources/library --no-vignettes --timings BubbleTree_2.12.0.tar.gz | 
| StartedAt: 2019-04-15 22:42:26 -0400 (Mon, 15 Apr 2019) | 
| EndedAt: 2019-04-15 22:48:30 -0400 (Mon, 15 Apr 2019) | 
| EllapsedTime: 364.1 seconds | 
| RetCode: 0 | 
| Status: OK | 
| CheckDir: BubbleTree.Rcheck | 
| Warnings: 0 | 
##############################################################################
##############################################################################
###
### Running command:
###
###   /Library/Frameworks/R.framework/Versions/Current/Resources/bin/R CMD check --install=check:BubbleTree.install-out.txt --library=/Library/Frameworks/R.framework/Versions/Current/Resources/library --no-vignettes --timings BubbleTree_2.12.0.tar.gz
###
##############################################################################
##############################################################################
* using log directory ‘/Users/biocbuild/bbs-3.8-bioc/meat/BubbleTree.Rcheck’
* using R version 3.5.3 (2019-03-11)
* using platform: x86_64-apple-darwin15.6.0 (64-bit)
* using session charset: UTF-8
* using option ‘--no-vignettes’
* checking for file ‘BubbleTree/DESCRIPTION’ ... OK
* checking extension type ... Package
* this is package ‘BubbleTree’ version ‘2.12.0’
* checking package namespace information ... OK
* checking package dependencies ... OK
* checking if this is a source package ... OK
* checking if there is a namespace ... OK
* checking for hidden files and directories ... OK
* checking for portable file names ... OK
* checking for sufficient/correct file permissions ... OK
* checking whether package ‘BubbleTree’ can be installed ... OK
* checking installed package size ... NOTE
  installed size is 23.8Mb
  sub-directories of 1Mb or more:
    data  23.4Mb
* checking package directory ... OK
* checking ‘build’ directory ... OK
* checking DESCRIPTION meta-information ...It is recommended to use ‘given’ instead of ‘middle’.
 OK
* checking top-level files ... OK
* checking for left-over files ... OK
* checking index information ... OK
* checking package subdirectories ... OK
* checking R files for non-ASCII characters ... OK
* checking R files for syntax errors ... OK
* checking whether the package can be loaded ... OK
* checking whether the package can be loaded with stated dependencies ... OK
* checking whether the package can be unloaded cleanly ... OK
* checking whether the namespace can be loaded with stated dependencies ... OK
* checking whether the namespace can be unloaded cleanly ... OK
* checking dependencies in R code ... OK
* checking S3 generic/method consistency ... OK
* checking replacement functions ... OK
* checking foreign function calls ... OK
* checking R code for possible problems ... NOTE
annoByOverlap,Annotate: no visible binding for global variable
  'queryHits'
Undefined global functions or variables:
  queryHits
* checking Rd files ... OK
* checking Rd metadata ... OK
* checking Rd cross-references ... OK
* checking for missing documentation entries ... OK
* checking for code/documentation mismatches ... OK
* checking Rd \usage sections ... OK
* checking Rd contents ... OK
* checking for unstated dependencies in examples ... OK
* checking contents of ‘data’ directory ... OK
* checking data for non-ASCII characters ... OK
* checking data for ASCII and uncompressed saves ... OK
* checking files in ‘vignettes’ ... OK
* checking examples ... OK
Examples with CPU or elapsed time > 5s
                  user system elapsed
makeRBD         26.515  0.097  27.093
heteroLociTrack  6.361  0.343   6.764
info             5.510  0.081   5.650
* checking for unstated dependencies in vignettes ... OK
* checking package vignettes in ‘inst/doc’ ... OK
* checking running R code from vignettes ... SKIPPED
* checking re-building of vignette outputs ... SKIPPED
* checking PDF version of manual ... OK
* DONE
Status: 2 NOTEs
See
  ‘/Users/biocbuild/bbs-3.8-bioc/meat/BubbleTree.Rcheck/00check.log’
for details.
BubbleTree.Rcheck/00install.out
############################################################################## ############################################################################## ### ### Running command: ### ### /Library/Frameworks/R.framework/Versions/Current/Resources/bin/R CMD INSTALL BubbleTree ### ############################################################################## ############################################################################## * installing to library ‘/Library/Frameworks/R.framework/Versions/3.5/Resources/library’ * installing *source* package ‘BubbleTree’ ... It is recommended to use ‘given’ instead of ‘middle’. ** R ** data ** inst ** byte-compile and prepare package for lazy loading ** help *** installing help indices ** building package indices ** installing vignettes ** testing if installed package can be loaded * DONE (BubbleTree)
BubbleTree.Rcheck/BubbleTree-Ex.timings
| name | user | system | elapsed | |
| Annotate | 0.000 | 0.000 | 0.001 | |
| BTreePlotter | 0.105 | 0.016 | 0.122 | |
| BTreePredictor | 0.006 | 0.001 | 0.007 | |
| RBD | 0 | 0 | 0 | |
| RscoreTrack | 0.589 | 0.038 | 0.629 | |
| TrackPlotter | 0.001 | 0.000 | 0.000 | |
| annoByGenesAndCyto | 0.610 | 0.045 | 0.656 | |
| bafTrack | 0.301 | 0.021 | 0.325 | |
| btcompare | 0.003 | 0.012 | 0.014 | |
| btpredict | 4.056 | 0.093 | 4.176 | |
| drawBTree | 0.337 | 0.032 | 0.370 | |
| drawBubbles | 0.332 | 0.011 | 0.344 | |
| drawFeatures | 1.594 | 0.034 | 1.641 | |
| getTracks | 1.582 | 0.027 | 1.617 | |
| heteroLociTrack | 6.361 | 0.343 | 6.764 | |
| info | 5.510 | 0.081 | 5.650 | |
| loadRBD | 0.030 | 0.002 | 0.032 | |
| makeRBD | 26.515 | 0.097 | 27.093 | |
| saveXLS | 0.542 | 0.139 | 0.702 | |
| trackBTree | 0.356 | 0.013 | 0.370 | |
| xyTrack | 0.253 | 0.020 | 0.276 | |