| Back to Multiple platform build/check report for BioC 3.8 | 
 | 
This page was generated on 2019-04-16 11:51:06 -0400 (Tue, 16 Apr 2019).
| Package 182/1649 | Hostname | OS / Arch | INSTALL | BUILD | CHECK | BUILD BIN | ||||||
| BubbleTree 2.12.0 Todd Creasy 
 | malbec1 | Linux (Ubuntu 16.04.6 LTS) / x86_64 | OK | OK | [ OK ] |  | ||||||
| merida1 | OS X 10.11.6 El Capitan / x86_64 | OK | OK | OK | OK |  | 
| Package: BubbleTree | 
| Version: 2.12.0 | 
| Command: /home/biocbuild/bbs-3.8-bioc/R/bin/R CMD check --install=check:BubbleTree.install-out.txt --library=/home/biocbuild/bbs-3.8-bioc/R/library --no-vignettes --timings BubbleTree_2.12.0.tar.gz | 
| StartedAt: 2019-04-15 22:35:59 -0400 (Mon, 15 Apr 2019) | 
| EndedAt: 2019-04-15 22:41:29 -0400 (Mon, 15 Apr 2019) | 
| EllapsedTime: 330.3 seconds | 
| RetCode: 0 | 
| Status: OK | 
| CheckDir: BubbleTree.Rcheck | 
| Warnings: 0 | 
##############################################################################
##############################################################################
###
### Running command:
###
###   /home/biocbuild/bbs-3.8-bioc/R/bin/R CMD check --install=check:BubbleTree.install-out.txt --library=/home/biocbuild/bbs-3.8-bioc/R/library --no-vignettes --timings BubbleTree_2.12.0.tar.gz
###
##############################################################################
##############################################################################
* using log directory ‘/home/biocbuild/bbs-3.8-bioc/meat/BubbleTree.Rcheck’
* using R version 3.5.3 (2019-03-11)
* using platform: x86_64-pc-linux-gnu (64-bit)
* using session charset: UTF-8
* using option ‘--no-vignettes’
* checking for file ‘BubbleTree/DESCRIPTION’ ... OK
* checking extension type ... Package
* this is package ‘BubbleTree’ version ‘2.12.0’
* checking package namespace information ... OK
* checking package dependencies ... OK
* checking if this is a source package ... OK
* checking if there is a namespace ... OK
* checking for hidden files and directories ... OK
* checking for portable file names ... OK
* checking for sufficient/correct file permissions ... OK
* checking whether package ‘BubbleTree’ can be installed ... OK
* checking installed package size ... NOTE
  installed size is 23.8Mb
  sub-directories of 1Mb or more:
    data  23.4Mb
* checking package directory ... OK
* checking ‘build’ directory ... OK
* checking DESCRIPTION meta-information ...It is recommended to use ‘given’ instead of ‘middle’.
 OK
* checking top-level files ... OK
* checking for left-over files ... OK
* checking index information ... OK
* checking package subdirectories ... OK
* checking R files for non-ASCII characters ... OK
* checking R files for syntax errors ... OK
* checking whether the package can be loaded ... OK
* checking whether the package can be loaded with stated dependencies ... OK
* checking whether the package can be unloaded cleanly ... OK
* checking whether the namespace can be loaded with stated dependencies ... OK
* checking whether the namespace can be unloaded cleanly ... OK
* checking dependencies in R code ... OK
* checking S3 generic/method consistency ... OK
* checking replacement functions ... OK
* checking foreign function calls ... OK
* checking R code for possible problems ... NOTE
annoByOverlap,Annotate: no visible binding for global variable
  'queryHits'
Undefined global functions or variables:
  queryHits
* checking Rd files ... OK
* checking Rd metadata ... OK
* checking Rd cross-references ... OK
* checking for missing documentation entries ... OK
* checking for code/documentation mismatches ... OK
* checking Rd \usage sections ... OK
* checking Rd contents ... OK
* checking for unstated dependencies in examples ... OK
* checking contents of ‘data’ directory ... OK
* checking data for non-ASCII characters ... OK
* checking data for ASCII and uncompressed saves ... OK
* checking files in ‘vignettes’ ... OK
* checking examples ... OK
Examples with CPU or elapsed time > 5s
                  user system elapsed
makeRBD         22.476   0.02  22.618
heteroLociTrack  7.080   0.18   7.264
* checking for unstated dependencies in vignettes ... OK
* checking package vignettes in ‘inst/doc’ ... OK
* checking running R code from vignettes ... SKIPPED
* checking re-building of vignette outputs ... SKIPPED
* checking PDF version of manual ... OK
* DONE
Status: 2 NOTEs
See
  ‘/home/biocbuild/bbs-3.8-bioc/meat/BubbleTree.Rcheck/00check.log’
for details.
BubbleTree.Rcheck/00install.out
############################################################################## ############################################################################## ### ### Running command: ### ### /home/biocbuild/bbs-3.8-bioc/R/bin/R CMD INSTALL BubbleTree ### ############################################################################## ############################################################################## * installing to library ‘/home/biocbuild/bbs-3.8-bioc/R/library’ * installing *source* package ‘BubbleTree’ ... It is recommended to use ‘given’ instead of ‘middle’. ** R ** data ** inst ** byte-compile and prepare package for lazy loading ** help *** installing help indices ** building package indices ** installing vignettes ** testing if installed package can be loaded * DONE (BubbleTree)
BubbleTree.Rcheck/BubbleTree-Ex.timings
| name | user | system | elapsed | |
| Annotate | 0.000 | 0.000 | 0.001 | |
| BTreePlotter | 0.084 | 0.000 | 0.081 | |
| BTreePredictor | 0.004 | 0.000 | 0.004 | |
| RBD | 0 | 0 | 0 | |
| RscoreTrack | 0.420 | 0.000 | 0.422 | |
| TrackPlotter | 0 | 0 | 0 | |
| annoByGenesAndCyto | 0.488 | 0.004 | 0.490 | |
| bafTrack | 0.248 | 0.004 | 0.254 | |
| btcompare | 0.004 | 0.000 | 0.003 | |
| btpredict | 3.468 | 0.028 | 3.498 | |
| drawBTree | 0.404 | 0.004 | 0.407 | |
| drawBubbles | 0.280 | 0.000 | 0.279 | |
| drawFeatures | 1.484 | 0.008 | 1.494 | |
| getTracks | 1.620 | 0.004 | 1.626 | |
| heteroLociTrack | 7.080 | 0.180 | 7.264 | |
| info | 4.176 | 0.016 | 4.200 | |
| loadRBD | 0.032 | 0.000 | 0.034 | |
| makeRBD | 22.476 | 0.020 | 22.618 | |
| saveXLS | 0.484 | 0.076 | 2.530 | |
| trackBTree | 0.324 | 0.016 | 0.342 | |
| xyTrack | 0.292 | 0.020 | 0.313 | |