| Back to Multiple platform build/check report for BioC 3.8 | 
  | 
This page was generated on 2019-04-16 11:58:23 -0400 (Tue, 16 Apr 2019).
| Package 179/1649 | Hostname | OS / Arch | INSTALL | BUILD | CHECK | BUILD BIN | ||||||
| BrowserViz 2.4.0 Paul Shannon 
  | malbec1 | Linux (Ubuntu 16.04.6 LTS) / x86_64 | OK | OK | OK | |||||||
| merida1 | OS X 10.11.6 El Capitan / x86_64 | OK | OK | OK | [ OK ] | 
| Package: BrowserViz | 
| Version: 2.4.0 | 
| Command: rm -rf BrowserViz.buildbin-libdir && mkdir BrowserViz.buildbin-libdir && /Users/biocbuild/BBS/utils/build-universal.sh BrowserViz_2.4.0.tar.gz /Library/Frameworks/R.framework/Versions/Current/Resources/bin/R BrowserViz.buildbin-libdir | 
| StartedAt: 2019-04-16 03:46:39 -0400 (Tue, 16 Apr 2019) | 
| EndedAt: 2019-04-16 03:47:23 -0400 (Tue, 16 Apr 2019) | 
| EllapsedTime: 44.8 seconds | 
| RetCode: 0 | 
| Status: OK | 
| PackageFile: BrowserViz_2.4.0.tgz | 
| PackageFileSize: 213.3 KiB | 
############################################################################## ############################################################################## ### ### Running command: ### ### rm -rf BrowserViz.buildbin-libdir && mkdir BrowserViz.buildbin-libdir && /Users/biocbuild/BBS/utils/build-universal.sh BrowserViz_2.4.0.tar.gz /Library/Frameworks/R.framework/Versions/Current/Resources/bin/R BrowserViz.buildbin-libdir ### ############################################################################## ############################################################################## >>>>>>> >>>>>>> INSTALLATION WITH 'R CMD INSTALL --preclean --no-multiarch --library=BrowserViz.buildbin-libdir BrowserViz_2.4.0.tar.gz' >>>>>>> * installing *source* package ‘BrowserViz’ ... ** R ** inst ** byte-compile and prepare package for lazy loading ** help *** installing help indices ** building package indices ** installing vignettes ** testing if installed package can be loaded * DONE (BrowserViz)