| Back to Multiple platform build/check report for BioC 3.8 | 
 | 
This page was generated on 2019-04-16 11:51:07 -0400 (Tue, 16 Apr 2019).
| Package 179/1649 | Hostname | OS / Arch | INSTALL | BUILD | CHECK | BUILD BIN | ||||||
| BrowserViz 2.4.0 Paul Shannon 
 | malbec1 | Linux (Ubuntu 16.04.6 LTS) / x86_64 | OK | [ OK ] | OK |  | ||||||
| merida1 | OS X 10.11.6 El Capitan / x86_64 | OK | OK | OK | OK |  | 
| Package: BrowserViz | 
| Version: 2.4.0 | 
| Command: /home/biocbuild/bbs-3.8-bioc/R/bin/R CMD build --keep-empty-dirs --no-resave-data BrowserViz | 
| StartedAt: 2019-04-15 20:04:10 -0400 (Mon, 15 Apr 2019) | 
| EndedAt: 2019-04-15 20:04:16 -0400 (Mon, 15 Apr 2019) | 
| EllapsedTime: 5.4 seconds | 
| RetCode: 0 | 
| Status: OK | 
| PackageFile: BrowserViz_2.4.0.tar.gz | 
| PackageFileSize: 160.3 KiB | 
############################################################################## ############################################################################## ### ### Running command: ### ### /home/biocbuild/bbs-3.8-bioc/R/bin/R CMD build --keep-empty-dirs --no-resave-data BrowserViz ### ############################################################################## ############################################################################## * checking for file ‘BrowserViz/DESCRIPTION’ ... OK * preparing ‘BrowserViz’: * checking DESCRIPTION meta-information ... OK * installing the package to build vignettes * creating vignettes ... OK * checking for LF line-endings in source and make files and shell scripts * checking for empty or unneeded directories * building ‘BrowserViz_2.4.0.tar.gz’