| Back to Multiple platform build/check report for BioC 3.8 | 
 | 
This page was generated on 2019-04-13 11:22:47 -0400 (Sat, 13 Apr 2019).
| Package 58/1649 | Hostname | OS / Arch | INSTALL | BUILD | CHECK | BUILD BIN | ||||||
| AnnotationHub 2.14.5 Bioconductor Package Maintainer 
 | malbec1 | Linux (Ubuntu 16.04.6 LTS) / x86_64 | OK | OK | WARNINGS |  | ||||||
| tokay1 | Windows Server 2012 R2 Standard / x64 | OK | OK | WARNINGS | [ OK ] |  | ||||||
| merida1 | OS X 10.11.6 El Capitan / x86_64 | OK | OK | WARNINGS | OK |  | 
| Package: AnnotationHub | 
| Version: 2.14.5 | 
| Command: rm -rf AnnotationHub.buildbin-libdir && mkdir AnnotationHub.buildbin-libdir && C:\Users\biocbuild\bbs-3.8-bioc\R\bin\R.exe CMD INSTALL --merge-multiarch --build --library=AnnotationHub.buildbin-libdir AnnotationHub_2.14.5.tar.gz | 
| StartedAt: 2019-04-13 06:53:58 -0400 (Sat, 13 Apr 2019) | 
| EndedAt: 2019-04-13 06:54:18 -0400 (Sat, 13 Apr 2019) | 
| EllapsedTime: 20.4 seconds | 
| RetCode: 0 | 
| Status: OK | 
| PackageFile: AnnotationHub_2.14.5.zip | 
| PackageFileSize: 1.169 MiB | 
##############################################################################
##############################################################################
###
### Running command:
###
###   rm -rf AnnotationHub.buildbin-libdir && mkdir AnnotationHub.buildbin-libdir && C:\Users\biocbuild\bbs-3.8-bioc\R\bin\R.exe CMD INSTALL --merge-multiarch --build --library=AnnotationHub.buildbin-libdir AnnotationHub_2.14.5.tar.gz
###
##############################################################################
##############################################################################
install for i386
* installing *source* package 'AnnotationHub' ...
** R
** inst
** byte-compile and prepare package for lazy loading
** help
*** installing help indices
  converting help for package 'AnnotationHub'
    finding HTML links ... done
    AnnotationHub-class                     html  
    AnnotationHub-package                   html  
    AnnotationHubResource-class             html  
    getAnnotationHubOption                  html  
    listResources                           html  
** building package indices
** installing vignettes
** testing if installed package can be loaded
In R CMD INSTALL
install for x64
* installing *source* package 'AnnotationHub' ...
** testing if installed package can be loaded
* MD5 sums
packaged installation of 'AnnotationHub' as AnnotationHub_2.14.5.zip
* DONE (AnnotationHub)
In R CMD INSTALL
In R CMD INSTALL