| Back to Multiple platform build/check report for BioC 3.8 | 
 | 
This page was generated on 2019-04-16 11:49:59 -0400 (Tue, 16 Apr 2019).
| Package 58/1649 | Hostname | OS / Arch | INSTALL | BUILD | CHECK | BUILD BIN | ||||||
| AnnotationHub 2.14.5 Bioconductor Package Maintainer 
 | malbec1 | Linux (Ubuntu 16.04.6 LTS) / x86_64 | OK | [ OK ] | WARNINGS |  | ||||||
| merida1 | OS X 10.11.6 El Capitan / x86_64 | OK | OK | WARNINGS | OK |  | 
| Package: AnnotationHub | 
| Version: 2.14.5 | 
| Command: /home/biocbuild/bbs-3.8-bioc/R/bin/R CMD build --keep-empty-dirs --no-resave-data AnnotationHub | 
| StartedAt: 2019-04-15 19:31:18 -0400 (Mon, 15 Apr 2019) | 
| EndedAt: 2019-04-15 19:33:09 -0400 (Mon, 15 Apr 2019) | 
| EllapsedTime: 110.6 seconds | 
| RetCode: 0 | 
| Status: OK | 
| PackageFile: AnnotationHub_2.14.5.tar.gz | 
| PackageFileSize: 1.007 MiB | 
##############################################################################
##############################################################################
###
### Running command:
###
###   /home/biocbuild/bbs-3.8-bioc/R/bin/R CMD build --keep-empty-dirs --no-resave-data AnnotationHub
###
##############################################################################
##############################################################################
* checking for file ‘AnnotationHub/DESCRIPTION’ ... OK
* preparing ‘AnnotationHub’:
* checking DESCRIPTION meta-information ... OK
* installing the package to build vignettes
* creating vignettes ... OK
Warning: ‘inst/doc’ file
    ‘AnnotationHub-HOWTO.R’
  ignored as vignettes have been rebuilt.
  Run R CMD build with --no-build-vignettes to prevent rebuilding.
* checking for LF line-endings in source and make files and shell scripts
* checking for empty or unneeded directories
* building ‘AnnotationHub_2.14.5.tar.gz’