| Back to Multiple platform build/check report for BioC 3.8 |
|
This page was generated on 2019-04-16 11:59:09 -0400 (Tue, 16 Apr 2019).
| Package 1578/1649 | Hostname | OS / Arch | INSTALL | BUILD | CHECK | BUILD BIN | ||||||
| transcriptR 1.10.1 Armen R. Karapetyan
| malbec1 | Linux (Ubuntu 16.04.6 LTS) / x86_64 | OK | OK | OK | |||||||
| merida1 | OS X 10.11.6 El Capitan / x86_64 | OK | OK | [ OK ] | OK |
| Package: transcriptR |
| Version: 1.10.1 |
| Command: /Library/Frameworks/R.framework/Versions/Current/Resources/bin/R CMD check --install=check:transcriptR.install-out.txt --library=/Library/Frameworks/R.framework/Versions/Current/Resources/library --no-vignettes --timings transcriptR_1.10.1.tar.gz |
| StartedAt: 2019-04-16 03:11:39 -0400 (Tue, 16 Apr 2019) |
| EndedAt: 2019-04-16 03:18:54 -0400 (Tue, 16 Apr 2019) |
| EllapsedTime: 434.6 seconds |
| RetCode: 0 |
| Status: OK |
| CheckDir: transcriptR.Rcheck |
| Warnings: 0 |
##############################################################################
##############################################################################
###
### Running command:
###
### /Library/Frameworks/R.framework/Versions/Current/Resources/bin/R CMD check --install=check:transcriptR.install-out.txt --library=/Library/Frameworks/R.framework/Versions/Current/Resources/library --no-vignettes --timings transcriptR_1.10.1.tar.gz
###
##############################################################################
##############################################################################
* using log directory ‘/Users/biocbuild/bbs-3.8-bioc/meat/transcriptR.Rcheck’
* using R version 3.5.3 (2019-03-11)
* using platform: x86_64-apple-darwin15.6.0 (64-bit)
* using session charset: UTF-8
* using option ‘--no-vignettes’
* checking for file ‘transcriptR/DESCRIPTION’ ... OK
* checking extension type ... Package
* this is package ‘transcriptR’ version ‘1.10.1’
* checking package namespace information ... OK
* checking package dependencies ... OK
* checking if this is a source package ... OK
* checking if there is a namespace ... OK
* checking for hidden files and directories ... OK
* checking for portable file names ... OK
* checking for sufficient/correct file permissions ... OK
* checking whether package ‘transcriptR’ can be installed ... OK
* checking installed package size ... OK
* checking package directory ... OK
* checking ‘build’ directory ... OK
* checking DESCRIPTION meta-information ... OK
* checking top-level files ... OK
* checking for left-over files ... OK
* checking index information ... OK
* checking package subdirectories ... OK
* checking R files for non-ASCII characters ... OK
* checking R files for syntax errors ... OK
* checking whether the package can be loaded ... OK
* checking whether the package can be loaded with stated dependencies ... OK
* checking whether the package can be unloaded cleanly ... OK
* checking whether the namespace can be loaded with stated dependencies ... OK
* checking whether the namespace can be unloaded cleanly ... OK
* checking dependencies in R code ... OK
* checking S3 generic/method consistency ... OK
* checking replacement functions ... OK
* checking foreign function calls ... OK
* checking R code for possible problems ... OK
* checking Rd files ... OK
* checking Rd metadata ... OK
* checking Rd cross-references ... OK
* checking for missing documentation entries ... OK
* checking for code/documentation mismatches ... OK
* checking Rd \usage sections ... OK
* checking Rd contents ... OK
* checking for unstated dependencies in examples ... OK
* checking contents of ‘data’ directory ... OK
* checking data for non-ASCII characters ... OK
* checking data for ASCII and uncompressed saves ... OK
* checking sizes of PDF files under ‘inst/doc’ ... OK
* checking files in ‘vignettes’ ... OK
* checking examples ... OK
Examples with CPU or elapsed time > 5s
user system elapsed
breakTranscriptsByPeaks-methods 14.728 5.075 11.407
peaksToBed-methods 11.662 4.769 8.657
predictStrand-methods 9.861 2.037 8.033
predictTssOverlap-methods 6.660 4.894 2.268
plotROC-methods 6.689 3.782 2.695
* checking for unstated dependencies in ‘tests’ ... OK
* checking tests ...
Running ‘testthat.R’
OK
* checking for unstated dependencies in vignettes ... OK
* checking package vignettes in ‘inst/doc’ ... OK
* checking running R code from vignettes ... SKIPPED
* checking re-building of vignette outputs ... SKIPPED
* checking PDF version of manual ... OK
* DONE
Status: OK
transcriptR.Rcheck/00install.out
############################################################################## ############################################################################## ### ### Running command: ### ### /Library/Frameworks/R.framework/Versions/Current/Resources/bin/R CMD INSTALL transcriptR ### ############################################################################## ############################################################################## * installing to library ‘/Library/Frameworks/R.framework/Versions/3.5/Resources/library’ * installing *source* package ‘transcriptR’ ... ** R ** data ** inst ** byte-compile and prepare package for lazy loading ** help *** installing help indices ** building package indices ** installing vignettes ** testing if installed package can be loaded * DONE (transcriptR)
transcriptR.Rcheck/tests/testthat.Rout
R version 3.5.3 (2019-03-11) -- "Great Truth"
Copyright (C) 2019 The R Foundation for Statistical Computing
Platform: x86_64-apple-darwin15.6.0 (64-bit)
R is free software and comes with ABSOLUTELY NO WARRANTY.
You are welcome to redistribute it under certain conditions.
Type 'license()' or 'licence()' for distribution details.
R is a collaborative project with many contributors.
Type 'contributors()' for more information and
'citation()' on how to cite R or R packages in publications.
Type 'demo()' for some demos, 'help()' for on-line help, or
'help.start()' for an HTML browser interface to help.
Type 'q()' to quit R.
> library(testthat)
> library(transcriptR)
>
> test_check("transcriptR")
══ testthat results ═══════════════════════════════════════════════════════════
OK: 87 SKIPPED: 0 FAILED: 0
>
> proc.time()
user system elapsed
77.956 12.505 78.824
transcriptR.Rcheck/transcriptR-Ex.timings
| name | user | system | elapsed | |
| addFeature-methods | 0.105 | 0.004 | 0.111 | |
| annotateTranscripts-methods | 2.493 | 0.117 | 2.623 | |
| breakTranscriptsByPeaks-methods | 14.728 | 5.075 | 11.407 | |
| constructCDS | 0.005 | 0.003 | 0.007 | |
| constructTDS | 0.321 | 0.028 | 0.355 | |
| detectTranscripts-methods | 1.516 | 0.092 | 1.622 | |
| estimateBackground-methods | 0.490 | 0.051 | 0.544 | |
| estimateGapDistance-methods | 1.352 | 0.050 | 1.413 | |
| exportCoverage-methods | 0.307 | 0.024 | 0.333 | |
| getConfusionMatrix-methods | 0.003 | 0.006 | 0.009 | |
| getGenomicAnnot-methods | 0.007 | 0.008 | 0.015 | |
| getPeaks-methods | 0.038 | 0.012 | 0.051 | |
| getPredictorSignificance-methods | 0.003 | 0.008 | 0.011 | |
| getProbTreshold-methods | 0.005 | 0.011 | 0.014 | |
| getQuadProb-methods | 0.290 | 0.027 | 0.319 | |
| getTestedGapDistances-methods | 0.324 | 0.020 | 0.348 | |
| getTranscripts-methods | 0.315 | 0.012 | 0.330 | |
| peaksToBed-methods | 11.662 | 4.769 | 8.657 | |
| plotErrorRate-methods | 1.060 | 0.062 | 1.135 | |
| plotFeatures-methods | 2.593 | 0.031 | 2.658 | |
| plotGenomicAnnot-methods | 1.267 | 0.010 | 1.290 | |
| plotROC-methods | 6.689 | 3.782 | 2.695 | |
| predictStrand-methods | 9.861 | 2.037 | 8.033 | |
| predictTssOverlap-methods | 6.660 | 4.894 | 2.268 | |
| show | 0.282 | 0.019 | 0.305 | |
| transcriptsToBed-methods | 1.372 | 0.068 | 1.451 | |