| Back to Multiple platform build/check report for BioC 3.8 |
|
This page was generated on 2019-04-16 11:51:44 -0400 (Tue, 16 Apr 2019).
| Package 1578/1649 | Hostname | OS / Arch | INSTALL | BUILD | CHECK | BUILD BIN | ||||||
| transcriptR 1.10.1 Armen R. Karapetyan
| malbec1 | Linux (Ubuntu 16.04.6 LTS) / x86_64 | OK | OK | [ OK ] | |||||||
| merida1 | OS X 10.11.6 El Capitan / x86_64 | OK | OK | OK | OK |
| Package: transcriptR |
| Version: 1.10.1 |
| Command: /home/biocbuild/bbs-3.8-bioc/R/bin/R CMD check --install=check:transcriptR.install-out.txt --library=/home/biocbuild/bbs-3.8-bioc/R/library --no-vignettes --timings transcriptR_1.10.1.tar.gz |
| StartedAt: 2019-04-16 03:28:59 -0400 (Tue, 16 Apr 2019) |
| EndedAt: 2019-04-16 03:35:05 -0400 (Tue, 16 Apr 2019) |
| EllapsedTime: 365.3 seconds |
| RetCode: 0 |
| Status: OK |
| CheckDir: transcriptR.Rcheck |
| Warnings: 0 |
##############################################################################
##############################################################################
###
### Running command:
###
### /home/biocbuild/bbs-3.8-bioc/R/bin/R CMD check --install=check:transcriptR.install-out.txt --library=/home/biocbuild/bbs-3.8-bioc/R/library --no-vignettes --timings transcriptR_1.10.1.tar.gz
###
##############################################################################
##############################################################################
* using log directory ‘/home/biocbuild/bbs-3.8-bioc/meat/transcriptR.Rcheck’
* using R version 3.5.3 (2019-03-11)
* using platform: x86_64-pc-linux-gnu (64-bit)
* using session charset: UTF-8
* using option ‘--no-vignettes’
* checking for file ‘transcriptR/DESCRIPTION’ ... OK
* checking extension type ... Package
* this is package ‘transcriptR’ version ‘1.10.1’
* checking package namespace information ... OK
* checking package dependencies ... OK
* checking if this is a source package ... OK
* checking if there is a namespace ... OK
* checking for hidden files and directories ... OK
* checking for portable file names ... OK
* checking for sufficient/correct file permissions ... OK
* checking whether package ‘transcriptR’ can be installed ... OK
* checking installed package size ... OK
* checking package directory ... OK
* checking ‘build’ directory ... OK
* checking DESCRIPTION meta-information ... OK
* checking top-level files ... OK
* checking for left-over files ... OK
* checking index information ... OK
* checking package subdirectories ... OK
* checking R files for non-ASCII characters ... OK
* checking R files for syntax errors ... OK
* checking whether the package can be loaded ... OK
* checking whether the package can be loaded with stated dependencies ... OK
* checking whether the package can be unloaded cleanly ... OK
* checking whether the namespace can be loaded with stated dependencies ... OK
* checking whether the namespace can be unloaded cleanly ... OK
* checking dependencies in R code ... OK
* checking S3 generic/method consistency ... OK
* checking replacement functions ... OK
* checking foreign function calls ... OK
* checking R code for possible problems ... OK
* checking Rd files ... OK
* checking Rd metadata ... OK
* checking Rd cross-references ... OK
* checking for missing documentation entries ... OK
* checking for code/documentation mismatches ... OK
* checking Rd \usage sections ... OK
* checking Rd contents ... OK
* checking for unstated dependencies in examples ... OK
* checking contents of ‘data’ directory ... OK
* checking data for non-ASCII characters ... OK
* checking data for ASCII and uncompressed saves ... OK
* checking files in ‘vignettes’ ... OK
* checking examples ... OK
Examples with CPU or elapsed time > 5s
user system elapsed
breakTranscriptsByPeaks-methods 12.084 0.128 8.864
peaksToBed-methods 10.416 0.028 7.287
predictStrand-methods 9.364 0.068 6.393
predictTssOverlap-methods 6.016 0.020 2.548
plotROC-methods 5.828 0.004 2.676
* checking for unstated dependencies in ‘tests’ ... OK
* checking tests ...
Running ‘testthat.R’
OK
* checking for unstated dependencies in vignettes ... OK
* checking package vignettes in ‘inst/doc’ ... OK
* checking running R code from vignettes ... SKIPPED
* checking re-building of vignette outputs ... SKIPPED
* checking PDF version of manual ... OK
* DONE
Status: OK
transcriptR.Rcheck/00install.out
############################################################################## ############################################################################## ### ### Running command: ### ### /home/biocbuild/bbs-3.8-bioc/R/bin/R CMD INSTALL transcriptR ### ############################################################################## ############################################################################## * installing to library ‘/home/biocbuild/bbs-3.8-bioc/R/library’ * installing *source* package ‘transcriptR’ ... ** R ** data ** inst ** byte-compile and prepare package for lazy loading ** help *** installing help indices ** building package indices ** installing vignettes ** testing if installed package can be loaded * DONE (transcriptR)
transcriptR.Rcheck/tests/testthat.Rout
R version 3.5.3 (2019-03-11) -- "Great Truth"
Copyright (C) 2019 The R Foundation for Statistical Computing
Platform: x86_64-pc-linux-gnu (64-bit)
R is free software and comes with ABSOLUTELY NO WARRANTY.
You are welcome to redistribute it under certain conditions.
Type 'license()' or 'licence()' for distribution details.
R is a collaborative project with many contributors.
Type 'contributors()' for more information and
'citation()' on how to cite R or R packages in publications.
Type 'demo()' for some demos, 'help()' for on-line help, or
'help.start()' for an HTML browser interface to help.
Type 'q()' to quit R.
> library(testthat)
> library(transcriptR)
>
> test_check("transcriptR")
══ testthat results ═══════════════════════════════════════════════════════════
OK: 87 SKIPPED: 0 FAILED: 0
>
> proc.time()
user system elapsed
72.404 0.772 69.364
transcriptR.Rcheck/transcriptR-Ex.timings
| name | user | system | elapsed | |
| addFeature-methods | 0.076 | 0.000 | 0.091 | |
| annotateTranscripts-methods | 2.324 | 0.036 | 2.361 | |
| breakTranscriptsByPeaks-methods | 12.084 | 0.128 | 8.864 | |
| constructCDS | 0.004 | 0.000 | 0.005 | |
| constructTDS | 0.264 | 0.012 | 0.278 | |
| detectTranscripts-methods | 1.356 | 0.016 | 1.373 | |
| estimateBackground-methods | 0.388 | 0.012 | 0.404 | |
| estimateGapDistance-methods | 1.012 | 0.008 | 1.024 | |
| exportCoverage-methods | 0.224 | 0.020 | 0.244 | |
| getConfusionMatrix-methods | 0.004 | 0.000 | 0.002 | |
| getGenomicAnnot-methods | 0.004 | 0.000 | 0.004 | |
| getPeaks-methods | 0.020 | 0.000 | 0.021 | |
| getPredictorSignificance-methods | 0.000 | 0.000 | 0.002 | |
| getProbTreshold-methods | 0.004 | 0.000 | 0.002 | |
| getQuadProb-methods | 0.272 | 0.004 | 0.275 | |
| getTestedGapDistances-methods | 0.228 | 0.020 | 0.247 | |
| getTranscripts-methods | 0.232 | 0.008 | 0.242 | |
| peaksToBed-methods | 10.416 | 0.028 | 7.287 | |
| plotErrorRate-methods | 1.324 | 0.008 | 1.333 | |
| plotFeatures-methods | 1.956 | 0.008 | 1.966 | |
| plotGenomicAnnot-methods | 0.444 | 0.000 | 0.445 | |
| plotROC-methods | 5.828 | 0.004 | 2.676 | |
| predictStrand-methods | 9.364 | 0.068 | 6.393 | |
| predictTssOverlap-methods | 6.016 | 0.020 | 2.548 | |
| show | 0.340 | 0.004 | 0.345 | |
| transcriptsToBed-methods | 1.504 | 0.012 | 1.515 | |