| Back to Multiple platform build/check report for BioC 3.8 |
|
This page was generated on 2019-04-16 11:57:57 -0400 (Tue, 16 Apr 2019).
| Package 1541/1649 | Hostname | OS / Arch | INSTALL | BUILD | CHECK | BUILD BIN | ||||||
| systemPipeR 1.16.1 Thomas Girke
| malbec1 | Linux (Ubuntu 16.04.6 LTS) / x86_64 | OK | OK | OK | |||||||
| merida1 | OS X 10.11.6 El Capitan / x86_64 | OK | [ OK ] | OK | OK |
| Package: systemPipeR |
| Version: 1.16.1 |
| Command: /Library/Frameworks/R.framework/Versions/Current/Resources/bin/R CMD build --keep-empty-dirs --no-resave-data systemPipeR |
| StartedAt: 2019-04-15 20:08:54 -0400 (Mon, 15 Apr 2019) |
| EndedAt: 2019-04-15 20:10:53 -0400 (Mon, 15 Apr 2019) |
| EllapsedTime: 119.2 seconds |
| RetCode: 0 |
| Status: OK |
| PackageFile: systemPipeR_1.16.1.tar.gz |
| PackageFileSize: 5.088 MiB |
##############################################################################
##############################################################################
###
### Running command:
###
### /Library/Frameworks/R.framework/Versions/Current/Resources/bin/R CMD build --keep-empty-dirs --no-resave-data systemPipeR
###
##############################################################################
##############################################################################
* checking for file ‘systemPipeR/DESCRIPTION’ ... OK
* preparing ‘systemPipeR’:
* checking DESCRIPTION meta-information ... OK
* installing the package to build vignettes
* creating vignettes ... OK
Warning: ‘inst/doc’ files
‘systemPipeRIBOseq.R’, ‘systemPipeRNAseq.R’
ignored as vignettes have been rebuilt.
Run R CMD build with --no-build-vignettes to prevent rebuilding.
* checking for LF line-endings in source and make files and shell scripts
* checking for empty or unneeded directories
* building ‘systemPipeR_1.16.1.tar.gz’