| Back to Multiple platform build/check report for BioC 3.8 |
|
This page was generated on 2019-04-16 11:57:57 -0400 (Tue, 16 Apr 2019).
| Package 1541/1649 | Hostname | OS / Arch | INSTALL | BUILD | CHECK | BUILD BIN | ||||||
| systemPipeR 1.16.1 Thomas Girke
| malbec1 | Linux (Ubuntu 16.04.6 LTS) / x86_64 | OK | OK | OK | |||||||
| merida1 | OS X 10.11.6 El Capitan / x86_64 | OK | OK | OK | [ OK ] |
| Package: systemPipeR |
| Version: 1.16.1 |
| Command: rm -rf systemPipeR.buildbin-libdir && mkdir systemPipeR.buildbin-libdir && /Users/biocbuild/BBS/utils/build-universal.sh systemPipeR_1.16.1.tar.gz /Library/Frameworks/R.framework/Versions/Current/Resources/bin/R systemPipeR.buildbin-libdir |
| StartedAt: 2019-04-16 04:49:39 -0400 (Tue, 16 Apr 2019) |
| EndedAt: 2019-04-16 04:50:38 -0400 (Tue, 16 Apr 2019) |
| EllapsedTime: 58.8 seconds |
| RetCode: 0 |
| Status: OK |
| PackageFile: systemPipeR_1.16.1.tgz |
| PackageFileSize: 5.153 MiB |
############################################################################## ############################################################################## ### ### Running command: ### ### rm -rf systemPipeR.buildbin-libdir && mkdir systemPipeR.buildbin-libdir && /Users/biocbuild/BBS/utils/build-universal.sh systemPipeR_1.16.1.tar.gz /Library/Frameworks/R.framework/Versions/Current/Resources/bin/R systemPipeR.buildbin-libdir ### ############################################################################## ############################################################################## >>>>>>> >>>>>>> INSTALLATION WITH 'R CMD INSTALL --preclean --no-multiarch --library=systemPipeR.buildbin-libdir systemPipeR_1.16.1.tar.gz' >>>>>>> * installing *source* package ‘systemPipeR’ ... ** R ** inst ** byte-compile and prepare package for lazy loading ** help *** installing help indices ** building package indices ** installing vignettes ** testing if installed package can be loaded * DONE (systemPipeR)