| Back to Multiple platform build/check report for BioC 3.8 | 
  | 
This page was generated on 2019-04-13 11:28:18 -0400 (Sat, 13 Apr 2019).
| Package 1024/1649 | Hostname | OS / Arch | INSTALL | BUILD | CHECK | BUILD BIN | ||||||
| multiMiR 1.4.0 Matt Mulvahill 
  | malbec1 | Linux (Ubuntu 16.04.6 LTS) / x86_64 | OK | OK | OK | |||||||
| tokay1 | Windows Server 2012 R2 Standard / x64 | OK | OK | OK | [ OK ] | |||||||
| merida1 | OS X 10.11.6 El Capitan / x86_64 | OK | OK | OK | OK | 
| Package: multiMiR | 
| Version: 1.4.0 | 
| Command: rm -rf multiMiR.buildbin-libdir && mkdir multiMiR.buildbin-libdir && C:\Users\biocbuild\bbs-3.8-bioc\R\bin\R.exe CMD INSTALL --merge-multiarch --build --library=multiMiR.buildbin-libdir multiMiR_1.4.0.tar.gz | 
| StartedAt: 2019-04-13 07:41:17 -0400 (Sat, 13 Apr 2019) | 
| EndedAt: 2019-04-13 07:41:36 -0400 (Sat, 13 Apr 2019) | 
| EllapsedTime: 19.1 seconds | 
| RetCode: 0 | 
| Status: OK | 
| PackageFile: multiMiR_1.4.0.zip | 
| PackageFileSize: 555.1 KiB | 
##############################################################################
##############################################################################
###
### Running command:
###
###   rm -rf multiMiR.buildbin-libdir && mkdir multiMiR.buildbin-libdir && C:\Users\biocbuild\bbs-3.8-bioc\R\bin\R.exe CMD INSTALL --merge-multiarch --build --library=multiMiR.buildbin-libdir multiMiR_1.4.0.tar.gz
###
##############################################################################
##############################################################################
install for i386
* installing *source* package 'multiMiR' ...
** R
** inst
** byte-compile and prepare package for lazy loading
** help
*** installing help indices
  converting help for package 'multiMiR'
    finding HTML links ... done
    add.multimir.links                      html  
    all_tables                              html  
    as.mmquery                              html  
    as_mmsql_components                     html  
    build_mmsql                             html  
    default_cutoff                          html  
    deprecate_arg                           html  
    extract_mmquery                         html  
    get.multimir.cutoffs                    html  
    get_multimir                            html  
    list_multimir                           html  
    mmquery_bioc-class                      html  
    multiMiR                                html  
    multimir.summary                        html  
    multimir_dbInfo                         html  
    multimir_switchDBVersion                html  
    null_to_df                              html  
    pad                                     html  
    parens_quote                            html  
    parens_wrap                             html  
    parse_orgs                              html  
    parse_response                          html  
    query_multimir                          html  
    quote_wrap                              html  
    remove_empty_strings                    html  
    remove_table                            html  
    search_multimir                         html  
    split_by                                html  
    sql_org                                 html  
    sql_validated                           html  
    submit_request                          html  
** building package indices
** installing vignettes
** testing if installed package can be loaded
In R CMD INSTALL
install for x64
* installing *source* package 'multiMiR' ...
** testing if installed package can be loaded
* MD5 sums
packaged installation of 'multiMiR' as multiMiR_1.4.0.zip
* DONE (multiMiR)
In R CMD INSTALL
In R CMD INSTALL