| Back to Multiple platform build/check report for BioC 3.8 | 
  | 
This page was generated on 2019-04-16 12:01:00 -0400 (Tue, 16 Apr 2019).
| Package 1024/1649 | Hostname | OS / Arch | INSTALL | BUILD | CHECK | BUILD BIN | ||||||
| multiMiR 1.4.0 Matt Mulvahill 
  | malbec1 | Linux (Ubuntu 16.04.6 LTS) / x86_64 | OK | OK | OK | |||||||
| merida1 | OS X 10.11.6 El Capitan / x86_64 | OK | [ OK ] | OK | OK | 
| Package: multiMiR | 
| Version: 1.4.0 | 
| Command: /Library/Frameworks/R.framework/Versions/Current/Resources/bin/R CMD build --keep-empty-dirs --no-resave-data multiMiR | 
| StartedAt: 2019-04-15 21:28:47 -0400 (Mon, 15 Apr 2019) | 
| EndedAt: 2019-04-15 21:29:38 -0400 (Mon, 15 Apr 2019) | 
| EllapsedTime: 51.3 seconds | 
| RetCode: 0 | 
| Status: OK | 
| PackageFile: multiMiR_1.4.0.tar.gz | 
| PackageFileSize: 314.8 KiB | 
############################################################################## ############################################################################## ### ### Running command: ### ### /Library/Frameworks/R.framework/Versions/Current/Resources/bin/R CMD build --keep-empty-dirs --no-resave-data multiMiR ### ############################################################################## ############################################################################## * checking for file ‘multiMiR/DESCRIPTION’ ... OK * preparing ‘multiMiR’: * checking DESCRIPTION meta-information ... OK * installing the package to build vignettes * creating vignettes ... OK * checking for LF line-endings in source and make files and shell scripts * checking for empty or unneeded directories * building ‘multiMiR_1.4.0.tar.gz’