| Back to Multiple platform build/check report for BioC 3.8 | 
  | 
This page was generated on 2019-04-16 11:53:59 -0400 (Tue, 16 Apr 2019).
| Package 678/1649 | Hostname | OS / Arch | INSTALL | BUILD | CHECK | BUILD BIN | ||||||
| graph 1.60.0 Bioconductor Package Maintainer 
  | malbec1 | Linux (Ubuntu 16.04.6 LTS) / x86_64 | OK | OK | OK | |||||||
| merida1 | OS X 10.11.6 El Capitan / x86_64 | OK | OK | OK | [ OK ] | 
| Package: graph | 
| Version: 1.60.0 | 
| Command: rm -rf graph.buildbin-libdir && mkdir graph.buildbin-libdir && /Users/biocbuild/BBS/utils/build-universal.sh graph_1.60.0.tar.gz /Library/Frameworks/R.framework/Versions/Current/Resources/bin/R graph.buildbin-libdir | 
| StartedAt: 2019-04-16 04:10:10 -0400 (Tue, 16 Apr 2019) | 
| EndedAt: 2019-04-16 04:10:50 -0400 (Tue, 16 Apr 2019) | 
| EllapsedTime: 40.4 seconds | 
| RetCode: 0 | 
| Status: OK | 
| PackageFile: graph_1.60.0.tgz | 
| PackageFileSize: 1.569 MiB | 
############################################################################## ############################################################################## ### ### Running command: ### ### rm -rf graph.buildbin-libdir && mkdir graph.buildbin-libdir && /Users/biocbuild/BBS/utils/build-universal.sh graph_1.60.0.tar.gz /Library/Frameworks/R.framework/Versions/Current/Resources/bin/R graph.buildbin-libdir ### ############################################################################## ############################################################################## >>>>>>> >>>>>>> INSTALLATION WITH 'R CMD INSTALL --preclean --no-multiarch --library=graph.buildbin-libdir graph_1.60.0.tar.gz' >>>>>>> * installing *source* package ‘graph’ ... ** libs clang -I"/Library/Frameworks/R.framework/Resources/include" -DNDEBUG -I/usr/local/include -fPIC -Wall -g -O2 -c graph.c -o graph.o clang -dynamiclib -Wl,-headerpad_max_install_names -undefined dynamic_lookup -single_module -multiply_defined suppress -L/Library/Frameworks/R.framework/Resources/lib -L/usr/local/lib -o graph.so graph.o -F/Library/Frameworks/R.framework/.. -framework R -Wl,-framework -Wl,CoreFoundation mv graph.so BioC_graph.so installing to /Users/biocbuild/bbs-3.8-bioc/meat/graph.buildbin-libdir/graph/libs ** R ** data ** inst ** byte-compile and prepare package for lazy loading ** help *** installing help indices ** building package indices ** installing vignettes ** testing if installed package can be loaded * DONE (graph) >>>>>>> >>>>>>> FIXING LINKS FOR graph.buildbin-libdir/graph/libs//BioC_graph.so >>>>>>> install_name_tool -change "/usr/local/lib/libgcc_s.1.dylib" "/Library/Frameworks/R.framework/Versions/3.5/Resources/lib/libgcc_s.1.dylib" "graph.buildbin-libdir/graph/libs//BioC_graph.so" install_name_tool -change "/usr/local/lib/libgfortran.3.dylib" "/Library/Frameworks/R.framework/Versions/3.5/Resources/lib/libgfortran.3.dylib" "graph.buildbin-libdir/graph/libs//BioC_graph.so" install_name_tool -change "/usr/local/lib/libreadline.5.2.dylib" "/Library/Frameworks/R.framework/Versions/3.5/Resources/lib/libreadline.5.2.dylib" "graph.buildbin-libdir/graph/libs//BioC_graph.so" install_name_tool -change "/usr/local/lib/libreadline.dylib" "/Library/Frameworks/R.framework/Versions/3.5/Resources/lib/libreadline.dylib" "graph.buildbin-libdir/graph/libs//BioC_graph.so" install_name_tool -change "/usr/local/lib/libquadmath.0.dylib" "/Library/Frameworks/R.framework/Versions/3.5/Resources/lib/libquadmath.0.dylib" "graph.buildbin-libdir/graph/libs//BioC_graph.so"