| Back to Multiple platform build/check report for BioC 3.8 | 
  | 
This page was generated on 2019-04-16 11:47:47 -0400 (Tue, 16 Apr 2019).
| Package 678/1649 | Hostname | OS / Arch | INSTALL | BUILD | CHECK | BUILD BIN | ||||||
| graph 1.60.0 Bioconductor Package Maintainer 
  | malbec1 | Linux (Ubuntu 16.04.6 LTS) / x86_64 | OK | [ OK ] | OK | |||||||
| merida1 | OS X 10.11.6 El Capitan / x86_64 | OK | OK | OK | OK | 
| Package: graph | 
| Version: 1.60.0 | 
| Command: /home/biocbuild/bbs-3.8-bioc/R/bin/R CMD build --keep-empty-dirs --no-resave-data graph | 
| StartedAt: 2019-04-15 18:37:18 -0400 (Mon, 15 Apr 2019) | 
| EndedAt: 2019-04-15 18:37:55 -0400 (Mon, 15 Apr 2019) | 
| EllapsedTime: 37.0 seconds | 
| RetCode: 0 | 
| Status: OK | 
| PackageFile: graph_1.60.0.tar.gz | 
| PackageFileSize: 935.7 KiB | 
##############################################################################
##############################################################################
###
### Running command:
###
###   /home/biocbuild/bbs-3.8-bioc/R/bin/R CMD build --keep-empty-dirs --no-resave-data graph
###
##############################################################################
##############################################################################
* checking for file ‘graph/DESCRIPTION’ ... OK
* preparing ‘graph’:
* checking DESCRIPTION meta-information ... OK
* cleaning src
* installing the package to build vignettes
* creating vignettes ... OK
Warning: ‘inst/doc’ file
    ‘graphAttributes.R’
  ignored as vignettes have been rebuilt.
  Run R CMD build with --no-build-vignettes to prevent rebuilding.
* cleaning src
* checking for LF line-endings in source and make files and shell scripts
* checking for empty or unneeded directories
* looking to see if a ‘data/datalist’ file should be added
* building ‘graph_1.60.0.tar.gz’