| Back to Multiple platform build/check report for BioC 3.8 |
|
This page was generated on 2019-04-13 11:29:42 -0400 (Sat, 13 Apr 2019).
| Package 653/1649 | Hostname | OS / Arch | INSTALL | BUILD | CHECK | BUILD BIN | ||||||
| glmSparseNet 1.0.0 AndrĂ© VerĂssimo
| malbec1 | Linux (Ubuntu 16.04.6 LTS) / x86_64 | OK | OK | OK | |||||||
| tokay1 | Windows Server 2012 R2 Standard / x64 | [ OK ] | OK | OK | OK | |||||||
| merida1 | OS X 10.11.6 El Capitan / x86_64 | OK | OK | OK | OK |
| Package: glmSparseNet |
| Version: 1.0.0 |
| Command: C:\cygwin\bin\curl.exe -O https://malbec1.bioconductor.org/BBS/3.8/bioc/src/contrib/glmSparseNet_1.0.0.tar.gz && rm -rf glmSparseNet.buildbin-libdir && mkdir glmSparseNet.buildbin-libdir && C:\Users\biocbuild\bbs-3.8-bioc\R\bin\R.exe CMD INSTALL --merge-multiarch --build --library=glmSparseNet.buildbin-libdir glmSparseNet_1.0.0.tar.gz && C:\Users\biocbuild\bbs-3.8-bioc\R\bin\R.exe CMD INSTALL glmSparseNet_1.0.0.zip && rm glmSparseNet_1.0.0.tar.gz glmSparseNet_1.0.0.zip |
| StartedAt: 2019-04-12 19:49:33 -0400 (Fri, 12 Apr 2019) |
| EndedAt: 2019-04-12 19:51:30 -0400 (Fri, 12 Apr 2019) |
| EllapsedTime: 116.4 seconds |
| RetCode: 0 |
| Status: OK |
##############################################################################
##############################################################################
###
### Running command:
###
### C:\cygwin\bin\curl.exe -O https://malbec1.bioconductor.org/BBS/3.8/bioc/src/contrib/glmSparseNet_1.0.0.tar.gz && rm -rf glmSparseNet.buildbin-libdir && mkdir glmSparseNet.buildbin-libdir && C:\Users\biocbuild\bbs-3.8-bioc\R\bin\R.exe CMD INSTALL --merge-multiarch --build --library=glmSparseNet.buildbin-libdir glmSparseNet_1.0.0.tar.gz && C:\Users\biocbuild\bbs-3.8-bioc\R\bin\R.exe CMD INSTALL glmSparseNet_1.0.0.zip && rm glmSparseNet_1.0.0.tar.gz glmSparseNet_1.0.0.zip
###
##############################################################################
##############################################################################
% Total % Received % Xferd Average Speed Time Time Time Current
Dload Upload Total Spent Left Speed
0 0 0 0 0 0 0 0 --:--:-- --:--:-- --:--:-- 0
100 738k 100 738k 0 0 16.8M 0 --:--:-- --:--:-- --:--:-- 18.4M
install for i386
* installing *source* package 'glmSparseNet' ...
** R
** data
*** moving datasets to lazyload DB
** inst
** byte-compile and prepare package for lazy loading
** help
*** installing help indices
converting help for package 'glmSparseNet'
finding HTML links ... done
buildLambda html
buildStringNetwork html
cv.glmDegree html
cv.glmHub html
cv.glmOrphan html
cv.glmSparseNet html
degreeCor html
degreeCov html
degreeSparsebn html
dot-calcPenalty html
dot-degreeGeneric html
dot-glmSparseNetPrivate html
dot-networkGenericParallel html
dot-networkWorker html
ensemblGeneNames html
geneNames html
glmDegree html
glmHub html
glmOrphan html
glmSparseNet html
hallmarks html
heuristicScale html
hubHeuristic html
networkCorParallel html
networkCovParallel html
networkOptions html
orphanHeuristic html
protein2EnsemblGeneNames html
separate2GroupsCox html
string.network.700.cache html
stringDBhomoSapiens html
** building package indices
** installing vignettes
** testing if installed package can be loaded
In R CMD INSTALL
install for x64
* installing *source* package 'glmSparseNet' ...
** testing if installed package can be loaded
* MD5 sums
packaged installation of 'glmSparseNet' as glmSparseNet_1.0.0.zip
* DONE (glmSparseNet)
In R CMD INSTALL
In R CMD INSTALL
* installing to library 'C:/Users/biocbuild/bbs-3.8-bioc/R/library'
package 'glmSparseNet' successfully unpacked and MD5 sums checked
In R CMD INSTALL