| Back to Multiple platform build/check report for BioC 3.8 | 
  | 
This page was generated on 2019-04-13 11:29:43 -0400 (Sat, 13 Apr 2019).
| Package 653/1649 | Hostname | OS / Arch | INSTALL | BUILD | CHECK | BUILD BIN | ||||||
| glmSparseNet 1.0.0 AndrĂ© VerĂssimo 
  | malbec1 | Linux (Ubuntu 16.04.6 LTS) / x86_64 | OK | OK | OK | |||||||
| tokay1 | Windows Server 2012 R2 Standard / x64 | OK | OK | OK | [ OK ] | |||||||
| merida1 | OS X 10.11.6 El Capitan / x86_64 | OK | OK | OK | OK | 
| Package: glmSparseNet | 
| Version: 1.0.0 | 
| Command: rm -rf glmSparseNet.buildbin-libdir && mkdir glmSparseNet.buildbin-libdir && C:\Users\biocbuild\bbs-3.8-bioc\R\bin\R.exe CMD INSTALL --merge-multiarch --build --library=glmSparseNet.buildbin-libdir glmSparseNet_1.0.0.tar.gz | 
| StartedAt: 2019-04-13 07:20:16 -0400 (Sat, 13 Apr 2019) | 
| EndedAt: 2019-04-13 07:20:52 -0400 (Sat, 13 Apr 2019) | 
| EllapsedTime: 35.6 seconds | 
| RetCode: 0 | 
| Status: OK | 
| PackageFile: glmSparseNet_1.0.0.zip | 
| PackageFileSize: 2.145 MiB | 
##############################################################################
##############################################################################
###
### Running command:
###
###   rm -rf glmSparseNet.buildbin-libdir && mkdir glmSparseNet.buildbin-libdir && C:\Users\biocbuild\bbs-3.8-bioc\R\bin\R.exe CMD INSTALL --merge-multiarch --build --library=glmSparseNet.buildbin-libdir glmSparseNet_1.0.0.tar.gz
###
##############################################################################
##############################################################################
install for i386
* installing *source* package 'glmSparseNet' ...
** R
** data
*** moving datasets to lazyload DB
** inst
** byte-compile and prepare package for lazy loading
** help
*** installing help indices
  converting help for package 'glmSparseNet'
    finding HTML links ... done
    buildLambda                             html  
    buildStringNetwork                      html  
    cv.glmDegree                            html  
    cv.glmHub                               html  
    cv.glmOrphan                            html  
    cv.glmSparseNet                         html  
    degreeCor                               html  
    degreeCov                               html  
    degreeSparsebn                          html  
    dot-calcPenalty                         html  
    dot-degreeGeneric                       html  
    dot-glmSparseNetPrivate                 html  
    dot-networkGenericParallel              html  
    dot-networkWorker                       html  
    ensemblGeneNames                        html  
    geneNames                               html  
    glmDegree                               html  
    glmHub                                  html  
    glmOrphan                               html  
    glmSparseNet                            html  
    hallmarks                               html  
    heuristicScale                          html  
    hubHeuristic                            html  
    networkCorParallel                      html  
    networkCovParallel                      html  
    networkOptions                          html  
    orphanHeuristic                         html  
    protein2EnsemblGeneNames                html  
    separate2GroupsCox                      html  
    string.network.700.cache                html  
    stringDBhomoSapiens                     html  
** building package indices
** installing vignettes
** testing if installed package can be loaded
In R CMD INSTALL
install for x64
* installing *source* package 'glmSparseNet' ...
** testing if installed package can be loaded
* MD5 sums
packaged installation of 'glmSparseNet' as glmSparseNet_1.0.0.zip
* DONE (glmSparseNet)
In R CMD INSTALL
In R CMD INSTALL