| Back to Multiple platform build/check report for BioC 3.8 |
|
This page was generated on 2019-04-16 11:54:33 -0400 (Tue, 16 Apr 2019).
| Package 531/1649 | Hostname | OS / Arch | INSTALL | BUILD | CHECK | BUILD BIN | ||||||
| flowCore 1.48.1 Mike Jiang
| malbec1 | Linux (Ubuntu 16.04.6 LTS) / x86_64 | OK | OK | OK | |||||||
| merida1 | OS X 10.11.6 El Capitan / x86_64 | OK | OK | [ OK ] | OK |
| Package: flowCore |
| Version: 1.48.1 |
| Command: /Library/Frameworks/R.framework/Versions/Current/Resources/bin/R CMD check --install=check:flowCore.install-out.txt --library=/Library/Frameworks/R.framework/Versions/Current/Resources/library --no-vignettes --timings flowCore_1.48.1.tar.gz |
| StartedAt: 2019-04-15 23:57:38 -0400 (Mon, 15 Apr 2019) |
| EndedAt: 2019-04-15 23:59:59 -0400 (Mon, 15 Apr 2019) |
| EllapsedTime: 140.2 seconds |
| RetCode: 0 |
| Status: OK |
| CheckDir: flowCore.Rcheck |
| Warnings: 0 |
##############################################################################
##############################################################################
###
### Running command:
###
### /Library/Frameworks/R.framework/Versions/Current/Resources/bin/R CMD check --install=check:flowCore.install-out.txt --library=/Library/Frameworks/R.framework/Versions/Current/Resources/library --no-vignettes --timings flowCore_1.48.1.tar.gz
###
##############################################################################
##############################################################################
* using log directory ‘/Users/biocbuild/bbs-3.8-bioc/meat/flowCore.Rcheck’
* using R version 3.5.3 (2019-03-11)
* using platform: x86_64-apple-darwin15.6.0 (64-bit)
* using session charset: UTF-8
* using option ‘--no-vignettes’
* checking for file ‘flowCore/DESCRIPTION’ ... OK
* this is package ‘flowCore’ version ‘1.48.1’
* checking package namespace information ... OK
* checking package dependencies ... OK
* checking if this is a source package ... OK
* checking if there is a namespace ... OK
* checking for hidden files and directories ... OK
* checking for portable file names ... OK
* checking for sufficient/correct file permissions ... OK
* checking whether package ‘flowCore’ can be installed ... OK
* checking installed package size ... NOTE
installed size is 8.5Mb
sub-directories of 1Mb or more:
R 1.3Mb
data 5.0Mb
extdata 1.1Mb
* checking package directory ... OK
* checking ‘build’ directory ... OK
* checking DESCRIPTION meta-information ... OK
* checking top-level files ... OK
* checking for left-over files ... OK
* checking index information ... OK
* checking package subdirectories ... OK
* checking R files for non-ASCII characters ... OK
* checking R files for syntax errors ... OK
* checking whether the package can be loaded ... OK
* checking whether the package can be loaded with stated dependencies ... OK
* checking whether the package can be unloaded cleanly ... OK
* checking whether the namespace can be loaded with stated dependencies ... OK
* checking whether the namespace can be unloaded cleanly ... OK
* checking dependencies in R code ... OK
* checking S3 generic/method consistency ... OK
* checking replacement functions ... OK
* checking foreign function calls ... OK
* checking R code for possible problems ... OK
* checking Rd files ... OK
* checking Rd metadata ... OK
* checking Rd cross-references ... OK
* checking for missing documentation entries ... OK
* checking for code/documentation mismatches ... OK
* checking Rd \usage sections ... OK
* checking Rd contents ... OK
* checking for unstated dependencies in examples ... OK
* checking contents of ‘data’ directory ... OK
* checking data for non-ASCII characters ... OK
* checking data for ASCII and uncompressed saves ... OK
* checking line endings in C/C++/Fortran sources/headers ... OK
* checking line endings in Makefiles ... OK
* checking compilation flags in Makevars ... OK
* checking for GNU extensions in Makefiles ... OK
* checking for portable use of $(BLAS_LIBS) and $(LAPACK_LIBS) ... OK
* checking compiled code ... NOTE
Note: information on .o files is not available
* checking sizes of PDF files under ‘inst/doc’ ... OK
* checking installed files from ‘inst/doc’ ... OK
* checking files in ‘vignettes’ ... OK
* checking examples ... OK
* checking for unstated dependencies in ‘tests’ ... OK
* checking tests ...
Running ‘testthat.R’
OK
* checking for unstated dependencies in vignettes ... OK
* checking package vignettes in ‘inst/doc’ ... OK
* checking running R code from vignettes ... SKIPPED
* checking re-building of vignette outputs ... SKIPPED
* checking PDF version of manual ... OK
* DONE
Status: 2 NOTEs
See
‘/Users/biocbuild/bbs-3.8-bioc/meat/flowCore.Rcheck/00check.log’
for details.
flowCore.Rcheck/00install.out
############################################################################## ############################################################################## ### ### Running command: ### ### /Library/Frameworks/R.framework/Versions/Current/Resources/bin/R CMD INSTALL flowCore ### ############################################################################## ############################################################################## * installing to library ‘/Library/Frameworks/R.framework/Versions/3.5/Resources/library’ * installing *source* package ‘flowCore’ ... ** libs clang++ -std=gnu++11 -I"/Library/Frameworks/R.framework/Resources/include" -DNDEBUG -I"/Library/Frameworks/R.framework/Versions/3.5/Resources/library/Rcpp/include" -I"/Library/Frameworks/R.framework/Versions/3.5/Resources/library/BH/include" -I/usr/local/include -fPIC -Wall -g -O2 -c FastLogicle.cpp -o FastLogicle.o clang++ -std=gnu++11 -I"/Library/Frameworks/R.framework/Resources/include" -DNDEBUG -I"/Library/Frameworks/R.framework/Versions/3.5/Resources/library/Rcpp/include" -I"/Library/Frameworks/R.framework/Versions/3.5/Resources/library/BH/include" -I/usr/local/include -fPIC -Wall -g -O2 -c Hyperlog.cpp -o Hyperlog.o clang++ -std=gnu++11 -I"/Library/Frameworks/R.framework/Resources/include" -DNDEBUG -I"/Library/Frameworks/R.framework/Versions/3.5/Resources/library/Rcpp/include" -I"/Library/Frameworks/R.framework/Versions/3.5/Resources/library/BH/include" -I/usr/local/include -fPIC -Wall -g -O2 -c Logicle.cpp -o Logicle.o clang++ -std=gnu++11 -I"/Library/Frameworks/R.framework/Resources/include" -DNDEBUG -I"/Library/Frameworks/R.framework/Versions/3.5/Resources/library/Rcpp/include" -I"/Library/Frameworks/R.framework/Versions/3.5/Resources/library/BH/include" -I/usr/local/include -fPIC -Wall -g -O2 -c RcppExports.cpp -o RcppExports.o clang++ -std=gnu++11 -I"/Library/Frameworks/R.framework/Resources/include" -DNDEBUG -I"/Library/Frameworks/R.framework/Versions/3.5/Resources/library/Rcpp/include" -I"/Library/Frameworks/R.framework/Versions/3.5/Resources/library/BH/include" -I/usr/local/include -fPIC -Wall -g -O2 -c biexponential.cpp -o biexponential.o clang++ -std=gnu++11 -I"/Library/Frameworks/R.framework/Resources/include" -DNDEBUG -I"/Library/Frameworks/R.framework/Versions/3.5/Resources/library/Rcpp/include" -I"/Library/Frameworks/R.framework/Versions/3.5/Resources/library/BH/include" -I/usr/local/include -fPIC -Wall -g -O2 -c convertRawBytes.cpp -o convertRawBytes.o clang++ -std=gnu++11 -I"/Library/Frameworks/R.framework/Resources/include" -DNDEBUG -I"/Library/Frameworks/R.framework/Versions/3.5/Resources/library/Rcpp/include" -I"/Library/Frameworks/R.framework/Versions/3.5/Resources/library/BH/include" -I/usr/local/include -fPIC -Wall -g -O2 -c fcsTextParse.cpp -o fcsTextParse.o clang++ -std=gnu++11 -I"/Library/Frameworks/R.framework/Resources/include" -DNDEBUG -I"/Library/Frameworks/R.framework/Versions/3.5/Resources/library/Rcpp/include" -I"/Library/Frameworks/R.framework/Versions/3.5/Resources/library/BH/include" -I/usr/local/include -fPIC -Wall -g -O2 -c hyperlogTransform.cpp -o hyperlogTransform.o clang++ -std=gnu++11 -I"/Library/Frameworks/R.framework/Resources/include" -DNDEBUG -I"/Library/Frameworks/R.framework/Versions/3.5/Resources/library/Rcpp/include" -I"/Library/Frameworks/R.framework/Versions/3.5/Resources/library/BH/include" -I/usr/local/include -fPIC -Wall -g -O2 -c inPolygon.cpp -o inPolygon.o clang++ -std=gnu++11 -I"/Library/Frameworks/R.framework/Resources/include" -DNDEBUG -I"/Library/Frameworks/R.framework/Versions/3.5/Resources/library/Rcpp/include" -I"/Library/Frameworks/R.framework/Versions/3.5/Resources/library/BH/include" -I/usr/local/include -fPIC -Wall -g -O2 -c inPolytope.cpp -o inPolytope.o clang++ -std=gnu++11 -I"/Library/Frameworks/R.framework/Resources/include" -DNDEBUG -I"/Library/Frameworks/R.framework/Versions/3.5/Resources/library/Rcpp/include" -I"/Library/Frameworks/R.framework/Versions/3.5/Resources/library/BH/include" -I/usr/local/include -fPIC -Wall -g -O2 -c logicleTransform.cpp -o logicleTransform.o clang++ -std=gnu++11 -I"/Library/Frameworks/R.framework/Resources/include" -DNDEBUG -I"/Library/Frameworks/R.framework/Versions/3.5/Resources/library/Rcpp/include" -I"/Library/Frameworks/R.framework/Versions/3.5/Resources/library/BH/include" -I/usr/local/include -fPIC -Wall -g -O2 -c pairVectorRcppWrap.cpp -o pairVectorRcppWrap.o clang++ -std=gnu++11 -I"/Library/Frameworks/R.framework/Resources/include" -DNDEBUG -I"/Library/Frameworks/R.framework/Versions/3.5/Resources/library/Rcpp/include" -I"/Library/Frameworks/R.framework/Versions/3.5/Resources/library/BH/include" -I/usr/local/include -fPIC -Wall -g -O2 -c sortBytes.cpp -o sortBytes.o clang++ -std=gnu++11 -I"/Library/Frameworks/R.framework/Resources/include" -DNDEBUG -I"/Library/Frameworks/R.framework/Versions/3.5/Resources/library/Rcpp/include" -I"/Library/Frameworks/R.framework/Versions/3.5/Resources/library/BH/include" -I/usr/local/include -fPIC -Wall -g -O2 -c uint2double.cpp -o uint2double.o clang++ -std=gnu++11 -I"/Library/Frameworks/R.framework/Resources/include" -DNDEBUG -I"/Library/Frameworks/R.framework/Versions/3.5/Resources/library/Rcpp/include" -I"/Library/Frameworks/R.framework/Versions/3.5/Resources/library/BH/include" -I/usr/local/include -fPIC -Wall -g -O2 -c zeroin.cpp -o zeroin.o clang++ -std=gnu++11 -dynamiclib -Wl,-headerpad_max_install_names -undefined dynamic_lookup -single_module -multiply_defined suppress -L/Library/Frameworks/R.framework/Resources/lib -L/usr/local/lib -o flowCore.so FastLogicle.o Hyperlog.o Logicle.o RcppExports.o biexponential.o convertRawBytes.o fcsTextParse.o hyperlogTransform.o inPolygon.o inPolytope.o logicleTransform.o pairVectorRcppWrap.o sortBytes.o uint2double.o zeroin.o -F/Library/Frameworks/R.framework/.. -framework R -Wl,-framework -Wl,CoreFoundation if [ `uname -s` = 'Darwin' ]; then install_name_tool -change /usr/local/clang4/lib/libc++.1.dylib /usr/lib/libc++.1.dylib flowCore.so; fi installing to /Library/Frameworks/R.framework/Versions/3.5/Resources/library/flowCore/libs ** R ** data ** inst ** byte-compile and prepare package for lazy loading ** help *** installing help indices ** building package indices ** installing vignettes ‘HowTo-flowCore.Rnw’ ** testing if installed package can be loaded * DONE (flowCore)
flowCore.Rcheck/tests/testthat.Rout
R version 3.5.3 (2019-03-11) -- "Great Truth"
Copyright (C) 2019 The R Foundation for Statistical Computing
Platform: x86_64-apple-darwin15.6.0 (64-bit)
R is free software and comes with ABSOLUTELY NO WARRANTY.
You are welcome to redistribute it under certain conditions.
Type 'license()' or 'licence()' for distribution details.
R is a collaborative project with many contributors.
Type 'contributors()' for more information and
'citation()' on how to cite R or R packages in publications.
Type 'demo()' for some demos, 'help()' for on-line help, or
'help.start()' for an HTML browser interface to help.
Type 'q()' to quit R.
> library(testthat)
> library(flowCore)
>
>
> test_check("flowCore")
Loading required package: BiocGenerics
Loading required package: parallel
Attaching package: 'BiocGenerics'
The following objects are masked from 'package:parallel':
clusterApply, clusterApplyLB, clusterCall, clusterEvalQ,
clusterExport, clusterMap, parApply, parCapply, parLapply,
parLapplyLB, parRapply, parSapply, parSapplyLB
The following object is masked from 'package:flowCore':
normalize
The following objects are masked from 'package:stats':
IQR, mad, sd, var, xtabs
The following objects are masked from 'package:base':
Filter, Find, Map, Position, Reduce, anyDuplicated, append,
as.data.frame, basename, cbind, colMeans, colSums, colnames,
dirname, do.call, duplicated, eval, evalq, get, grep, grepl,
intersect, is.unsorted, lapply, lengths, mapply, match, mget,
order, paste, pmax, pmax.int, pmin, pmin.int, rank, rbind,
rowMeans, rowSums, rownames, sapply, setdiff, sort, table, tapply,
union, unique, unsplit, which, which.max, which.min
Welcome to Bioconductor
Vignettes contain introductory material; view with
'browseVignettes()'. To cite Bioconductor, see
'citation("Biobase")', and for packages 'citation("pkgname")'.
orig_channel_name new_channel_name
$P5N B710-A FL1
$P9N V545-A FL1
══ testthat results ═══════════════════════════════════════════════════════════
OK: 224 SKIPPED: 0 FAILED: 0
>
> #devtools::test("˜/rglab/workspace/flowCore")
> #the FCS files are not included in package due to the size , thus only for internal testing
> #test_file("/home/wjiang2/rglab/workspace/flowCore/tests/testthat/IO-testSuite.R")
>
> proc.time()
user system elapsed
15.649 1.465 17.261
flowCore.Rcheck/flowCore-Ex.timings
| name | user | system | elapsed | |
| EHtrans-class | 0.055 | 0.006 | 0.063 | |
| FCSTransTransform | 0.813 | 0.071 | 0.887 | |
| Subset-methods | 0.272 | 0.024 | 0.298 | |
| actionItem-class | 0.002 | 0.000 | 0.002 | |
| arcsinhTransform | 0.07 | 0.01 | 0.08 | |
| asinht-class | 0.030 | 0.003 | 0.033 | |
| asinhtGml2-class | 0.032 | 0.007 | 0.039 | |
| biexponentialTransform | 3.623 | 0.141 | 3.821 | |
| boundaryFilter-class | 0.092 | 0.003 | 0.095 | |
| characterOrTransformation-class | 0.001 | 0.000 | 0.002 | |
| coerce | 0.058 | 0.005 | 0.063 | |
| compensateActionItem-class | 0.001 | 0.001 | 0.001 | |
| compensateView-class | 0.000 | 0.000 | 0.001 | |
| compensatedParameter-class | 0.163 | 0.014 | 0.180 | |
| compensation-class | 0.357 | 0.029 | 0.386 | |
| decompensate | 0.068 | 0.009 | 0.077 | |
| dg1polynomial-class | 0.039 | 0.007 | 0.047 | |
| each_col-methods | 0.028 | 0.001 | 0.029 | |
| ellipsoidGate | 0.070 | 0.003 | 0.073 | |
| exponential-class | 0.027 | 0.002 | 0.029 | |
| expressionFilter-class | 0.106 | 0.007 | 0.114 | |
| fcReference-class | 0.001 | 0.001 | 0.001 | |
| filter-methods | 0.944 | 0.076 | 1.024 | |
| filter-on-methods | 0.126 | 0.005 | 0.132 | |
| filterList-class | 0.007 | 0.001 | 0.007 | |
| filterResult-class | 0.001 | 0.000 | 0.001 | |
| filterResultList-class | 0.000 | 0.000 | 0.001 | |
| filterSummary-class | 0.001 | 0.000 | 0.000 | |
| filterSummaryList-class | 0.000 | 0.000 | 0.001 | |
| flowFrame-class | 2.743 | 0.165 | 2.921 | |
| flowSet-class | 2.252 | 0.112 | 2.380 | |
| fr_append_cols | 0.664 | 0.068 | 0.737 | |
| fsApply | 0.122 | 0.012 | 0.135 | |
| gateActionItem-class | 0.001 | 0.001 | 0.002 | |
| gateView-class | 0.001 | 0.000 | 0.001 | |
| getIndexSort-methods | 0.029 | 0.002 | 0.033 | |
| hyperlog-class | 1.351 | 0.034 | 1.397 | |
| hyperlogtGml2-class | 0.034 | 0.001 | 0.035 | |
| identifier-methods | 0.026 | 0.001 | 0.028 | |
| inverseLogicleTransform | 0.695 | 0.054 | 0.754 | |
| invsplitscale-class | 0.029 | 0.002 | 0.031 | |
| keyword-methods | 0.673 | 0.047 | 0.723 | |
| kmeansFilter | 0.202 | 0.004 | 0.206 | |
| linearTransform | 0.041 | 0.003 | 0.044 | |
| lintGml2-class | 0.034 | 0.002 | 0.036 | |
| lnTransform | 1.160 | 0.086 | 1.249 | |
| logTransform | 0.030 | 0.002 | 0.033 | |
| logarithm-class | 0.022 | 0.002 | 0.024 | |
| logicalFilterResult-class | 0.001 | 0.001 | 0.000 | |
| logicleTransform | 0.715 | 0.067 | 0.788 | |
| logicletGml2-class | 0.045 | 0.001 | 0.045 | |
| logtGml2-class | 0.025 | 0.002 | 0.026 | |
| manyFilterResult-class | 0.000 | 0.000 | 0.001 | |
| markernames | 0.676 | 0.071 | 0.749 | |
| multipleFilterResult-class | 0.001 | 0.001 | 0.001 | |
| norm2Filter-class | 0.166 | 0.005 | 0.172 | |
| normalizeActionItem-class | 0.001 | 0.000 | 0.001 | |
| normalizeView-class | 0.001 | 0.000 | 0.001 | |
| parameters-methods | 0.031 | 0.003 | 0.033 | |
| polygonGate | 0.062 | 0.004 | 0.068 | |
| quadGate | 0.195 | 0.014 | 0.210 | |
| quadratic-class | 0.030 | 0.001 | 0.032 | |
| quadraticTransform | 0.042 | 0.003 | 0.044 | |
| ratio-class | 0.038 | 0.002 | 0.041 | |
| ratiotGml2-class | 0.027 | 0.002 | 0.028 | |
| read.FCS | 0.087 | 0.005 | 0.091 | |
| read.FCSheader | 0.008 | 0.003 | 0.010 | |
| read.flowSet | 0.097 | 0.007 | 0.104 | |
| rectangleGate | 0.100 | 0.008 | 0.109 | |
| sampleFilter-class | 0.048 | 0.001 | 0.049 | |
| scaleTransform | 0.030 | 0.001 | 0.030 | |
| singleParameterTransform-class | 0.001 | 0.001 | 0.001 | |
| sinht-class | 0.030 | 0.001 | 0.032 | |
| split-methods | 1.043 | 0.083 | 1.128 | |
| splitScaleTransform | 1.223 | 0.100 | 1.328 | |
| splitscale-class | 0.025 | 0.002 | 0.026 | |
| squareroot-class | 0.028 | 0.002 | 0.029 | |
| subsettingActionItem-class | 0.001 | 0.000 | 0.001 | |
| subsettingView-class | 0.001 | 0.000 | 0.002 | |
| timeFilter-class | 1.314 | 0.086 | 1.406 | |
| transform-class | 0.002 | 0.000 | 0.002 | |
| transformActionItem-class | 0.002 | 0.001 | 0.002 | |
| transformFilter-class | 0.095 | 0.004 | 0.100 | |
| transformList-class | 0.625 | 0.062 | 0.687 | |
| transformMap-class | 0.000 | 0.000 | 0.001 | |
| transformView-class | 0.001 | 0.001 | 0.001 | |
| truncateTransform | 0.036 | 0.002 | 0.039 | |
| unitytransform-class | 0.028 | 0.002 | 0.031 | |
| view-class | 0.001 | 0.000 | 0.001 | |
| workFlow-class | 0.001 | 0.000 | 0.002 | |
| write.FCS | 0.056 | 0.007 | 0.062 | |
| write.flowSet | 0.789 | 0.066 | 0.860 | |