| Back to Multiple platform build/check report for BioC 3.8 |
|
This page was generated on 2019-04-16 11:48:16 -0400 (Tue, 16 Apr 2019).
| Package 531/1649 | Hostname | OS / Arch | INSTALL | BUILD | CHECK | BUILD BIN | ||||||
| flowCore 1.48.1 Mike Jiang
| malbec1 | Linux (Ubuntu 16.04.6 LTS) / x86_64 | OK | OK | [ OK ] | |||||||
| merida1 | OS X 10.11.6 El Capitan / x86_64 | OK | OK | OK | OK |
| Package: flowCore |
| Version: 1.48.1 |
| Command: /home/biocbuild/bbs-3.8-bioc/R/bin/R CMD check --install=check:flowCore.install-out.txt --library=/home/biocbuild/bbs-3.8-bioc/R/library --no-vignettes --timings flowCore_1.48.1.tar.gz |
| StartedAt: 2019-04-15 23:57:05 -0400 (Mon, 15 Apr 2019) |
| EndedAt: 2019-04-15 23:59:06 -0400 (Mon, 15 Apr 2019) |
| EllapsedTime: 121.0 seconds |
| RetCode: 0 |
| Status: OK |
| CheckDir: flowCore.Rcheck |
| Warnings: 0 |
##############################################################################
##############################################################################
###
### Running command:
###
### /home/biocbuild/bbs-3.8-bioc/R/bin/R CMD check --install=check:flowCore.install-out.txt --library=/home/biocbuild/bbs-3.8-bioc/R/library --no-vignettes --timings flowCore_1.48.1.tar.gz
###
##############################################################################
##############################################################################
* using log directory ‘/home/biocbuild/bbs-3.8-bioc/meat/flowCore.Rcheck’
* using R version 3.5.3 (2019-03-11)
* using platform: x86_64-pc-linux-gnu (64-bit)
* using session charset: UTF-8
* using option ‘--no-vignettes’
* checking for file ‘flowCore/DESCRIPTION’ ... OK
* this is package ‘flowCore’ version ‘1.48.1’
* checking package namespace information ... OK
* checking package dependencies ... OK
* checking if this is a source package ... OK
* checking if there is a namespace ... OK
* checking for hidden files and directories ... OK
* checking for portable file names ... OK
* checking for sufficient/correct file permissions ... OK
* checking whether package ‘flowCore’ can be installed ... OK
* checking installed package size ... NOTE
installed size is 11.4Mb
sub-directories of 1Mb or more:
R 1.3Mb
data 5.0Mb
extdata 1.1Mb
libs 3.1Mb
* checking package directory ... OK
* checking ‘build’ directory ... OK
* checking DESCRIPTION meta-information ... OK
* checking top-level files ... OK
* checking for left-over files ... OK
* checking index information ... OK
* checking package subdirectories ... OK
* checking R files for non-ASCII characters ... OK
* checking R files for syntax errors ... OK
* checking whether the package can be loaded ... OK
* checking whether the package can be loaded with stated dependencies ... OK
* checking whether the package can be unloaded cleanly ... OK
* checking whether the namespace can be loaded with stated dependencies ... OK
* checking whether the namespace can be unloaded cleanly ... OK
* checking dependencies in R code ... OK
* checking S3 generic/method consistency ... OK
* checking replacement functions ... OK
* checking foreign function calls ... OK
* checking R code for possible problems ... OK
* checking Rd files ... OK
* checking Rd metadata ... OK
* checking Rd cross-references ... OK
* checking for missing documentation entries ... OK
* checking for code/documentation mismatches ... OK
* checking Rd \usage sections ... OK
* checking Rd contents ... OK
* checking for unstated dependencies in examples ... OK
* checking contents of ‘data’ directory ... OK
* checking data for non-ASCII characters ... OK
* checking data for ASCII and uncompressed saves ... OK
* checking line endings in C/C++/Fortran sources/headers ... OK
* checking line endings in Makefiles ... OK
* checking compilation flags in Makevars ... OK
* checking for GNU extensions in Makefiles ... OK
* checking for portable use of $(BLAS_LIBS) and $(LAPACK_LIBS) ... OK
* checking compiled code ... NOTE
Note: information on .o files is not available
* checking installed files from ‘inst/doc’ ... OK
* checking files in ‘vignettes’ ... OK
* checking examples ... OK
* checking for unstated dependencies in ‘tests’ ... OK
* checking tests ...
Running ‘testthat.R’
OK
* checking for unstated dependencies in vignettes ... OK
* checking package vignettes in ‘inst/doc’ ... OK
* checking running R code from vignettes ... SKIPPED
* checking re-building of vignette outputs ... SKIPPED
* checking PDF version of manual ... OK
* DONE
Status: 2 NOTEs
See
‘/home/biocbuild/bbs-3.8-bioc/meat/flowCore.Rcheck/00check.log’
for details.
flowCore.Rcheck/00install.out
##############################################################################
##############################################################################
###
### Running command:
###
### /home/biocbuild/bbs-3.8-bioc/R/bin/R CMD INSTALL flowCore
###
##############################################################################
##############################################################################
* installing to library ‘/home/biocbuild/bbs-3.8-bioc/R/library’
* installing *source* package ‘flowCore’ ...
** libs
g++ -std=gnu++11 -I"/home/biocbuild/bbs-3.8-bioc/R/include" -DNDEBUG -I"/home/biocbuild/bbs-3.8-bioc/R/library/Rcpp/include" -I"/home/biocbuild/bbs-3.8-bioc/R/library/BH/include" -I/usr/local/include -fpic -g -O2 -Wall -c FastLogicle.cpp -o FastLogicle.o
g++ -std=gnu++11 -I"/home/biocbuild/bbs-3.8-bioc/R/include" -DNDEBUG -I"/home/biocbuild/bbs-3.8-bioc/R/library/Rcpp/include" -I"/home/biocbuild/bbs-3.8-bioc/R/library/BH/include" -I/usr/local/include -fpic -g -O2 -Wall -c Hyperlog.cpp -o Hyperlog.o
g++ -std=gnu++11 -I"/home/biocbuild/bbs-3.8-bioc/R/include" -DNDEBUG -I"/home/biocbuild/bbs-3.8-bioc/R/library/Rcpp/include" -I"/home/biocbuild/bbs-3.8-bioc/R/library/BH/include" -I/usr/local/include -fpic -g -O2 -Wall -c Logicle.cpp -o Logicle.o
g++ -std=gnu++11 -I"/home/biocbuild/bbs-3.8-bioc/R/include" -DNDEBUG -I"/home/biocbuild/bbs-3.8-bioc/R/library/Rcpp/include" -I"/home/biocbuild/bbs-3.8-bioc/R/library/BH/include" -I/usr/local/include -fpic -g -O2 -Wall -c RcppExports.cpp -o RcppExports.o
g++ -std=gnu++11 -I"/home/biocbuild/bbs-3.8-bioc/R/include" -DNDEBUG -I"/home/biocbuild/bbs-3.8-bioc/R/library/Rcpp/include" -I"/home/biocbuild/bbs-3.8-bioc/R/library/BH/include" -I/usr/local/include -fpic -g -O2 -Wall -c biexponential.cpp -o biexponential.o
g++ -std=gnu++11 -I"/home/biocbuild/bbs-3.8-bioc/R/include" -DNDEBUG -I"/home/biocbuild/bbs-3.8-bioc/R/library/Rcpp/include" -I"/home/biocbuild/bbs-3.8-bioc/R/library/BH/include" -I/usr/local/include -fpic -g -O2 -Wall -c convertRawBytes.cpp -o convertRawBytes.o
g++ -std=gnu++11 -I"/home/biocbuild/bbs-3.8-bioc/R/include" -DNDEBUG -I"/home/biocbuild/bbs-3.8-bioc/R/library/Rcpp/include" -I"/home/biocbuild/bbs-3.8-bioc/R/library/BH/include" -I/usr/local/include -fpic -g -O2 -Wall -c fcsTextParse.cpp -o fcsTextParse.o
In file included from /home/biocbuild/bbs-3.8-bioc/R/library/BH/include/boost/bind/mem_fn.hpp:25:0,
from /home/biocbuild/bbs-3.8-bioc/R/library/BH/include/boost/mem_fn.hpp:22,
from /home/biocbuild/bbs-3.8-bioc/R/library/BH/include/boost/function/detail/prologue.hpp:18,
from /home/biocbuild/bbs-3.8-bioc/R/library/BH/include/boost/function.hpp:30,
from /home/biocbuild/bbs-3.8-bioc/R/library/BH/include/boost/algorithm/string/detail/find_iterator.hpp:18,
from /home/biocbuild/bbs-3.8-bioc/R/library/BH/include/boost/algorithm/string/find_iterator.hpp:24,
from /home/biocbuild/bbs-3.8-bioc/R/library/BH/include/boost/algorithm/string/iter_find.hpp:27,
from /home/biocbuild/bbs-3.8-bioc/R/library/BH/include/boost/algorithm/string/split.hpp:16,
from /home/biocbuild/bbs-3.8-bioc/R/library/BH/include/boost/algorithm/string.hpp:23,
from fcsTextParse.cpp:8:
/home/biocbuild/bbs-3.8-bioc/R/library/BH/include/boost/get_pointer.hpp:48:40: warning: ‘template<class> class std::auto_ptr’ is deprecated [-Wdeprecated-declarations]
template<class T> T * get_pointer(std::auto_ptr<T> const& p)
^
In file included from /usr/include/c++/5/bits/locale_conv.h:41:0,
from /usr/include/c++/5/locale:43,
from /home/biocbuild/bbs-3.8-bioc/R/library/BH/include/boost/algorithm/string/classification.hpp:15,
from /home/biocbuild/bbs-3.8-bioc/R/library/BH/include/boost/algorithm/string/trim.hpp:23,
from /home/biocbuild/bbs-3.8-bioc/R/library/BH/include/boost/algorithm/string.hpp:19,
from fcsTextParse.cpp:8:
/usr/include/c++/5/bits/unique_ptr.h:49:28: note: declared here
template<typename> class auto_ptr;
^
g++ -std=gnu++11 -I"/home/biocbuild/bbs-3.8-bioc/R/include" -DNDEBUG -I"/home/biocbuild/bbs-3.8-bioc/R/library/Rcpp/include" -I"/home/biocbuild/bbs-3.8-bioc/R/library/BH/include" -I/usr/local/include -fpic -g -O2 -Wall -c hyperlogTransform.cpp -o hyperlogTransform.o
g++ -std=gnu++11 -I"/home/biocbuild/bbs-3.8-bioc/R/include" -DNDEBUG -I"/home/biocbuild/bbs-3.8-bioc/R/library/Rcpp/include" -I"/home/biocbuild/bbs-3.8-bioc/R/library/BH/include" -I/usr/local/include -fpic -g -O2 -Wall -c inPolygon.cpp -o inPolygon.o
g++ -std=gnu++11 -I"/home/biocbuild/bbs-3.8-bioc/R/include" -DNDEBUG -I"/home/biocbuild/bbs-3.8-bioc/R/library/Rcpp/include" -I"/home/biocbuild/bbs-3.8-bioc/R/library/BH/include" -I/usr/local/include -fpic -g -O2 -Wall -c inPolytope.cpp -o inPolytope.o
g++ -std=gnu++11 -I"/home/biocbuild/bbs-3.8-bioc/R/include" -DNDEBUG -I"/home/biocbuild/bbs-3.8-bioc/R/library/Rcpp/include" -I"/home/biocbuild/bbs-3.8-bioc/R/library/BH/include" -I/usr/local/include -fpic -g -O2 -Wall -c logicleTransform.cpp -o logicleTransform.o
g++ -std=gnu++11 -I"/home/biocbuild/bbs-3.8-bioc/R/include" -DNDEBUG -I"/home/biocbuild/bbs-3.8-bioc/R/library/Rcpp/include" -I"/home/biocbuild/bbs-3.8-bioc/R/library/BH/include" -I/usr/local/include -fpic -g -O2 -Wall -c pairVectorRcppWrap.cpp -o pairVectorRcppWrap.o
g++ -std=gnu++11 -I"/home/biocbuild/bbs-3.8-bioc/R/include" -DNDEBUG -I"/home/biocbuild/bbs-3.8-bioc/R/library/Rcpp/include" -I"/home/biocbuild/bbs-3.8-bioc/R/library/BH/include" -I/usr/local/include -fpic -g -O2 -Wall -c sortBytes.cpp -o sortBytes.o
g++ -std=gnu++11 -I"/home/biocbuild/bbs-3.8-bioc/R/include" -DNDEBUG -I"/home/biocbuild/bbs-3.8-bioc/R/library/Rcpp/include" -I"/home/biocbuild/bbs-3.8-bioc/R/library/BH/include" -I/usr/local/include -fpic -g -O2 -Wall -c uint2double.cpp -o uint2double.o
g++ -std=gnu++11 -I"/home/biocbuild/bbs-3.8-bioc/R/include" -DNDEBUG -I"/home/biocbuild/bbs-3.8-bioc/R/library/Rcpp/include" -I"/home/biocbuild/bbs-3.8-bioc/R/library/BH/include" -I/usr/local/include -fpic -g -O2 -Wall -c zeroin.cpp -o zeroin.o
g++ -std=gnu++11 -shared -L/home/biocbuild/bbs-3.8-bioc/R/lib -L/usr/local/lib -o flowCore.so FastLogicle.o Hyperlog.o Logicle.o RcppExports.o biexponential.o convertRawBytes.o fcsTextParse.o hyperlogTransform.o inPolygon.o inPolytope.o logicleTransform.o pairVectorRcppWrap.o sortBytes.o uint2double.o zeroin.o -L/home/biocbuild/bbs-3.8-bioc/R/lib -lR
if [ `uname -s` = 'Darwin' ]; then install_name_tool -change /usr/local/clang4/lib/libc++.1.dylib /usr/lib/libc++.1.dylib flowCore.so; fi
installing to /home/biocbuild/bbs-3.8-bioc/R/library/flowCore/libs
** R
** data
** inst
** byte-compile and prepare package for lazy loading
** help
*** installing help indices
** building package indices
** installing vignettes
‘HowTo-flowCore.Rnw’
** testing if installed package can be loaded
* DONE (flowCore)
flowCore.Rcheck/tests/testthat.Rout
R version 3.5.3 (2019-03-11) -- "Great Truth"
Copyright (C) 2019 The R Foundation for Statistical Computing
Platform: x86_64-pc-linux-gnu (64-bit)
R is free software and comes with ABSOLUTELY NO WARRANTY.
You are welcome to redistribute it under certain conditions.
Type 'license()' or 'licence()' for distribution details.
R is a collaborative project with many contributors.
Type 'contributors()' for more information and
'citation()' on how to cite R or R packages in publications.
Type 'demo()' for some demos, 'help()' for on-line help, or
'help.start()' for an HTML browser interface to help.
Type 'q()' to quit R.
> library(testthat)
> library(flowCore)
>
>
> test_check("flowCore")
Loading required package: BiocGenerics
Loading required package: parallel
Attaching package: 'BiocGenerics'
The following objects are masked from 'package:parallel':
clusterApply, clusterApplyLB, clusterCall, clusterEvalQ,
clusterExport, clusterMap, parApply, parCapply, parLapply,
parLapplyLB, parRapply, parSapply, parSapplyLB
The following object is masked from 'package:flowCore':
normalize
The following objects are masked from 'package:stats':
IQR, mad, sd, var, xtabs
The following objects are masked from 'package:base':
Filter, Find, Map, Position, Reduce, anyDuplicated, append,
as.data.frame, basename, cbind, colMeans, colSums, colnames,
dirname, do.call, duplicated, eval, evalq, get, grep, grepl,
intersect, is.unsorted, lapply, lengths, mapply, match, mget,
order, paste, pmax, pmax.int, pmin, pmin.int, rank, rbind,
rowMeans, rowSums, rownames, sapply, setdiff, sort, table, tapply,
union, unique, unsplit, which, which.max, which.min
Welcome to Bioconductor
Vignettes contain introductory material; view with
'browseVignettes()'. To cite Bioconductor, see
'citation("Biobase")', and for packages 'citation("pkgname")'.
orig_channel_name new_channel_name
$P5N B710-A FL1
$P9N V545-A FL1
══ testthat results ═══════════════════════════════════════════════════════════
OK: 224 SKIPPED: 0 FAILED: 0
>
> #devtools::test("˜/rglab/workspace/flowCore")
> #the FCS files are not included in package due to the size , thus only for internal testing
> #test_file("/home/wjiang2/rglab/workspace/flowCore/tests/testthat/IO-testSuite.R")
>
> proc.time()
user system elapsed
13.820 0.404 14.296
flowCore.Rcheck/flowCore-Ex.timings
| name | user | system | elapsed | |
| EHtrans-class | 0.064 | 0.008 | 0.089 | |
| FCSTransTransform | 0.924 | 0.032 | 0.967 | |
| Subset-methods | 0.176 | 0.008 | 0.199 | |
| actionItem-class | 0 | 0 | 0 | |
| arcsinhTransform | 0.044 | 0.000 | 0.042 | |
| asinht-class | 0.02 | 0.00 | 0.02 | |
| asinhtGml2-class | 0.016 | 0.012 | 0.027 | |
| biexponentialTransform | 3.724 | 0.072 | 3.802 | |
| boundaryFilter-class | 0.080 | 0.000 | 0.079 | |
| characterOrTransformation-class | 0.000 | 0.000 | 0.001 | |
| coerce | 0.036 | 0.004 | 0.041 | |
| compensateActionItem-class | 0.000 | 0.000 | 0.001 | |
| compensateView-class | 0.000 | 0.000 | 0.001 | |
| compensatedParameter-class | 0.160 | 0.012 | 0.219 | |
| compensation-class | 0.280 | 0.000 | 0.281 | |
| decompensate | 0.044 | 0.000 | 0.043 | |
| dg1polynomial-class | 0.024 | 0.000 | 0.023 | |
| each_col-methods | 0.024 | 0.000 | 0.023 | |
| ellipsoidGate | 0.048 | 0.000 | 0.049 | |
| exponential-class | 0.02 | 0.00 | 0.02 | |
| expressionFilter-class | 0.076 | 0.000 | 0.076 | |
| fcReference-class | 0.000 | 0.000 | 0.001 | |
| filter-methods | 0.804 | 0.016 | 0.821 | |
| filter-on-methods | 0.120 | 0.000 | 0.117 | |
| filterList-class | 0.004 | 0.000 | 0.006 | |
| filterResult-class | 0.000 | 0.000 | 0.001 | |
| filterResultList-class | 0 | 0 | 0 | |
| filterSummary-class | 0.000 | 0.000 | 0.002 | |
| filterSummaryList-class | 0.000 | 0.000 | 0.001 | |
| flowFrame-class | 3.216 | 0.064 | 3.285 | |
| flowSet-class | 2.492 | 0.028 | 2.527 | |
| fr_append_cols | 0.772 | 0.016 | 0.789 | |
| fsApply | 0.096 | 0.000 | 0.096 | |
| gateActionItem-class | 0 | 0 | 0 | |
| gateView-class | 0 | 0 | 0 | |
| getIndexSort-methods | 0.016 | 0.000 | 0.017 | |
| hyperlog-class | 0.848 | 0.000 | 0.848 | |
| hyperlogtGml2-class | 0.024 | 0.000 | 0.023 | |
| identifier-methods | 0.016 | 0.000 | 0.016 | |
| inverseLogicleTransform | 0.732 | 0.028 | 0.763 | |
| invsplitscale-class | 0.032 | 0.000 | 0.030 | |
| keyword-methods | 0.860 | 0.032 | 0.899 | |
| kmeansFilter | 0.224 | 0.000 | 0.224 | |
| linearTransform | 0.040 | 0.000 | 0.038 | |
| lintGml2-class | 0.032 | 0.000 | 0.032 | |
| lnTransform | 1.056 | 0.024 | 1.080 | |
| logTransform | 0.024 | 0.000 | 0.025 | |
| logarithm-class | 0.024 | 0.000 | 0.025 | |
| logicalFilterResult-class | 0.000 | 0.000 | 0.001 | |
| logicleTransform | 0.812 | 0.024 | 0.837 | |
| logicletGml2-class | 0.040 | 0.000 | 0.038 | |
| logtGml2-class | 0.024 | 0.000 | 0.022 | |
| manyFilterResult-class | 0 | 0 | 0 | |
| markernames | 0.544 | 0.020 | 0.563 | |
| multipleFilterResult-class | 0.000 | 0.000 | 0.001 | |
| norm2Filter-class | 0.136 | 0.000 | 0.135 | |
| normalizeActionItem-class | 0.000 | 0.000 | 0.001 | |
| normalizeView-class | 0.004 | 0.000 | 0.001 | |
| parameters-methods | 0.032 | 0.000 | 0.032 | |
| polygonGate | 0.060 | 0.000 | 0.061 | |
| quadGate | 0.132 | 0.000 | 0.132 | |
| quadratic-class | 0.016 | 0.000 | 0.019 | |
| quadraticTransform | 0.024 | 0.000 | 0.023 | |
| ratio-class | 0.024 | 0.000 | 0.022 | |
| ratiotGml2-class | 0.016 | 0.000 | 0.017 | |
| read.FCS | 0.056 | 0.004 | 0.056 | |
| read.FCSheader | 0.000 | 0.004 | 0.004 | |
| read.flowSet | 0.076 | 0.000 | 0.076 | |
| rectangleGate | 0.104 | 0.004 | 0.109 | |
| sampleFilter-class | 0.048 | 0.000 | 0.051 | |
| scaleTransform | 0.036 | 0.000 | 0.036 | |
| singleParameterTransform-class | 0.000 | 0.000 | 0.001 | |
| sinht-class | 0.028 | 0.000 | 0.026 | |
| split-methods | 1.204 | 0.036 | 1.243 | |
| splitScaleTransform | 1.428 | 0.028 | 1.459 | |
| splitscale-class | 0.016 | 0.004 | 0.019 | |
| squareroot-class | 0.016 | 0.000 | 0.018 | |
| subsettingActionItem-class | 0.000 | 0.000 | 0.001 | |
| subsettingView-class | 0.000 | 0.000 | 0.001 | |
| timeFilter-class | 1.14 | 0.02 | 1.16 | |
| transform-class | 0.000 | 0.000 | 0.001 | |
| transformActionItem-class | 0.004 | 0.000 | 0.000 | |
| transformFilter-class | 0.084 | 0.004 | 0.089 | |
| transformList-class | 0.504 | 0.028 | 0.531 | |
| transformMap-class | 0.000 | 0.000 | 0.001 | |
| transformView-class | 0.000 | 0.000 | 0.001 | |
| truncateTransform | 0.032 | 0.000 | 0.035 | |
| unitytransform-class | 0.024 | 0.000 | 0.024 | |
| view-class | 0.000 | 0.000 | 0.001 | |
| workFlow-class | 0.000 | 0.000 | 0.001 | |
| write.FCS | 0.044 | 0.004 | 0.048 | |
| write.flowSet | 0.996 | 0.028 | 1.028 | |