| Back to Multiple platform build/check report for BioC 3.8 | 
  | 
This page was generated on 2019-04-13 11:29:24 -0400 (Sat, 13 Apr 2019).
| Package 1324/1649 | Hostname | OS / Arch | INSTALL | BUILD | CHECK | BUILD BIN | ||||||
| Rmmquant 1.0.4 Zytnicki Matthias 
  | malbec1 | Linux (Ubuntu 16.04.6 LTS) / x86_64 | OK | OK | OK | |||||||
| tokay1 | Windows Server 2012 R2 Standard / x64 | OK | OK | OK | [ OK ] | |||||||
| merida1 | OS X 10.11.6 El Capitan / x86_64 | OK | OK | OK | OK | 
| Package: Rmmquant | 
| Version: 1.0.4 | 
| Command: rm -rf Rmmquant.buildbin-libdir && mkdir Rmmquant.buildbin-libdir && C:\Users\biocbuild\bbs-3.8-bioc\R\bin\R.exe CMD INSTALL --merge-multiarch --build --library=Rmmquant.buildbin-libdir Rmmquant_1.0.4.tar.gz | 
| StartedAt: 2019-04-13 07:52:48 -0400 (Sat, 13 Apr 2019) | 
| EndedAt: 2019-04-13 07:53:52 -0400 (Sat, 13 Apr 2019) | 
| EllapsedTime: 64.8 seconds | 
| RetCode: 0 | 
| Status: OK | 
| PackageFile: Rmmquant_1.0.4.zip | 
| PackageFileSize: 1003 KiB | 
##############################################################################
##############################################################################
###
### Running command:
###
###   rm -rf Rmmquant.buildbin-libdir && mkdir Rmmquant.buildbin-libdir && C:\Users\biocbuild\bbs-3.8-bioc\R\bin\R.exe CMD INSTALL --merge-multiarch --build --library=Rmmquant.buildbin-libdir Rmmquant_1.0.4.tar.gz
###
##############################################################################
##############################################################################
install for i386
* installing *source* package 'Rmmquant' ...
** libs
C:/Rtools/mingw_32/bin/g++  -std=gnu++11 -I"C:/Users/BIOCBU˜1/BBS-3˜1.8-B/R/include" -DNDEBUG  -I"C:/Users/biocbuild/bbs-3.8-bioc/R/library/Rcpp/include"   -I"C:/extsoft/include"     -O2 -Wall  -mtune=generic -c RcppExports.cpp -o RcppExports.o
C:/Rtools/mingw_32/bin/g++  -std=gnu++11 -I"C:/Users/BIOCBU˜1/BBS-3˜1.8-B/R/include" -DNDEBUG  -I"C:/Users/biocbuild/bbs-3.8-bioc/R/library/Rcpp/include"   -I"C:/extsoft/include"     -O2 -Wall  -mtune=generic -c mmquant_wrapper.cpp -o mmquant_wrapper.o
C:/Rtools/mingw_32/bin/g++ -shared -s -static-libgcc -o Rmmquant.dll tmp.def RcppExports.o mmquant_wrapper.o -lz -LC:/extsoft/lib/i386 -LC:/extsoft/lib -LC:/Users/BIOCBU˜1/BBS-3˜1.8-B/R/bin/i386 -lR
installing to C:/Users/biocbuild/bbs-3.8-bioc/meat/Rmmquant.buildbin-libdir/Rmmquant/libs/i386
** R
** inst
** byte-compile and prepare package for lazy loading
** help
*** installing help indices
  converting help for package 'Rmmquant'
    finding HTML links ... done
    Rmmquant                                html  
    RmmquantClass-class                     html  
    RmmquantClassExample                    html  
    RmmquantExample                         html  
    RmmquantRun                             html  
    counts-method                           html  
    show-RmmquantClass-method               html  
    validateRmmquant                        html  
** building package indices
** installing vignettes
** testing if installed package can be loaded
In R CMD INSTALL
install for x64
* installing *source* package 'Rmmquant' ...
** libs
C:/Rtools/mingw_64/bin/g++  -std=gnu++11 -I"C:/Users/BIOCBU˜1/BBS-3˜1.8-B/R/include" -DNDEBUG  -I"C:/Users/biocbuild/bbs-3.8-bioc/R/library/Rcpp/include"   -I"C:/extsoft/include"     -O2 -Wall  -mtune=generic -c RcppExports.cpp -o RcppExports.o
C:/Rtools/mingw_64/bin/g++  -std=gnu++11 -I"C:/Users/BIOCBU˜1/BBS-3˜1.8-B/R/include" -DNDEBUG  -I"C:/Users/biocbuild/bbs-3.8-bioc/R/library/Rcpp/include"   -I"C:/extsoft/include"     -O2 -Wall  -mtune=generic -c mmquant_wrapper.cpp -o mmquant_wrapper.o
C:/Rtools/mingw_64/bin/g++ -shared -s -static-libgcc -o Rmmquant.dll tmp.def RcppExports.o mmquant_wrapper.o -lz -LC:/extsoft/lib/x64 -LC:/extsoft/lib -LC:/Users/BIOCBU˜1/BBS-3˜1.8-B/R/bin/x64 -lR
installing to C:/Users/biocbuild/bbs-3.8-bioc/meat/Rmmquant.buildbin-libdir/Rmmquant/libs/x64
** testing if installed package can be loaded
* MD5 sums
packaged installation of 'Rmmquant' as Rmmquant_1.0.4.zip
* DONE (Rmmquant)
In R CMD INSTALL
In R CMD INSTALL